BEGIN:VCALENDAR
VERSION:2.0
PRODID:-//Visit Everglades City - ECPv6.15.20//NONSGML v1.0//EN
CALSCALE:GREGORIAN
METHOD:PUBLISH
X-ORIGINAL-URL:https://visitevergladescity.com
X-WR-CALDESC:Events for Visit Everglades City
REFRESH-INTERVAL;VALUE=DURATION:PT1H
X-Robots-Tag:noindex
X-PUBLISHED-TTL:PT1H
BEGIN:VTIMEZONE
TZID:America/New_York
BEGIN:DAYLIGHT
TZOFFSETFROM:-0500
TZOFFSETTO:-0400
TZNAME:EDT
DTSTART:20230312T070000
END:DAYLIGHT
BEGIN:STANDARD
TZOFFSETFROM:-0400
TZOFFSETTO:-0500
TZNAME:EST
DTSTART:20231105T060000
END:STANDARD
BEGIN:DAYLIGHT
TZOFFSETFROM:-0500
TZOFFSETTO:-0400
TZNAME:EDT
DTSTART:20240310T070000
END:DAYLIGHT
BEGIN:STANDARD
TZOFFSETFROM:-0400
TZOFFSETTO:-0500
TZNAME:EST
DTSTART:20241103T060000
END:STANDARD
BEGIN:DAYLIGHT
TZOFFSETFROM:-0500
TZOFFSETTO:-0400
TZNAME:EDT
DTSTART:20250309T070000
END:DAYLIGHT
BEGIN:STANDARD
TZOFFSETFROM:-0400
TZOFFSETTO:-0500
TZNAME:EST
DTSTART:20251102T060000
END:STANDARD
END:VTIMEZONE
BEGIN:VEVENT
DTSTART;TZID=America/New_York:20240411T083000
DTEND;TZID=America/New_York:20240411T100000
DTSTAMP:20260420T204315
CREATED:20240127T173101Z
LAST-MODIFIED:20240213T201332Z
UID:10001452-1712824200-1712829600@visitevergladescity.com
SUMMARY:Ladies' Coffee at Everglades Cafe
DESCRIPTION:Ladies Coffee is a casual weekly gathering for women every Thursday at different local breakfast spots or homes. No rules or fees\, just a welcoming space to connect\, forge friendships in a relaxed atmosphere.
URL:https://visitevergladescity.com/event/ladies-coffee-at-everglades-cafe-2/2024-04-11/
LOCATION:Everglades Cafe\, 207 West Broadway\, Ochopee\, 34141\, United States
CATEGORIES:Clubs
ATTACH;FMTTYPE=image/jpeg:https://visitevergladescity.com/wp-content/uploads/2023/12/Ladies-Coffee-1000x700-min.jpg
END:VEVENT
BEGIN:VEVENT
DTSTART;TZID=America/New_York:20240411T100000
DTEND;TZID=America/New_York:20240411T110000
DTSTAMP:20260420T204315
CREATED:20231128T192849Z
LAST-MODIFIED:20231212T191626Z
UID:10000419-1712829600-1712833200@visitevergladescity.com
SUMMARY:Everglades Book Club
DESCRIPTION:Meetings are open to all. We just read the book\, have wonderful discussions and make new friendships. \n\nApril 11 Last Train to Paradise by Les Stand – 10 am at the home of Patty Huff\, 207 North Storter Ave\n\nQuestions\nCall: (812) 361-7402\nDiann Lock
URL:https://visitevergladescity.com/event/everglades-book-club-april-2024/
LOCATION:FL
CATEGORIES:Clubs
ATTACH;FMTTYPE=image/webp:https://visitevergladescity.com/wp-content/uploads/2023/11/Everglades-City-Book-Club-Header-min.webp
END:VEVENT
END:VCALENDAR