BEGIN:VCALENDAR
VERSION:2.0
PRODID:-//Visit Everglades City - ECPv6.15.20//NONSGML v1.0//EN
CALSCALE:GREGORIAN
METHOD:PUBLISH
X-ORIGINAL-URL:https://visitevergladescity.com
X-WR-CALDESC:Events for Visit Everglades City
REFRESH-INTERVAL;VALUE=DURATION:PT1H
X-Robots-Tag:noindex
X-PUBLISHED-TTL:PT1H
BEGIN:VTIMEZONE
TZID:America/New_York
BEGIN:DAYLIGHT
TZOFFSETFROM:-0500
TZOFFSETTO:-0400
TZNAME:EDT
DTSTART:20240310T070000
END:DAYLIGHT
BEGIN:STANDARD
TZOFFSETFROM:-0400
TZOFFSETTO:-0500
TZNAME:EST
DTSTART:20241103T060000
END:STANDARD
BEGIN:DAYLIGHT
TZOFFSETFROM:-0500
TZOFFSETTO:-0400
TZNAME:EDT
DTSTART:20250309T070000
END:DAYLIGHT
BEGIN:STANDARD
TZOFFSETFROM:-0400
TZOFFSETTO:-0500
TZNAME:EST
DTSTART:20251102T060000
END:STANDARD
BEGIN:DAYLIGHT
TZOFFSETFROM:-0500
TZOFFSETTO:-0400
TZNAME:EDT
DTSTART:20260308T070000
END:DAYLIGHT
BEGIN:STANDARD
TZOFFSETFROM:-0400
TZOFFSETTO:-0500
TZNAME:EST
DTSTART:20261101T060000
END:STANDARD
END:VTIMEZONE
BEGIN:VEVENT
DTSTART;VALUE=DATE:20250118
DTEND;VALUE=DATE:20250119
DTSTAMP:20260425T151633
CREATED:20241121T203744Z
LAST-MODIFIED:20241121T203820Z
UID:10002994-1737158400-1737244799@visitevergladescity.com
SUMMARY:Mullet Rapper In Stand
DESCRIPTION:Pick up the new Mullet Rapper Issue from any one of our Newsstand locations.  Find a location at: https://visitevergladescity.com/places/tags/mullet-rapper-newsstands/
URL:https://visitevergladescity.com/event/mullet-rapper-in-stand-3/2025-01-18/
LOCATION:FL
CATEGORIES:Culture
ATTACH;FMTTYPE=image/png:https://visitevergladescity.com/wp-content/uploads/2018/04/Mullet-logo.png
END:VEVENT
BEGIN:VEVENT
DTSTART;TZID=America/New_York:20250118T150000
DTEND;TZID=America/New_York:20250118T190000
DTSTAMP:20260425T151633
CREATED:20250113T181906Z
LAST-MODIFIED:20250113T181906Z
UID:10003520-1737212400-1737226800@visitevergladescity.com
SUMMARY:HavAnnA 2nd Annual #ShuckYeah Oyster Shucking Contest
DESCRIPTION:Come join HavAnnA Cafe’s 2nd Annual Oyster Shucking Contest on January 18 at 3 pm\, where teams of 2 compete for cash prizes and SW Florida Bragging rights. \nShoot 50 oysters \nCash prizes for 1st\, 2nd & 3rd place teams.  Registration starts at 4 pm at the beer bar.  Featuring Music by Mike and Terry’s Solid Gold.
URL:https://visitevergladescity.com/event/havanna-2nd-annual-shuckyeah-oyster-shucking-contest/
LOCATION:HavAnnA Cafe\, 191 Smallwood Dr\, Chokoloskee\, FL\, 34138\, United States
CATEGORIES:Culture
ATTACH;FMTTYPE=image/webp:https://visitevergladescity.com/wp-content/uploads/2025/01/HavAnna-Oyster-Day-web.webp
END:VEVENT
END:VCALENDAR