BEGIN:VCALENDAR
VERSION:2.0
PRODID:-//Visit Everglades City - ECPv6.15.20//NONSGML v1.0//EN
CALSCALE:GREGORIAN
METHOD:PUBLISH
X-ORIGINAL-URL:https://visitevergladescity.com
X-WR-CALDESC:Events for Visit Everglades City
REFRESH-INTERVAL;VALUE=DURATION:PT1H
X-Robots-Tag:noindex
X-PUBLISHED-TTL:PT1H
BEGIN:VTIMEZONE
TZID:America/New_York
BEGIN:DAYLIGHT
TZOFFSETFROM:-0500
TZOFFSETTO:-0400
TZNAME:EDT
DTSTART:20240310T070000
END:DAYLIGHT
BEGIN:STANDARD
TZOFFSETFROM:-0400
TZOFFSETTO:-0500
TZNAME:EST
DTSTART:20241103T060000
END:STANDARD
BEGIN:DAYLIGHT
TZOFFSETFROM:-0500
TZOFFSETTO:-0400
TZNAME:EDT
DTSTART:20250309T070000
END:DAYLIGHT
BEGIN:STANDARD
TZOFFSETFROM:-0400
TZOFFSETTO:-0500
TZNAME:EST
DTSTART:20251102T060000
END:STANDARD
BEGIN:DAYLIGHT
TZOFFSETFROM:-0500
TZOFFSETTO:-0400
TZNAME:EDT
DTSTART:20260308T070000
END:DAYLIGHT
BEGIN:STANDARD
TZOFFSETFROM:-0400
TZOFFSETTO:-0500
TZNAME:EST
DTSTART:20261101T060000
END:STANDARD
END:VTIMEZONE
BEGIN:VEVENT
DTSTART;TZID=America/New_York:20250124T173000
DTEND;TZID=America/New_York:20250124T203000
DTSTAMP:20260425T151637
CREATED:20241211T210628Z
LAST-MODIFIED:20241211T210628Z
UID:10003048-1737739800-1737750600@visitevergladescity.com
SUMMARY:Movie Night Under the Stars
DESCRIPTION:Join us under the stars in the Museum of the Everglades’ parking lot to enjoy a screening of the classic film Wind Across the Everglades. Filmed on location in Everglades City back in 1957\, this historic melodrama stars Christopher Plummer in his first ever leading role as a game warden battling plume hunters in the 10\,000 Islands during the latter part of the 19th century. Also featured are folksinger Burl Ives as the villain “Cottonmouth” and legendary local gladesman Totch Brown as swamp bard “One Note.” Museum Manager Thomas Lockyear will introduce the screening with some little known facts about the film and some scenes of note to watch for. Popcorn and other refreshments will be served by Friends of Museum of the Everglades to complete the perfect movie night. Don’t forget to bring your own chairs!
URL:https://visitevergladescity.com/event/movie-night-under-the-stars/
LOCATION:Museum of the Everglades\, 105 Broadway Ave W\, Everglades City\, FL\, 34139\, United States
CATEGORIES:Culture
ATTACH;FMTTYPE=image/webp:https://visitevergladescity.com/wp-content/uploads/2024/12/1.24-Movie-Night-web.webp
END:VEVENT
END:VCALENDAR