BEGIN:VCALENDAR
VERSION:2.0
PRODID:-//Visit Everglades City - ECPv6.15.20//NONSGML v1.0//EN
CALSCALE:GREGORIAN
METHOD:PUBLISH
X-ORIGINAL-URL:https://visitevergladescity.com
X-WR-CALDESC:Events for Visit Everglades City
REFRESH-INTERVAL;VALUE=DURATION:PT1H
X-Robots-Tag:noindex
X-PUBLISHED-TTL:PT1H
BEGIN:VTIMEZONE
TZID:America/New_York
BEGIN:DAYLIGHT
TZOFFSETFROM:-0500
TZOFFSETTO:-0400
TZNAME:EDT
DTSTART:20240310T070000
END:DAYLIGHT
BEGIN:STANDARD
TZOFFSETFROM:-0400
TZOFFSETTO:-0500
TZNAME:EST
DTSTART:20241103T060000
END:STANDARD
BEGIN:DAYLIGHT
TZOFFSETFROM:-0500
TZOFFSETTO:-0400
TZNAME:EDT
DTSTART:20250309T070000
END:DAYLIGHT
BEGIN:STANDARD
TZOFFSETFROM:-0400
TZOFFSETTO:-0500
TZNAME:EST
DTSTART:20251102T060000
END:STANDARD
BEGIN:DAYLIGHT
TZOFFSETFROM:-0500
TZOFFSETTO:-0400
TZNAME:EDT
DTSTART:20260308T070000
END:DAYLIGHT
BEGIN:STANDARD
TZOFFSETFROM:-0400
TZOFFSETTO:-0500
TZNAME:EST
DTSTART:20261101T060000
END:STANDARD
END:VTIMEZONE
BEGIN:VEVENT
DTSTART;VALUE=DATE:20250201
DTEND;VALUE=DATE:20250202
DTSTAMP:20260425T151639
CREATED:20241121T203744Z
LAST-MODIFIED:20241121T203820Z
UID:10002995-1738368000-1738454399@visitevergladescity.com
SUMMARY:Mullet Rapper In Stand
DESCRIPTION:Pick up the new Mullet Rapper Issue from any one of our Newsstand locations.  Find a location at: https://visitevergladescity.com/places/tags/mullet-rapper-newsstands/
URL:https://visitevergladescity.com/event/mullet-rapper-in-stand-3/2025-02-01/
LOCATION:FL
CATEGORIES:Culture
ATTACH;FMTTYPE=image/png:https://visitevergladescity.com/wp-content/uploads/2018/04/Mullet-logo.png
END:VEVENT
BEGIN:VEVENT
DTSTART;TZID=America/New_York:20250201T080000
DTEND;TZID=America/New_York:20250201T110000
DTSTAMP:20260425T151639
CREATED:20250127T163655Z
LAST-MODIFIED:20250127T163655Z
UID:10003584-1738396800-1738407600@visitevergladescity.com
SUMMARY:GCA Pancake Breakfast
DESCRIPTION:Join us in Goodland for the first pancake breakfast of the season! Enjoy ALL YOU CAN EAT delicious pancakes\, sausage\, coffee and orange juice served up by some of the sweetest Goodlanders in the village! \n$8 for Adults | $3 for Children\, $1 for Eggs \nThe GCA will be offering fun raffle prizes and selling Goodland merchandise. \nGoodland Community Center 417 Mango Avenue\, Goodland.
URL:https://visitevergladescity.com/event/gca-pancake-breakfast/2025-02-01/
LOCATION:Goodland Community Center\, 417 Mango Avenue\, Goodland\, FL\, 34140\, United States
CATEGORIES:Culture
ATTACH;FMTTYPE=image/webp:https://visitevergladescity.com/wp-content/uploads/2025/01/Pancake-Breakfast-February-2025-1.webp
END:VEVENT
BEGIN:VEVENT
DTSTART;TZID=America/New_York:20250201T100000
DTEND;TZID=America/New_York:20250201T150000
DTSTAMP:20260425T151639
CREATED:20250113T182141Z
LAST-MODIFIED:20250113T182141Z
UID:10003521-1738404000-1738422000@visitevergladescity.com
SUMMARY:Clyde & Niki Butcher Meet & Greet
DESCRIPTION:Join the Butcher family at Big Cypress Gallery on Saturday\, February 1st\, from 10 am to 3 pm for an Artist “Meet and Greet” event. Clyde and Niki are excited to see everyone and recount tales of their adventures in the Everglades and beyond. Clyde’s staff will be on hand to answer questions and assist guests. This event is free and open to the public. To RSVP and get your free ticket: clydebutcher.com/event/200283/
URL:https://visitevergladescity.com/event/clyde-niki-butcher-meet-greet-2/
LOCATION:Big Cypress Gallery\, 52388 Tamiami Trail\, Ochopee\, FL\, 34141\, United States
CATEGORIES:Culture
ATTACH;FMTTYPE=image/webp:https://visitevergladescity.com/wp-content/uploads/2023/11/Big-Cypress-Gallery-Clyde-and-Niki-Butcher-min.webp
END:VEVENT
END:VCALENDAR