BEGIN:VCALENDAR
VERSION:2.0
PRODID:-//Visit Everglades City - ECPv6.15.20//NONSGML v1.0//EN
CALSCALE:GREGORIAN
METHOD:PUBLISH
X-WR-CALNAME:Visit Everglades City
X-ORIGINAL-URL:https://visitevergladescity.com
X-WR-CALDESC:Events for Visit Everglades City
REFRESH-INTERVAL;VALUE=DURATION:PT1H
X-Robots-Tag:noindex
X-PUBLISHED-TTL:PT1H
BEGIN:VTIMEZONE
TZID:America/New_York
BEGIN:DAYLIGHT
TZOFFSETFROM:-0500
TZOFFSETTO:-0400
TZNAME:EDT
DTSTART:20240310T070000
END:DAYLIGHT
BEGIN:STANDARD
TZOFFSETFROM:-0400
TZOFFSETTO:-0500
TZNAME:EST
DTSTART:20241103T060000
END:STANDARD
BEGIN:DAYLIGHT
TZOFFSETFROM:-0500
TZOFFSETTO:-0400
TZNAME:EDT
DTSTART:20250309T070000
END:DAYLIGHT
BEGIN:STANDARD
TZOFFSETFROM:-0400
TZOFFSETTO:-0500
TZNAME:EST
DTSTART:20251102T060000
END:STANDARD
BEGIN:DAYLIGHT
TZOFFSETFROM:-0500
TZOFFSETTO:-0400
TZNAME:EDT
DTSTART:20260308T070000
END:DAYLIGHT
BEGIN:STANDARD
TZOFFSETFROM:-0400
TZOFFSETTO:-0500
TZNAME:EST
DTSTART:20261101T060000
END:STANDARD
END:VTIMEZONE
BEGIN:VEVENT
DTSTART;TZID=America/New_York:20250503T120000
DTEND;TZID=America/New_York:20250503T133000
DTSTAMP:20260425T165004
CREATED:20250404T225744Z
LAST-MODIFIED:20250404T225744Z
UID:10003860-1746273600-1746279000@visitevergladescity.com
SUMMARY:Mother’s Day Luncheon
DESCRIPTION:Join us for a special Mother’s Day Luncheon at noon on Saturday\, May 3rd\, at 442 Riverside Drive in Everglades City. Enjoy delicious food and drinks while celebrating the wonderful mothers in our community. Hosted by Terri Cull and Gina Daniels. Please text Terri at (954) 648-8499 to RSVP by May 1st (Text Only Please).
URL:https://visitevergladescity.com/event/mothers-day-luncheon/
LOCATION:FL
CATEGORIES:Community
END:VEVENT
END:VCALENDAR