BEGIN:VCALENDAR
VERSION:2.0
PRODID:-//Visit Everglades City - ECPv6.15.20//NONSGML v1.0//EN
CALSCALE:GREGORIAN
METHOD:PUBLISH
X-WR-CALNAME:Visit Everglades City
X-ORIGINAL-URL:https://visitevergladescity.com
X-WR-CALDESC:Events for Visit Everglades City
REFRESH-INTERVAL;VALUE=DURATION:PT1H
X-Robots-Tag:noindex
X-PUBLISHED-TTL:PT1H
BEGIN:VTIMEZONE
TZID:America/New_York
BEGIN:DAYLIGHT
TZOFFSETFROM:-0500
TZOFFSETTO:-0400
TZNAME:EDT
DTSTART:20240310T070000
END:DAYLIGHT
BEGIN:STANDARD
TZOFFSETFROM:-0400
TZOFFSETTO:-0500
TZNAME:EST
DTSTART:20241103T060000
END:STANDARD
BEGIN:DAYLIGHT
TZOFFSETFROM:-0500
TZOFFSETTO:-0400
TZNAME:EDT
DTSTART:20250309T070000
END:DAYLIGHT
BEGIN:STANDARD
TZOFFSETFROM:-0400
TZOFFSETTO:-0500
TZNAME:EST
DTSTART:20251102T060000
END:STANDARD
BEGIN:DAYLIGHT
TZOFFSETFROM:-0500
TZOFFSETTO:-0400
TZNAME:EDT
DTSTART:20260308T070000
END:DAYLIGHT
BEGIN:STANDARD
TZOFFSETFROM:-0400
TZOFFSETTO:-0500
TZNAME:EST
DTSTART:20261101T060000
END:STANDARD
END:VTIMEZONE
BEGIN:VEVENT
DTSTART;VALUE=DATE:20250901
DTEND;VALUE=DATE:20250902
DTSTAMP:20260423T173413
CREATED:20250814T220837Z
LAST-MODIFIED:20250814T220837Z
UID:10003904-1756684800-1756771199@visitevergladescity.com
SUMMARY:CCPS No School
DESCRIPTION:Collier County Public Schools have no classes today. See the 2025-2026 school calendar for details. \nRecent & upcoming early dismissals and closures: \n\n9/1 No School: Labor Day\n9/23 No School: Teacher Professional Development Day\n10/2 No School\n10/13 No School: Teacher Plan Day\n10/31 Early Dismissal: Professional Learning for Teachers\n11/24-28 No School: Fall Break\n12/22-31 No School: Winter Break\n1/1-2 No School: Winter Break\n1/5  No School: Teacher Plan Day\n1/19 No School: Martin Luther King Day\n2/11 Early Dismissal: Professional Learning for Teachers\n2/16 No School: President’s Day\n3/6 No School: Teacher Plan Day\n3/9-13 No School: Spring Break\n3/25 Early Dismissal: Professional Learning for Teachers\n4/3 No School\n5/22 Early Dismissal: Graduation Week\n5/25 No School: Memorial Day\n5/29 Early Dismissal: Last Day for Students
URL:https://visitevergladescity.com/event/ccps-no-school-11/
LOCATION:Everglades City School\, 415 E School Dr\, Everglades City\, FL\, 34139\, United States
CATEGORIES:School
ATTACH;FMTTYPE=image/jpeg:https://visitevergladescity.com/wp-content/uploads/2024/01/VEC-CCPS-No-School-Notices-2024-2-min.jpg
END:VEVENT
END:VCALENDAR