BEGIN:VCALENDAR
VERSION:2.0
PRODID:-//Visit Everglades City - ECPv6.15.20//NONSGML v1.0//EN
CALSCALE:GREGORIAN
METHOD:PUBLISH
X-WR-CALNAME:Visit Everglades City
X-ORIGINAL-URL:https://visitevergladescity.com
X-WR-CALDESC:Events for Visit Everglades City
REFRESH-INTERVAL;VALUE=DURATION:PT1H
X-Robots-Tag:noindex
X-PUBLISHED-TTL:PT1H
BEGIN:VTIMEZONE
TZID:America/New_York
BEGIN:DAYLIGHT
TZOFFSETFROM:-0500
TZOFFSETTO:-0400
TZNAME:EDT
DTSTART:20240310T070000
END:DAYLIGHT
BEGIN:STANDARD
TZOFFSETFROM:-0400
TZOFFSETTO:-0500
TZNAME:EST
DTSTART:20241103T060000
END:STANDARD
BEGIN:DAYLIGHT
TZOFFSETFROM:-0500
TZOFFSETTO:-0400
TZNAME:EDT
DTSTART:20250309T070000
END:DAYLIGHT
BEGIN:STANDARD
TZOFFSETFROM:-0400
TZOFFSETTO:-0500
TZNAME:EST
DTSTART:20251102T060000
END:STANDARD
BEGIN:DAYLIGHT
TZOFFSETFROM:-0500
TZOFFSETTO:-0400
TZNAME:EDT
DTSTART:20260308T070000
END:DAYLIGHT
BEGIN:STANDARD
TZOFFSETFROM:-0400
TZOFFSETTO:-0500
TZNAME:EST
DTSTART:20261101T060000
END:STANDARD
END:VTIMEZONE
BEGIN:VEVENT
DTSTART;TZID=America/New_York:20250920T100000
DTEND;TZID=America/New_York:20250920T140000
DTSTAMP:20260423T173950
CREATED:20250424T174001Z
LAST-MODIFIED:20250424T174001Z
UID:10003883-1758362400-1758376800@visitevergladescity.com
SUMMARY:Annual Blessing of the Stone Crab Fleet
DESCRIPTION:Join us for the Annual 2025 Blessing of the Stone Crab Fleet at Camellia Street Grill on September 20th!\n\nWe’ll kick off the festivities at 10 am\, with the boats docking at 10:30 am. Once the boats arrive\, we’ll bless them along with our hardworking crabbers\, their families & friends.\n\nLet’s come together to support our local commercial fishermen and celebrate their hard work! Get ready for a fantastic time filled with great company\, local live music\, local vendors\, and delicious food!\n\nDon’t miss out on this wonderful community event—mark your calendars and bring your friends! See you there!
URL:https://visitevergladescity.com/event/annual-blessing-of-the-stone-crab-fleet/
LOCATION:Camellia Street Grill\, 202 Camellia St W\, Everglades City\, FL\, 34139\, United States
CATEGORIES:Community
ATTACH;FMTTYPE=image/webp:https://visitevergladescity.com/wp-content/uploads/2025/04/2025-Blessing-of-the-Stone-Crab-Fleet.webp
END:VEVENT
END:VCALENDAR