BEGIN:VCALENDAR
VERSION:2.0
PRODID:-//Visit Everglades City - ECPv6.15.20//NONSGML v1.0//EN
CALSCALE:GREGORIAN
METHOD:PUBLISH
X-WR-CALNAME:Visit Everglades City
X-ORIGINAL-URL:https://visitevergladescity.com
X-WR-CALDESC:Events for Visit Everglades City
REFRESH-INTERVAL;VALUE=DURATION:PT1H
X-Robots-Tag:noindex
X-PUBLISHED-TTL:PT1H
BEGIN:VTIMEZONE
TZID:America/New_York
BEGIN:DAYLIGHT
TZOFFSETFROM:-0500
TZOFFSETTO:-0400
TZNAME:EDT
DTSTART:20240310T070000
END:DAYLIGHT
BEGIN:STANDARD
TZOFFSETFROM:-0400
TZOFFSETTO:-0500
TZNAME:EST
DTSTART:20241103T060000
END:STANDARD
BEGIN:DAYLIGHT
TZOFFSETFROM:-0500
TZOFFSETTO:-0400
TZNAME:EDT
DTSTART:20250309T070000
END:DAYLIGHT
BEGIN:STANDARD
TZOFFSETFROM:-0400
TZOFFSETTO:-0500
TZNAME:EST
DTSTART:20251102T060000
END:STANDARD
BEGIN:DAYLIGHT
TZOFFSETFROM:-0500
TZOFFSETTO:-0400
TZNAME:EDT
DTSTART:20260308T070000
END:DAYLIGHT
BEGIN:STANDARD
TZOFFSETFROM:-0400
TZOFFSETTO:-0500
TZNAME:EST
DTSTART:20261101T060000
END:STANDARD
END:VTIMEZONE
BEGIN:VEVENT
DTSTART;VALUE=DATE:20251013
DTEND;VALUE=DATE:20251014
DTSTAMP:20260425T165003
CREATED:20250814T221113Z
LAST-MODIFIED:20250814T221113Z
UID:10003907-1760313600-1760399999@visitevergladescity.com
SUMMARY:CCPS No School
DESCRIPTION:Collier County Public Schools have no classes today. See the 2025-2026 school calendar for details. \nRecent & upcoming early dismissals and closures: \n\n10/13 No School: Teacher Plan Day\n10/31 Early Dismissal: Professional Learning for Teachers\n11/24-28 No School: Fall Break\n12/22-31 No School: Winter Break\n1/1-2 No School: Winter Break\n1/5  No School: Teacher Plan Day\n1/19 No School: Martin Luther King Day\n2/11 Early Dismissal: Professional Learning for Teachers\n2/16 No School: President’s Day\n3/6 No School: Teacher Plan Day\n3/9-13 No School: Spring Break\n3/25 Early Dismissal: Professional Learning for Teachers\n4/3 No School\n5/22 Early Dismissal: Graduation Week\n5/25 No School: Memorial Day\n5/29 Early Dismissal: Last Day for Students
URL:https://visitevergladescity.com/event/ccps-no-school-14/
LOCATION:Everglades City School\, 415 E School Dr\, Everglades City\, FL\, 34139\, United States
CATEGORIES:School
ATTACH;FMTTYPE=image/jpeg:https://visitevergladescity.com/wp-content/uploads/2024/01/VEC-CCPS-No-School-Notices-2024-2-min.jpg
END:VEVENT
BEGIN:VEVENT
DTSTART;TZID=America/New_York:20251013T110000
DTEND;TZID=America/New_York:20251013T160000
DTSTAMP:20260425T165003
CREATED:20251010T200411Z
LAST-MODIFIED:20251010T200411Z
UID:10003925-1760353200-1760371200@visitevergladescity.com
SUMMARY:Miccosukee Day/Opening Reception for Sharing the Path
DESCRIPTION:On Monday\, October 13th – the nationally celebrated holiday of Indigenous People’s Day – Museum of the Everglades will open of our new “Sharing the Path” exhibit. Normally closed on Mondays\, we saw this day as an opportunity to reinforce our commitment to sharing the history and culture of South Florida’s Native peoples.\n\nIn light of the greater Everglades community’s long history of learning from\, working together with and welcoming this region’s native residents\, it seems only fitting to celebrate those partnerships on this day.\n\nJoin us as we respectfully recognize the continuing contributions of the Miccosukee and Seminole people to the preservation of the Everglades\, acknowledge their historical presence in our region and express gratitude for the knowledge and wisdom they have shared with us. Enjoy and engage with our new exhibit and explore the possibilities for a better future offered by integrating traditional indigenous knowledge.
URL:https://visitevergladescity.com/event/miccosukee-day-opening-reception-for-sharing-the-path/
LOCATION:Museum of the Everglades\, 105 Broadway Ave W\, Everglades City\, FL\, 34139\, United States
CATEGORIES:Culture
ATTACH;FMTTYPE=image/png:https://visitevergladescity.com/wp-content/uploads/2018/05/museum-of-the-everglades.png
END:VEVENT
END:VCALENDAR