BEGIN:VCALENDAR
VERSION:2.0
PRODID:-//Visit Everglades City - ECPv6.15.20//NONSGML v1.0//EN
CALSCALE:GREGORIAN
METHOD:PUBLISH
X-WR-CALNAME:Visit Everglades City
X-ORIGINAL-URL:https://visitevergladescity.com
X-WR-CALDESC:Events for Visit Everglades City
REFRESH-INTERVAL;VALUE=DURATION:PT1H
X-Robots-Tag:noindex
X-PUBLISHED-TTL:PT1H
BEGIN:VTIMEZONE
TZID:America/New_York
BEGIN:DAYLIGHT
TZOFFSETFROM:-0500
TZOFFSETTO:-0400
TZNAME:EDT
DTSTART:20240310T070000
END:DAYLIGHT
BEGIN:STANDARD
TZOFFSETFROM:-0400
TZOFFSETTO:-0500
TZNAME:EST
DTSTART:20241103T060000
END:STANDARD
BEGIN:DAYLIGHT
TZOFFSETFROM:-0500
TZOFFSETTO:-0400
TZNAME:EDT
DTSTART:20250309T070000
END:DAYLIGHT
BEGIN:STANDARD
TZOFFSETFROM:-0400
TZOFFSETTO:-0500
TZNAME:EST
DTSTART:20251102T060000
END:STANDARD
BEGIN:DAYLIGHT
TZOFFSETFROM:-0500
TZOFFSETTO:-0400
TZNAME:EDT
DTSTART:20260308T070000
END:DAYLIGHT
BEGIN:STANDARD
TZOFFSETFROM:-0400
TZOFFSETTO:-0500
TZNAME:EST
DTSTART:20261101T060000
END:STANDARD
END:VTIMEZONE
BEGIN:VEVENT
DTSTART;TZID=America/New_York:20251016T140000
DTEND;TZID=America/New_York:20251016T150000
DTSTAMP:20260425T152609
CREATED:20251010T202817Z
LAST-MODIFIED:20251010T202818Z
UID:10000377-1760623200-1760626800@visitevergladescity.com
SUMMARY:Third Thursday Talk at the Museum of the Everglades
DESCRIPTION:The Third Thursday Talks hosted by the Museum of the Everglades are geared towards teaching and preserving the history of the area. \nOctober 16 -Pathways to Partnership: Listening\, Learning\, and Working Together\nIn this companion lecture to Sharing the Path\, Museum Manager Thomas Lockyear will explore the ways in which partnerships with our region’s indigenous people have shaped our understanding of and relationship with what has been described as “one of the harshest environments on earth” — both historically and in present day. \nMr. Lockyear will also discuss the evolution of the exhibit as well as the Museum’s 2023 collaboration with the Miccosukee Tribe on the We Are Still Here exhibit that shared their history from their own perspective. The talk will also include stories of successful historic partnerships and other lessons from the past as well as our blueprint to build better strategies for the future based on traditional indigenous knowledge. \nGet all the details at colliermuseums.com.
URL:https://visitevergladescity.com/event/third-thursday-talk-at-the-museum-of-the-everglades-3-2-2/
LOCATION:Museum of the Everglades\, 105 Broadway Ave W\, Everglades City\, FL\, 34139\, United States
CATEGORIES:Culture
ATTACH;FMTTYPE=image/png:https://visitevergladescity.com/wp-content/uploads/2023/10/Museum-of-the-Everglades-color-min.png
END:VEVENT
END:VCALENDAR