BEGIN:VCALENDAR
VERSION:2.0
PRODID:-//Visit Everglades City - ECPv6.15.20//NONSGML v1.0//EN
CALSCALE:GREGORIAN
METHOD:PUBLISH
X-ORIGINAL-URL:https://visitevergladescity.com
X-WR-CALDESC:Events for Visit Everglades City
REFRESH-INTERVAL;VALUE=DURATION:PT1H
X-Robots-Tag:noindex
X-PUBLISHED-TTL:PT1H
BEGIN:VTIMEZONE
TZID:America/New_York
BEGIN:DAYLIGHT
TZOFFSETFROM:-0500
TZOFFSETTO:-0400
TZNAME:EDT
DTSTART:20250309T070000
END:DAYLIGHT
BEGIN:STANDARD
TZOFFSETFROM:-0400
TZOFFSETTO:-0500
TZNAME:EST
DTSTART:20251102T060000
END:STANDARD
BEGIN:DAYLIGHT
TZOFFSETFROM:-0500
TZOFFSETTO:-0400
TZNAME:EDT
DTSTART:20260308T070000
END:DAYLIGHT
BEGIN:STANDARD
TZOFFSETFROM:-0400
TZOFFSETTO:-0500
TZNAME:EST
DTSTART:20261101T060000
END:STANDARD
BEGIN:DAYLIGHT
TZOFFSETFROM:-0500
TZOFFSETTO:-0400
TZNAME:EDT
DTSTART:20270314T070000
END:DAYLIGHT
BEGIN:STANDARD
TZOFFSETFROM:-0400
TZOFFSETTO:-0500
TZNAME:EST
DTSTART:20271107T060000
END:STANDARD
END:VTIMEZONE
BEGIN:VEVENT
DTSTART;TZID=America/New_York:20260203T103000
DTEND;TZID=America/New_York:20260203T133000
DTSTAMP:20260423T161845
CREATED:20251202T012909Z
LAST-MODIFIED:20260130T151759Z
UID:10004202-1770114600-1770125400@visitevergladescity.com
SUMMARY:First Tuesday – Guided Walking Tour & Lunch
DESCRIPTION:Experience Everglades City’s history up close while supporting the Historic Bank of Everglades Building Fundraising Project. This small-group tour (limited to just 12 people) includes a guided walk through key historic sites\, lunch at the iconic Rod & Gun Club\, and a bag of goodies from the Welcome Center. \nCost: $150 per personDiscount available for MembersReservations required. \nEmail: snookcity@gmail.comCall/Text: (239) 719-0020
URL:https://visitevergladescity.com/event/first-tuesday-guided-walking-tour-lunch/2026-02-03/
LOCATION:Bank of Everglades\, 201 Broadway Ave W\, Ochopee\, FL\, 34141\, United States
CATEGORIES:ECity,Fundraiser
ATTACH;FMTTYPE=image/jpeg:https://visitevergladescity.com/wp-content/uploads/2025/12/First-Tuesday-scaled.jpg
END:VEVENT
BEGIN:VEVENT
DTSTART;TZID=America/New_York:20260203T143000
DTEND;TZID=America/New_York:20260203T170000
DTSTAMP:20260423T161845
CREATED:20240812T150152Z
LAST-MODIFIED:20240812T150152Z
UID:10002284-1770129000-1770138000@visitevergladescity.com
SUMMARY:Rep. Díaz-Balart’s in EC Office
DESCRIPTION:Every first Tuesday at 2:30 pm\, a member of Congressman Mario Diaz-Balart’s team will be at Everglades City Hall to assist with federal casework\, including USPS\, social security\, veterans’ benefits\, immigration\, and other federal issues.
URL:https://visitevergladescity.com/event/rep-diaz-balarts-in-ec-office/2026-02-03/
LOCATION:Everglades City Hall\, 102 Copeland Ave N.\, Everglades City\, FL\, 34139\, United States
CATEGORIES:ECity
ATTACH;FMTTYPE=image/webp:https://visitevergladescity.com/wp-content/uploads/2024/08/Event-Header-Diaz-Balart-250-1.webp
END:VEVENT
BEGIN:VEVENT
DTSTART;TZID=America/New_York:20260203T190000
DTEND;TZID=America/New_York:20260203T200000
DTSTAMP:20260423T161845
CREATED:20231121T201909Z
LAST-MODIFIED:20231128T191436Z
UID:10000322-1770145200-1770148800@visitevergladescity.com
SUMMARY:City Council Meeting
DESCRIPTION:City Council meetings are held every 1st Tuesday of the month @ 7 PM in the City Council room\, 2nd floor City Hall.  \nThe agenda will be posted here prior to the meeting. https://www.cityofeverglades.org/public-notice\n \nThese meetings will be a Hybrid meeting with some board members present and others present by video conference / Zoom. The bottom of the agenda has instructions on how to join the meeting via Zoom. 
URL:https://visitevergladescity.com/event/city-council-meeting/2026-02-03/
LOCATION:Everglades City Hall\, 102 Copeland Ave N.\, Everglades City\, FL\, 34139\, United States
CATEGORIES:ECity
ATTACH;FMTTYPE=image/jpeg:https://visitevergladescity.com/wp-content/uploads/2023/11/Event-Header-City-Council-Meeting-Square-250-min.jpg
END:VEVENT
END:VCALENDAR