BEGIN:VCALENDAR
VERSION:2.0
PRODID:-//Visit Everglades City - ECPv6.15.20//NONSGML v1.0//EN
CALSCALE:GREGORIAN
METHOD:PUBLISH
X-WR-CALNAME:Visit Everglades City
X-ORIGINAL-URL:https://visitevergladescity.com
X-WR-CALDESC:Events for Visit Everglades City
REFRESH-INTERVAL;VALUE=DURATION:PT1H
X-Robots-Tag:noindex
X-PUBLISHED-TTL:PT1H
BEGIN:VTIMEZONE
TZID:America/New_York
BEGIN:DAYLIGHT
TZOFFSETFROM:-0500
TZOFFSETTO:-0400
TZNAME:EDT
DTSTART:20250309T070000
END:DAYLIGHT
BEGIN:STANDARD
TZOFFSETFROM:-0400
TZOFFSETTO:-0500
TZNAME:EST
DTSTART:20251102T060000
END:STANDARD
BEGIN:DAYLIGHT
TZOFFSETFROM:-0500
TZOFFSETTO:-0400
TZNAME:EDT
DTSTART:20260308T070000
END:DAYLIGHT
BEGIN:STANDARD
TZOFFSETFROM:-0400
TZOFFSETTO:-0500
TZNAME:EST
DTSTART:20261101T060000
END:STANDARD
BEGIN:DAYLIGHT
TZOFFSETFROM:-0500
TZOFFSETTO:-0400
TZNAME:EDT
DTSTART:20270314T070000
END:DAYLIGHT
BEGIN:STANDARD
TZOFFSETFROM:-0400
TZOFFSETTO:-0500
TZNAME:EST
DTSTART:20271107T060000
END:STANDARD
END:VTIMEZONE
BEGIN:VEVENT
DTSTART;TZID=America/New_York:20260213T100000
DTEND;TZID=America/New_York:20260213T140000
DTSTAMP:20260423T155337
CREATED:20250326T141036Z
LAST-MODIFIED:20251121T220332Z
UID:10003755-1770976800-1770991200@visitevergladescity.com
SUMMARY:Fresh Market
DESCRIPTION:Find farm-fresh produce on Fridays and Sundays from 10 am to 2 pm next to the Everglades City Post Office.
URL:https://visitevergladescity.com/event/fresh-market/2026-02-13/
LOCATION:Everglades City Post Office\, 601 Collier Ave\, Everglades City\, FL\, 34139\, United States
CATEGORIES:Community
ATTACH;FMTTYPE=image/jpeg:https://visitevergladescity.com/wp-content/uploads/2025/03/Farmers-Market.jpg
END:VEVENT
BEGIN:VEVENT
DTSTART;TZID=America/New_York:20260213T160000
DTEND;TZID=America/New_York:20260213T223000
DTSTAMP:20260423T155337
CREATED:20260121T020906Z
LAST-MODIFIED:20260121T024739Z
UID:10003986-1770998400-1771021800@visitevergladescity.com
SUMMARY:56th Annual Everglades Seafood Festival
DESCRIPTION:The 56th Annual Everglades Seafood Festival opens Friday evening in Everglades City\, launching the area’s premier community event\, which draws 40\,000–50\,000+ visitors over the three-day weekend. Presented by the Florida Stone Crabbers Association (FLSCA)\, festivities take place just outside Everglades City Hall at 102 Copeland Ave. North. \nFriday night sets the tone for the weekend with live music\, local performances\, seafood\, beverages\, artisan vendors\, merchandise booths\, carnival rides\, and a drone light show over Everglades City. \nFriday 02/13\n4 pm – Close \nFriday Admission\nFriday evening admission is available with a canned food donation. \nThings to Know \n\nThis is a high-attendance event with large crowds\nNo lawn chairs\, coolers\, or pets permitted\nBeverage and carnival ride tickets are cash only\nATMs available onsite\n\nFriday Entertainment Schedule\nEmcee: Charlie Pace \n\n\n4:00–4:30 pm Opening / US41 Radio / National Anthem – Maddy Benner\n4:30–4:45 pm Everglades City School Cheerleaders\n5:00–6:00 pm Aydin Holt\n6:15–7:15 pm Big Cypress Band\n7:15 pm Drone Light Show\n7:30–8:30 pm Fortunate Son (Creedence Clearwater Revival Tribute)\n9:00–10:30 pm Moonstone Riders\n\n\nMore Info: https://evergladesseafoodfestival.org/
URL:https://visitevergladescity.com/event/56th-annual-everglades-seafood-festival-friday/
LOCATION:Everglades City Hall\, 102 Copeland Ave N.\, Everglades City\, FL\, 34139\, United States
CATEGORIES:Culture,Fundraiser
ATTACH;FMTTYPE=image/webp:https://visitevergladescity.com/wp-content/uploads/2025/02/Everglades-Seafood-Festival-Photo-by-Dallas-Wauters-007.webp
ORGANIZER;CN="Florida Stone Crabbers Association":MAILTO:store@stonecrabbers.com
END:VEVENT
END:VCALENDAR