BEGIN:VCALENDAR
VERSION:2.0
PRODID:-//Visit Everglades City - ECPv6.15.20//NONSGML v1.0//EN
CALSCALE:GREGORIAN
METHOD:PUBLISH
X-ORIGINAL-URL:https://visitevergladescity.com
X-WR-CALDESC:Events for Visit Everglades City
REFRESH-INTERVAL;VALUE=DURATION:PT1H
X-Robots-Tag:noindex
X-PUBLISHED-TTL:PT1H
BEGIN:VTIMEZONE
TZID:America/New_York
BEGIN:DAYLIGHT
TZOFFSETFROM:-0500
TZOFFSETTO:-0400
TZNAME:EDT
DTSTART:20250309T070000
END:DAYLIGHT
BEGIN:STANDARD
TZOFFSETFROM:-0400
TZOFFSETTO:-0500
TZNAME:EST
DTSTART:20251102T060000
END:STANDARD
BEGIN:DAYLIGHT
TZOFFSETFROM:-0500
TZOFFSETTO:-0400
TZNAME:EDT
DTSTART:20260308T070000
END:DAYLIGHT
BEGIN:STANDARD
TZOFFSETFROM:-0400
TZOFFSETTO:-0500
TZNAME:EST
DTSTART:20261101T060000
END:STANDARD
BEGIN:DAYLIGHT
TZOFFSETFROM:-0500
TZOFFSETTO:-0400
TZNAME:EDT
DTSTART:20270314T070000
END:DAYLIGHT
BEGIN:STANDARD
TZOFFSETFROM:-0400
TZOFFSETTO:-0500
TZNAME:EST
DTSTART:20271107T060000
END:STANDARD
END:VTIMEZONE
BEGIN:VEVENT
DTSTART;TZID=America/New_York:20260228T083000
DTEND;TZID=America/New_York:20260228T153000
DTSTAMP:20260423T103931
CREATED:20260130T114152Z
LAST-MODIFIED:20260131T180446Z
UID:10004187-1772267400-1772292600@visitevergladescity.com
SUMMARY:Big Cypress Celebration
DESCRIPTION:Celebrate the natural beauty of Big Cypress National Preserve during this family-friendly day of exploration and connection. The Big Cypress Celebration brings together guided hikes\, hands-on learning\, live music\, food\, and activities for all ages — all in support of Florida’s national parks through the Alliance for Florida’s National Parks. \nMore Info:  floridanationalparks.org/event/big-cypress-celebration
URL:https://visitevergladescity.com/event/big-cypress-celebration/
LOCATION:Big Cypress National Preserve\, 33000 Tamiami Trail E.\, Ochopee\, FL\, 34141\, United States
CATEGORIES:Community,Culture,Fundraiser
ATTACH;FMTTYPE=image/webp:https://visitevergladescity.com/wp-content/uploads/2023/11/Clyde-Butchers-Swamp-Walk-Copyright-Denise-Wauters-1920-x-1150-DSC_1702-min.webp
END:VEVENT
BEGIN:VEVENT
DTSTART;TZID=America/New_York:20260228T100000
DTEND;TZID=America/New_York:20260228T170000
DTSTAMP:20260423T103931
CREATED:20251202T021518Z
LAST-MODIFIED:20260204T183342Z
UID:10003954-1772272800-1772298000@visitevergladescity.com
SUMMARY:76th Anniversary Wild Hog BBQ
DESCRIPTION:76th Annual Wild Hog BBQ Festival \nGet ready for an unforgettable adventure at the 76th Annual Wild Hog BBQ! This is not just any BBQ event\, but a celebration of our deep-rooted traditions in Ochopee\, Florida. \nMore than Just a BBQ \nThe Wild Hog BBQ is a festival of joy and togetherness. From live music performances from Jack Shealy Band and  Aj & Southern Stampede\, we have a host of entertainment options lined up for you. Soak in the vibrant atmosphere. \nA Family-Friendly Event \nThis is a family-friendly event\, with something for everyone. Children can enjoy a variety of fun and engaging activities\, while adults can sit back\, relax. So\, bring your family and friends along and make some unforgettable memories at the 76th Annual Wild Hog BBQ Festival. \nSustainability Matters \nWe believe in sustainable practices. Food and beverages will be available for purchase. We also encourage our guests to bring chairs to sit back and relax while enjoying the entertainment and small coolers are also allowed. BYOB \nWe can’t wait to celebrate with you at the 76th Annual Wild Hog BBQ Festival! \nSaturday\, February 28\, 2026 • Gates open at 10am50940 Loop Road\, Ochopee\, FL \nTickets are $25 for adults and $15 for children. \nLearn more or purchase tickets here:https://evergladesconservationsportsmanclub.com/wildhogbbq-1
URL:https://visitevergladescity.com/event/76th-anniversary-wild-hog-bbq/
LOCATION:FL
CATEGORIES:Community,Culture,Youth
ATTACH;FMTTYPE=image/jpeg:https://visitevergladescity.com/wp-content/uploads/2025/12/Wild-Hot-BBQ-2025-min-scaled.jpg
ORGANIZER;CN="Everglades Conservation & Sportsman Club":MAILTO:wildhogbbqfla@yahoo.com
END:VEVENT
BEGIN:VEVENT
DTSTART;TZID=America/New_York:20260228T160000
DTEND;TZID=America/New_York:20260228T180000
DTSTAMP:20260423T103931
CREATED:20260101T224914Z
LAST-MODIFIED:20260130T144500Z
UID:10004189-1772294400-1772301600@visitevergladescity.com
SUMMARY:Paint Along at HavAnna Café
DESCRIPTION:When: Last Wednesday of each month\nTime: 4:00 – 6:00 PM\nCost: $20 per person\nWhere: HavAnna Café \nJoin local artist Lisa Gilmore for a relaxed\, hands-on paint-along at HavAnna Café. Each session focuses on painting natural elements such as leaves\, coconuts\, shells\, and rocks. \nParticipants should bring their own natural items to paint. All other painting supplies are provided. No prior painting experience is required. \nQuestions:\nLisa Gilmore — 239-877-3998
URL:https://visitevergladescity.com/event/paint-along-at-havanna-cafe-3/2026-02-28/
LOCATION:HavAnnA Cafe\, 191 Smallwood Dr\, Chokoloskee\, FL\, 34138\, United States
CATEGORIES:Culture
ATTACH;FMTTYPE=image/png:https://visitevergladescity.com/wp-content/uploads/2026/01/Copy-of-Viva-Margarita-Marketing-Flyer-1.png
END:VEVENT
BEGIN:VEVENT
DTSTART;TZID=America/New_York:20260228T163000
DTEND;TZID=America/New_York:20260228T180000
DTSTAMP:20260423T103931
CREATED:20260219T220650Z
LAST-MODIFIED:20260219T223820Z
UID:10004540-1772296200-1772301600@visitevergladescity.com
SUMMARY:Cecil’s Famous BBQ Chicken Bash 2026
DESCRIPTION:The Everglades Lions Club is firing up the grill again for one of the community’s favorite annual dinners. \nCecil’s Famous BBQ Chicken Bash will take place on Saturday\, February 28\, 2026\, from 4:30 PM to 6:00 PM at McLeod Park in Everglades City. \nGuests will enjoy: \n\nBBQ Chicken\nBaked Beans\nColeslaw\nBrownies\n\nHosted by the Everglades Lions Club\, this early-evening dinner is a great way to support local service projects while enjoying a hearty\, classic barbecue plate. \nPre-sale tickets are required. \nFor tickets\, contact: (419) 350-6650 or (863) 557-4533 \nCome hungry — and come early.
URL:https://visitevergladescity.com/event/cecils-famous-bbq-chicken-bash-2026/
LOCATION:McLeod Park\, Copeland Ave & Hibiscus St W\,\, Everglades City\, FL\, 34141\, United States
CATEGORIES:Clubs,Community,Culture,Fundraiser
ATTACH;FMTTYPE=image/jpeg:https://visitevergladescity.com/wp-content/uploads/2026/02/Cecils-Famous-BBQ-Chicken-Bash-2026.jpg
END:VEVENT
END:VCALENDAR