BEGIN:VCALENDAR
VERSION:2.0
PRODID:-//Visit Everglades City - ECPv6.15.20//NONSGML v1.0//EN
CALSCALE:GREGORIAN
METHOD:PUBLISH
X-WR-CALNAME:Visit Everglades City
X-ORIGINAL-URL:https://visitevergladescity.com
X-WR-CALDESC:Events for Visit Everglades City
REFRESH-INTERVAL;VALUE=DURATION:PT1H
X-Robots-Tag:noindex
X-PUBLISHED-TTL:PT1H
BEGIN:VTIMEZONE
TZID:America/New_York
BEGIN:DAYLIGHT
TZOFFSETFROM:-0500
TZOFFSETTO:-0400
TZNAME:EDT
DTSTART:20220313T070000
END:DAYLIGHT
BEGIN:STANDARD
TZOFFSETFROM:-0400
TZOFFSETTO:-0500
TZNAME:EST
DTSTART:20221106T060000
END:STANDARD
BEGIN:DAYLIGHT
TZOFFSETFROM:-0500
TZOFFSETTO:-0400
TZNAME:EDT
DTSTART:20230312T070000
END:DAYLIGHT
BEGIN:STANDARD
TZOFFSETFROM:-0400
TZOFFSETTO:-0500
TZNAME:EST
DTSTART:20231105T060000
END:STANDARD
BEGIN:DAYLIGHT
TZOFFSETFROM:-0500
TZOFFSETTO:-0400
TZNAME:EDT
DTSTART:20240310T070000
END:DAYLIGHT
BEGIN:STANDARD
TZOFFSETFROM:-0400
TZOFFSETTO:-0500
TZNAME:EST
DTSTART:20241103T060000
END:STANDARD
END:VTIMEZONE
BEGIN:VEVENT
DTSTART;TZID=America/New_York:20231111T100000
DTEND;TZID=America/New_York:20231111T160000
DTSTAMP:20260421T065655
CREATED:20231024T170723Z
LAST-MODIFIED:20231031T232658Z
UID:10000148-1699696800-1699718400@visitevergladescity.com
SUMMARY:14th Annual Holiday Bazaar
DESCRIPTION:The 14th Annual Goodland Holiday Bazaar\, sponsored by the Goodland Civic Association\, 501(c)(3)\, will be held Saturday & Sunday\, November 11 & 12\, 10-4 pm. This pre-holiday celebration is held at picturesque MarGood Harbor Park; the Bazaar will feature arts\, crafts and other unique market items\, holiday music\, a bake sale and other delicious food.
URL:https://visitevergladescity.com/event/14th-annual-holiday-bazaar/
LOCATION:MarGood Harbor Park\, Pear Tree Ave\, Goodland\, FL\, 34140\, United States
CATEGORIES:Culture
ATTACH;FMTTYPE=image/jpeg:https://visitevergladescity.com/wp-content/uploads/2023/10/Holiday-Bazaar-2024-min.jpg
END:VEVENT
BEGIN:VEVENT
DTSTART;TZID=America/New_York:20231112T100000
DTEND;TZID=America/New_York:20231112T160000
DTSTAMP:20260421T065655
CREATED:20231024T174126Z
LAST-MODIFIED:20231031T232719Z
UID:10000149-1699783200-1699804800@visitevergladescity.com
SUMMARY:14th Annual Holiday Bazaar
DESCRIPTION:The 14th Annual Goodland Holiday Bazaar\, sponsored by the Goodland Civic Association\, 501(c)(3)\, will be held Saturday & Sunday\, November 11 & 12\, 10-4 pm. This pre-holiday celebration is held at picturesque MarGood Harbor Park; the Bazaar will feature arts\, crafts and other unique market items\, holiday music\, a bake sale and other delicious food.
URL:https://visitevergladescity.com/event/14th-annual-holiday-bazaar-2/
LOCATION:MarGood Harbor Park\, Pear Tree Ave\, Goodland\, FL\, 34140\, United States
CATEGORIES:Culture
ATTACH;FMTTYPE=image/jpeg:https://visitevergladescity.com/wp-content/uploads/2023/10/Holiday-Bazaar-2024-min.jpg
END:VEVENT
BEGIN:VEVENT
DTSTART;TZID=America/New_York:20231115T074500
DTEND;TZID=America/New_York:20231115T103000
DTSTAMP:20260421T065655
CREATED:20231024T182039Z
LAST-MODIFIED:20231101T134210Z
UID:10000151-1700034300-1700044200@visitevergladescity.com
SUMMARY:Bio Blitz
DESCRIPTION:Park Volunteer Coordinator\, Alex Gobel\, would like to invite all interested persons to visit the beautiful Fakahatchee Strand to participate in the 2023-24 Fakahatchee Strand Bio Blitz! The Bio Blitz takes place on a series of seven different dates. Those interested in volunteering may participate in as many\, or as few\, Blitzes as they would like. \nThe Bio Blitz is an important activity which assists the park staff with understanding the wildlife trends within the park\, and subsequently aids in the planning and management of the park. During the two-hour session\, volunteers are stationed along Janes Scenic Drive\, and record their wildlife observations. \nThis interesting opportunity occurs one Wednesday per month\, beginning November 2023\, through May 2024. Each month\, on the designated Wednesday\, volunteers meet at the Park Office at 7:45AM and then proceed to Blitz from 8:30-10:30AM. After the Bio Blitz concludes\, you are encouraged to remain and enjoy the park at your leisure. \nThe upcoming Bio Blitz series will take place on the following Wednesdays:\n• November 15th.\n• December 13th.\n• January 10th.\n• February 7th.\n• March 13th.\n• April 10th.\n• May 8th. \nMore Info:\nAlex.gobel@floridadep.gov\n(239) 961-1925
URL:https://visitevergladescity.com/event/bio-blitz/
LOCATION:Fakahatchee Strand Preserve State Park\, 137 Coast Line Dr\, Copeland\, FL\, 34137\, United States
CATEGORIES:Volunteer
ATTACH;FMTTYPE=image/jpeg:https://visitevergladescity.com/wp-content/uploads/2023/10/BioBlitz-min.jpg
END:VEVENT
BEGIN:VEVENT
DTSTART;TZID=America/New_York:20231116T100000
DTEND;TZID=America/New_York:20231116T120000
DTSTAMP:20260421T065655
CREATED:20231113T161102Z
LAST-MODIFIED:20231128T191737Z
UID:10000162-1700128800-1700136000@visitevergladescity.com
SUMMARY:Everglades Book Club
DESCRIPTION:Meetings are open to all. We just read the book\, have wonderful discussions and make new friendships. \n\nNov. 16 The Great Book of Florida by Bill O’Neill – 10 am at the home of Connie Barker\, 612 Collier\nDec. 14 Lessons in Chemistry by Bonnie Garmus – 10 am at the home of Linda Williams\, 943 Panther Creek Lane – DuPont\nJan. 18 Little Women by Louisa May Alcott – 10 am at the home of Geri Freiberger\, 300 Kumquat\nFeb. 15 The Brilliant Life of Eudora Honeysett by Annie Lyon – 10 am at the home of Sharon Nykiel\, 301 S. Copeland\, Unit 101\nMar. 21 Miss Dreamsville and the Collier County Women’s Literary Society by Amy Hill Heath – 10 am at the home of Elaine Middelstaedt\, 410 Storter Ave. South\nApril 11 Last Train to Paradise by Les Stand – 10 am at the home of Patty Huff\, 207 North Storter Ave\n\nQuestions\nCall: (812) 361-7402\nDiann Lock
URL:https://visitevergladescity.com/event/everglades-book-club/
LOCATION:FL
CATEGORIES:Clubs
ATTACH;FMTTYPE=image/webp:https://visitevergladescity.com/wp-content/uploads/2023/11/Everglades-City-Book-Club-Header-min.webp
END:VEVENT
BEGIN:VEVENT
DTSTART;TZID=America/New_York:20231116T140000
DTEND;TZID=America/New_York:20231116T150000
DTSTAMP:20260421T065655
CREATED:20231003T165416Z
LAST-MODIFIED:20231101T001423Z
UID:10000137-1700143200-1700146800@visitevergladescity.com
SUMMARY:Third Thursday Talk at the Museum of the Everglades
DESCRIPTION:The Third Thursday Talks hosted by the Museum of the Everglades are geared towards teaching and preserving the history of the area. \nGet all the details at colliermuseums.com/events.
URL:https://visitevergladescity.com/event/third-thursday-talk-at-the-museum-of-the-everglades-2/
LOCATION:Museum of the Everglades\, 105 Broadway Ave W\, Everglades City\, FL\, 34139\, United States
CATEGORIES:Culture
ATTACH;FMTTYPE=image/png:https://visitevergladescity.com/wp-content/uploads/2023/10/Museum-of-the-Everglades-color-min.png
END:VEVENT
BEGIN:VEVENT
DTSTART;TZID=America/New_York:20231117T140000
DTEND;TZID=America/New_York:20231117T153000
DTSTAMP:20260421T065655
CREATED:20231024T175310Z
LAST-MODIFIED:20231101T001856Z
UID:10000150-1700229600-1700235000@visitevergladescity.com
SUMMARY:Bank Welcome-Back Talk
DESCRIPTION:REG Architects will be giving a presentation on our Vision of the Bank Building for ESHP’s Welcome-Back Talk at 2 pm on Friday\, November 17\, at Everglades Isles. Please RSVP to Patty at (239) 719-0020 or email eshp@hotmail.com. Everyone welcome to learn more about this exciting project.
URL:https://visitevergladescity.com/event/bank-welcome-back-talk/
LOCATION:Everglades Isle\, 803 Collier Ave\, Everglades City\, FL\, 34139\, United States
CATEGORIES:Culture
END:VEVENT
BEGIN:VEVENT
DTSTART;TZID=America/New_York:20231118T100000
DTEND;TZID=America/New_York:20231118T130000
DTSTAMP:20260421T065655
CREATED:20231011T190423Z
LAST-MODIFIED:20231118T181153Z
UID:10000144-1700301600-1700312400@visitevergladescity.com
SUMMARY:Art in the Glades
DESCRIPTION:Come along to McLeod Park for a relaxing saunter around the outdoor arts & crafts fair in this remote\, rural town which was our first County seat. Well-behaved doggies are welcome. Admission is Free.
URL:https://visitevergladescity.com/event/art-in-the-glades/
LOCATION:McLeod Park\, Copeland Ave & Hibiscus St W\,\, Everglades City\, FL\, 34141\, United States
CATEGORIES:Culture
ATTACH;FMTTYPE=image/png:https://visitevergladescity.com/wp-content/uploads/2023/10/Art-NoDate-800-x-800.png
END:VEVENT
BEGIN:VEVENT
DTSTART;TZID=America/New_York:20231121T180000
DTEND;TZID=America/New_York:20231121T190000
DTSTAMP:20260421T065655
CREATED:20231121T194328Z
LAST-MODIFIED:20231128T201737Z
UID:10000295-1700589600-1700593200@visitevergladescity.com
SUMMARY:Planning & Zoning Meeting
DESCRIPTION:P&Z Board meetings are held monthly on the 3rd Tuesday of the month. City Council room\, 2nd floor City Hall. \nThese meetings will be a Hybrid meeting with some board members present and others present by video conference / Zoom.  The bottom of the agenda has instructions on how to join the meeting via Zoom.  The Agenda can be found at: https://www.cityofeverglades.org
URL:https://visitevergladescity.com/event/planning-zoning-meeting/2023-11-21/
LOCATION:Everglades City Hall\, 102 Copeland Ave N.\, Everglades City\, FL\, 34139\, United States
CATEGORIES:ECity
ATTACH;FMTTYPE=image/webp:https://visitevergladescity.com/wp-content/uploads/2023/11/Event-Header-PZ-Square-250-min.webp
END:VEVENT
BEGIN:VEVENT
DTSTART;TZID=America/New_York:20231124T100000
DTEND;TZID=America/New_York:20231124T150000
DTSTAMP:20260421T065655
CREATED:20231113T162956Z
LAST-MODIFIED:20231118T193256Z
UID:10000163-1700820000-1700838000@visitevergladescity.com
SUMMARY:Meet the Artists
DESCRIPTION:Join the Butchers at their Big Cypress Gallery ‘Meet the Artists’ Holiday event on Friday\, November 24th\, from 10 am to 3 pm.\nMeet Clyde & Niki in the gallery where they will be telling stories about their photographic adventures and will sign your cherished items. They will have great holiday gift specials\, so come prepared to get a head start on your holiday shopping! \nThe gallery staff will be on hand to assist you inside the gallery where you will learn from the knowledgeable staff about Clyde’s remarkable art. \nThis event is FREE. RSVP to let them know if you’re joining them in the morning or afternoon at ClydeButcher.com
URL:https://visitevergladescity.com/event/meet-the-artists/
LOCATION:Big Cypress Gallery\, 52388 Tamiami Trail\, Ochopee\, FL\, 34141\, United States
CATEGORIES:Culture
ATTACH;FMTTYPE=image/webp:https://visitevergladescity.com/wp-content/uploads/2023/11/Big-Cypress-Gallery-Clyde-and-Niki-Butcher-min.webp
END:VEVENT
BEGIN:VEVENT
DTSTART;TZID=America/New_York:20231125T183000
DTEND;TZID=America/New_York:20231125T200000
DTSTAMP:20260421T065655
CREATED:20231121T192737Z
LAST-MODIFIED:20240213T204204Z
UID:10000175-1700937000-1700942400@visitevergladescity.com
SUMMARY:Praise Night
DESCRIPTION:On the last Saturday of each month\, First Baptist Church of Everglades City will have a “Praise Night” with a light supper at 6:30 pm\, followed by praise music and fellowship.
URL:https://visitevergladescity.com/event/praise-night/2023-11-25/
LOCATION:First  Baptist Church of Everglades City\, 416 E School Dr\, Everglades City\, FL\, 34139\, United States
CATEGORIES:Worship
ATTACH;FMTTYPE=image/jpeg:https://visitevergladescity.com/wp-content/uploads/2023/11/First-Baptist-Church-of-Everglades-City.jpg
END:VEVENT
BEGIN:VEVENT
DTSTART;TZID=America/New_York:20231129T090000
DTEND;TZID=America/New_York:20231129T130000
DTSTAMP:20260421T065655
CREATED:20231128T200053Z
LAST-MODIFIED:20231128T200507Z
UID:10000421-1701248400-1701262800@visitevergladescity.com
SUMMARY:Healthcare Network in Everglades City
DESCRIPTION:Healthcare Network’s Health and Smiles Mobile will be in Everglades Community Church\, providing services to you and your family.  You;ll be able to meet with Dr. Rylan McQuade to have your health concerns be take care of. \nAppointments for Adults will be available from 9 am – 1 pm. \nTypes of Services Available (New and Current Patients) \n-Age-appropriate preventative screenings like fasting blood sugar and mammogram orders.Immunizations and healthy lifestyle education\n-Treatment of common chronic conditions like High Blood Pressure\, Diabetes and Thyroid Disease\n-Treatment of minor illnesses like Seasonal Allergies or Rashes \nFor more information and to schedule an appointment for primary healthcare services in Everglades City\, please call (239) 658-3000 \nHealthcare Network provides access to primary healthcare services to everyone in Collier County\, regardless of job\, insurance\, and income.  Sliding Fee Discount is based on family size and income.  Please bring proof of income.
URL:https://visitevergladescity.com/event/healthcare-network-in-everglades-city/
LOCATION:Everglades Community Church\, 101 Copeland Ave\, Everglades City\, FL\, 34139\, United States
CATEGORIES:ECity
ATTACH;FMTTYPE=image/webp:https://visitevergladescity.com/wp-content/uploads/2023/11/Health-Moblie.webp
END:VEVENT
BEGIN:VEVENT
DTSTART;TZID=America/New_York:20231129T093000
DTEND;TZID=America/New_York:20231129T120000
DTSTAMP:20260421T065655
CREATED:20231128T202313Z
LAST-MODIFIED:20231128T221317Z
UID:10000424-1701250200-1701259200@visitevergladescity.com
SUMMARY:Food Pantry
DESCRIPTION:Food is distributed from the rear of Everglades Community Church located at 101 S. Copeland Ave.\, Everglades City. “This institution is an equal opportunity provider.”
URL:https://visitevergladescity.com/event/food-pantry/2023-11-29/
LOCATION:Everglades Community Church\, 101 Copeland Ave\, Everglades City\, FL\, 34139\, United States
CATEGORIES:ECity
ATTACH;FMTTYPE=image/webp:https://visitevergladescity.com/wp-content/uploads/2023/11/Food-Pantry-in-Everglades-City.webp
END:VEVENT
BEGIN:VEVENT
DTSTART;TZID=America/New_York:20231202T100000
DTEND;TZID=America/New_York:20231202T150000
DTSTAMP:20260421T065655
CREATED:20231113T153954Z
LAST-MODIFIED:20231113T155003Z
UID:10000155-1701511200-1701529200@visitevergladescity.com
SUMMARY:2023 Swamp Heritage Festival
DESCRIPTION:A day full of music\, art\, food\, history\, culture\, and kids’ activities at the Nathaniel P. Reed Visitor Center Festival Grounds in Big Cypress National Preserve\, Ochopee\, FL.\n\nSee speakers such as the legendary Gladesmen\, Franklin Adams and historian Thomas Lockyear\, watch traditional Seminole boat carving demonstrations by Pedro Zepeda\, enjoy live music from local artists and much more for an afternoon of learning and fun! With kid’s activities\, swamp buggies\, airboats and more\, there are opportunities for the whole family to learn and get involved!\n\nThe goal of this festival is to shine a spotlight upon the inhabitants of early south Florida\, whose rugged strength and pioneering spirit contributed to the shaping of today’s unique and diverse culture. Through living history demonstrations\, informative presentations\, and exhibits everyone can learn what daily life was like in such a remote\, and at times\, inhospitable place. It is these unique chapters in American history that add to the rich and colorful tableau that comprises our shared past and present. In 2023\, we are bringing back this perfect example of collaboration and community in order to share the knowledge and cultures of the past.
URL:https://visitevergladescity.com/event/2023-swamp-heritage-festival/
LOCATION:Big Cypress National Preserve\, 33000 Tamiami Trail E.\, Ochopee\, FL\, 34141\, United States
CATEGORIES:Culture
ATTACH;FMTTYPE=image/png:https://visitevergladescity.com/wp-content/uploads/2023/11/2023-Swamp-Heritage-Flyer-min.png
END:VEVENT
BEGIN:VEVENT
DTSTART;TZID=America/New_York:20231205T190000
DTEND;TZID=America/New_York:20231205T200000
DTSTAMP:20260421T065655
CREATED:20231121T201909Z
LAST-MODIFIED:20231128T191436Z
UID:10000296-1701802800-1701806400@visitevergladescity.com
SUMMARY:City Council Meeting
DESCRIPTION:City Council meetings are held every 1st Tuesday of the month @ 7 PM in the City Council room\, 2nd floor City Hall.  \nThe agenda will be posted here prior to the meeting. https://www.cityofeverglades.org/public-notice\n \nThese meetings will be a Hybrid meeting with some board members present and others present by video conference / Zoom. The bottom of the agenda has instructions on how to join the meeting via Zoom. 
URL:https://visitevergladescity.com/event/city-council-meeting/2023-12-05/
LOCATION:Everglades City Hall\, 102 Copeland Ave N.\, Everglades City\, FL\, 34139\, United States
CATEGORIES:ECity
ATTACH;FMTTYPE=image/jpeg:https://visitevergladescity.com/wp-content/uploads/2023/11/Event-Header-City-Council-Meeting-Square-250-min.jpg
END:VEVENT
END:VCALENDAR