BEGIN:VCALENDAR
VERSION:2.0
PRODID:-//Visit Everglades City - ECPv6.15.20//NONSGML v1.0//EN
CALSCALE:GREGORIAN
METHOD:PUBLISH
X-WR-CALNAME:Visit Everglades City
X-ORIGINAL-URL:https://visitevergladescity.com
X-WR-CALDESC:Events for Visit Everglades City
REFRESH-INTERVAL;VALUE=DURATION:PT1H
X-Robots-Tag:noindex
X-PUBLISHED-TTL:PT1H
BEGIN:VTIMEZONE
TZID:America/New_York
BEGIN:DAYLIGHT
TZOFFSETFROM:-0500
TZOFFSETTO:-0400
TZNAME:EDT
DTSTART:20230312T070000
END:DAYLIGHT
BEGIN:STANDARD
TZOFFSETFROM:-0400
TZOFFSETTO:-0500
TZNAME:EST
DTSTART:20231105T060000
END:STANDARD
BEGIN:DAYLIGHT
TZOFFSETFROM:-0500
TZOFFSETTO:-0400
TZNAME:EDT
DTSTART:20240310T070000
END:DAYLIGHT
BEGIN:STANDARD
TZOFFSETFROM:-0400
TZOFFSETTO:-0500
TZNAME:EST
DTSTART:20241103T060000
END:STANDARD
BEGIN:DAYLIGHT
TZOFFSETFROM:-0500
TZOFFSETTO:-0400
TZNAME:EDT
DTSTART:20250309T070000
END:DAYLIGHT
BEGIN:STANDARD
TZOFFSETFROM:-0400
TZOFFSETTO:-0500
TZNAME:EST
DTSTART:20251102T060000
END:STANDARD
END:VTIMEZONE
BEGIN:VEVENT
DTSTART;TZID=America/New_York:20240110T093000
DTEND;TZID=America/New_York:20240110T120000
DTSTAMP:20260422T060436
CREATED:20231128T202313Z
LAST-MODIFIED:20231128T221317Z
UID:10000430-1704879000-1704888000@visitevergladescity.com
SUMMARY:Food Pantry
DESCRIPTION:Food is distributed from the rear of Everglades Community Church located at 101 S. Copeland Ave.\, Everglades City. “This institution is an equal opportunity provider.”
URL:https://visitevergladescity.com/event/food-pantry/2024-01-10/
LOCATION:Everglades Community Church\, 101 Copeland Ave\, Everglades City\, FL\, 34139\, United States
CATEGORIES:ECity
ATTACH;FMTTYPE=image/webp:https://visitevergladescity.com/wp-content/uploads/2023/11/Food-Pantry-in-Everglades-City.webp
END:VEVENT
BEGIN:VEVENT
DTSTART;TZID=America/New_York:20240110T140000
DTEND;TZID=America/New_York:20240110T150000
DTSTAMP:20260422T060436
CREATED:20231222T142801Z
LAST-MODIFIED:20240109T173114Z
UID:10001134-1704895200-1704898800@visitevergladescity.com
SUMMARY:Wilderness Wednesdays at the Museum
DESCRIPTION:Embark on a captivating journey into the heart of the Everglades with Wilderness Wednesdays\, an enriching lecture series held every Wednesday from 2 to 3 pm at the Museum of the Everglades. In collaboration with the Big Cypress National Preserve\, this seasonal program features presentations by ranger staff and esteemed partner organizations\, delving into the distinctive flora\, fauna\, and remarkable biodiversity of this unique ecosystem. \nSpanning January to April\, each week unveils a new topic presented by the National Park Service\, promising an immersive exploration of the Everglades’ natural wonders. For further details and updates on scheduled talks\, contact the Museum of the Everglades at (239) 252-5026 or visit CollierMuseums.com/events
URL:https://visitevergladescity.com/event/wilderness-wednesdays-at-the-museum/2024-01-10/
LOCATION:Museum of the Everglades\, 105 Broadway Ave W\, Everglades City\, FL\, 34139\, United States
CATEGORIES:Culture
ATTACH;FMTTYPE=image/jpeg:https://visitevergladescity.com/wp-content/uploads/2023/12/Wilderness-Wednesdays-Logo.jpg
END:VEVENT
BEGIN:VEVENT
DTSTART;TZID=America/New_York:20240111T083000
DTEND;TZID=America/New_York:20240111T100000
DTSTAMP:20260422T060436
CREATED:20240127T172935Z
LAST-MODIFIED:20240127T172935Z
UID:10001407-1704961800-1704967200@visitevergladescity.com
SUMMARY:Ladies' Coffee at Everglades Cafe
DESCRIPTION:Ladies Coffee is a casual weekly gathering for women every Thursday at different local breakfast spots or homes. No rules or fees\, just a welcoming space to connect\, forge friendships in a relaxed atmosphere.
URL:https://visitevergladescity.com/event/ladies-coffee-at-everglades-cafe/2024-01-11/
LOCATION:Everglades Cafe\, 207 West Broadway\, Ochopee\, 34141\, United States
CATEGORIES:Clubs
ATTACH;FMTTYPE=image/jpeg:https://visitevergladescity.com/wp-content/uploads/2023/12/Ladies-Coffee-1000x700-min.jpg
END:VEVENT
BEGIN:VEVENT
DTSTART;TZID=America/New_York:20240111T083000
DTEND;TZID=America/New_York:20240111T100000
DTSTAMP:20260422T060436
CREATED:20231204T203754Z
LAST-MODIFIED:20231205T152351Z
UID:10001037-1704961800-1704967200@visitevergladescity.com
SUMMARY:Ladies' Coffee at Island Cafe
DESCRIPTION:Ladies Coffee is a casual weekly gathering for women every Thursday at different local breakfast spots or homes. No rules or fees\, just a welcoming space to connect\, forge friendships in a relaxed atmosphere.
URL:https://visitevergladescity.com/event/ladies-coffee-island-cafe/2024-01-11/
LOCATION:Island Cafe\, 305 Collier Ave\, Everglades City\, FL\, 34139\, United States
CATEGORIES:Clubs
ATTACH;FMTTYPE=image/jpeg:https://visitevergladescity.com/wp-content/uploads/2023/12/Ladies-Coffee-1000x700-min.jpg
END:VEVENT
BEGIN:VEVENT
DTSTART;TZID=America/New_York:20240112T080000
DTEND;TZID=America/New_York:20240112T170000
DTSTAMP:20260422T060436
CREATED:20240112T215610Z
LAST-MODIFIED:20240112T215649Z
UID:10001158-1705046400-1705078800@visitevergladescity.com
SUMMARY:CCPS Family Night with the Everblades
DESCRIPTION:Join our #CCPSFamily for Hockey Night with the Everblades!\nWatch the Kelly Cup Champion Florida Everblades take on the New York Adirondack Thunder.\nThis event is open to CCPS staff\, students\, families\, friends\, and alumni! \n#CCPSFamily Night with the Everblades\nFriday\, February 9\, 2024\nat Hertz Arena\nGame starts at 7:30pm \n$15 per Person\n$1 of each ticket will benefit the United Way of Collier and the Keys. Regular retail for these seats is $37 per ticket. \nGET YOUR TICKETS TODAY!\nhttps://everblades.spinzo.com/collier-county-public-schools-fundraiser-and-family-fun-night-with-the-florida-everblades-2024-02-09-SARHV?group=collier-county-public-schools-njdz
URL:https://visitevergladescity.com/event/ccps-family-night-with-the-everblades/
LOCATION:Hertz Arena\, 11000 Everblades Parkway\, Estero\, FL\, 33928\, United States
CATEGORIES:Fundraiser
ATTACH;FMTTYPE=image/jpeg:https://visitevergladescity.com/wp-content/uploads/2024/01/hockey24.jpg
END:VEVENT
BEGIN:VEVENT
DTSTART;TZID=America/New_York:20240112T100000
DTEND;TZID=America/New_York:20240112T200000
DTSTAMP:20260422T060436
CREATED:20231121T173209Z
LAST-MODIFIED:20231121T173349Z
UID:10000169-1705053600-1705089600@visitevergladescity.com
SUMMARY:7th Annual Everglades Roots Festival
DESCRIPTION:Join us for the Everglades Roots Festival at Trail Lakes Campground in Ochopee\, Florida\, featuring Swampy JamGrass\, good times\, and a celebration of Gladesman culture and heritage. \nThe Everglades Roots Festival host the best of Florida Blues\,Bluegrass\,and Folk rooted music in the Heart of the Big Cypress swamp. Celebrating Everglades culture \,art\, and heritage with music\, camping\, and vendors. \nGet your tickets at https://www.evergladesrootsfestival.com/contact
URL:https://visitevergladescity.com/event/7th-annual-everglades-roots-festival-january-12-2024/
LOCATION:Trail Lakes Campground\, 40904 Tamiami Trail E\, Ochopee\, FL\, 34141\, United States
CATEGORIES:Culture
ATTACH;FMTTYPE=image/jpeg:https://visitevergladescity.com/wp-content/uploads/2023/11/7th-Annual-Everglades-Roots-Festival-min.jpg
END:VEVENT
BEGIN:VEVENT
DTSTART;TZID=America/New_York:20240113T100000
DTEND;TZID=America/New_York:20240113T130000
DTSTAMP:20260422T060436
CREATED:20240112T210531Z
LAST-MODIFIED:20240112T210835Z
UID:10001154-1705140000-1705150800@visitevergladescity.com
SUMMARY:Art in the Glades
DESCRIPTION:Saturday\, January 13: ART*in*the*GLADES \n10:00am-1:00pm\, McLeod Park\, Everglades City\, FL\, 34139 \nWelcome to Our Winter Visitors! \nArts & Crafts Sale featuring local creations and book signing \nAdmission: free \nFor info\, phone Marya at (239) 451-0265
URL:https://visitevergladescity.com/event/art-in-the-glades-1-13-2024/
LOCATION:McLeod Park\, Copeland Ave & Hibiscus St W\,\, Everglades City\, FL\, 34141\, United States
CATEGORIES:Culture
ATTACH;FMTTYPE=image/jpeg:https://visitevergladescity.com/wp-content/uploads/2023/11/Art-120818-booths-min.jpg
END:VEVENT
BEGIN:VEVENT
DTSTART;TZID=America/New_York:20240113T100000
DTEND;TZID=America/New_York:20240113T200000
DTSTAMP:20260422T060436
CREATED:20231121T173456Z
LAST-MODIFIED:20231121T173456Z
UID:10000170-1705140000-1705176000@visitevergladescity.com
SUMMARY:7th Annual Everglades Roots Festival
DESCRIPTION:Join us for the Everglades Roots Festival at Trail Lakes Campground in Ochopee\, Florida\, featuring Swampy JamGrass\, good times\, and a celebration of Gladesman culture and heritage. \nThe Everglades Roots Festival host the best of Florida Blues\,Bluegrass\,and Folk rooted music in the Heart of the Big Cypress swamp. Celebrating Everglades culture \,art\, and heritage with music\, camping\, and vendors. \nGet your tickets at https://www.evergladesrootsfestival.com/contact
URL:https://visitevergladescity.com/event/7th-annual-everglades-roots-festival-january-13-2024/
LOCATION:Trail Lakes Campground\, 40904 Tamiami Trail E\, Ochopee\, FL\, 34141\, United States
CATEGORIES:Culture
ATTACH;FMTTYPE=image/jpeg:https://visitevergladescity.com/wp-content/uploads/2023/11/7th-Annual-Everglades-Roots-Festival-min.jpg
END:VEVENT
BEGIN:VEVENT
DTSTART;TZID=America/New_York:20240114T100000
DTEND;TZID=America/New_York:20240114T200000
DTSTAMP:20260422T060436
CREATED:20231121T173655Z
LAST-MODIFIED:20231121T173655Z
UID:10000171-1705226400-1705262400@visitevergladescity.com
SUMMARY:7th Annual Everglades Roots Festival
DESCRIPTION:Join us for the Everglades Roots Festival at Trail Lakes Campground in Ochopee\, Florida\, featuring Swampy JamGrass\, good times\, and a celebration of Gladesman culture and heritage. \nThe Everglades Roots Festival host the best of Florida Blues\,Bluegrass\,and Folk rooted music in the Heart of the Big Cypress swamp. Celebrating Everglades culture \,art\, and heritage with music\, camping\, and vendors. \nGet your tickets at https://www.evergladesrootsfestival.com/contact
URL:https://visitevergladescity.com/event/7th-annual-everglades-roots-festival-january-14-2024/
LOCATION:Trail Lakes Campground\, 40904 Tamiami Trail E\, Ochopee\, FL\, 34141\, United States
CATEGORIES:Culture
ATTACH;FMTTYPE=image/jpeg:https://visitevergladescity.com/wp-content/uploads/2023/11/7th-Annual-Everglades-Roots-Festival-min.jpg
END:VEVENT
BEGIN:VEVENT
DTSTART;TZID=America/New_York:20240116T180000
DTEND;TZID=America/New_York:20240116T190000
DTSTAMP:20260422T060436
CREATED:20231121T194328Z
LAST-MODIFIED:20231128T201737Z
UID:10000236-1705428000-1705431600@visitevergladescity.com
SUMMARY:Planning & Zoning Meeting
DESCRIPTION:P&Z Board meetings are held monthly on the 3rd Tuesday of the month. City Council room\, 2nd floor City Hall. \nThese meetings will be a Hybrid meeting with some board members present and others present by video conference / Zoom.  The bottom of the agenda has instructions on how to join the meeting via Zoom.  The Agenda can be found at: https://www.cityofeverglades.org
URL:https://visitevergladescity.com/event/planning-zoning-meeting/2024-01-16/
LOCATION:Everglades City Hall\, 102 Copeland Ave N.\, Everglades City\, FL\, 34139\, United States
CATEGORIES:ECity
ATTACH;FMTTYPE=image/webp:https://visitevergladescity.com/wp-content/uploads/2023/11/Event-Header-PZ-Square-250-min.webp
END:VEVENT
BEGIN:VEVENT
DTSTART;TZID=America/New_York:20240117T093000
DTEND;TZID=America/New_York:20240117T120000
DTSTAMP:20260422T060436
CREATED:20231128T202313Z
LAST-MODIFIED:20231128T221317Z
UID:10000431-1705483800-1705492800@visitevergladescity.com
SUMMARY:Food Pantry
DESCRIPTION:Food is distributed from the rear of Everglades Community Church located at 101 S. Copeland Ave.\, Everglades City. “This institution is an equal opportunity provider.”
URL:https://visitevergladescity.com/event/food-pantry/2024-01-17/
LOCATION:Everglades Community Church\, 101 Copeland Ave\, Everglades City\, FL\, 34139\, United States
CATEGORIES:ECity
ATTACH;FMTTYPE=image/webp:https://visitevergladescity.com/wp-content/uploads/2023/11/Food-Pantry-in-Everglades-City.webp
END:VEVENT
BEGIN:VEVENT
DTSTART;TZID=America/New_York:20240117T140000
DTEND;TZID=America/New_York:20240117T150000
DTSTAMP:20260422T060436
CREATED:20231222T142801Z
LAST-MODIFIED:20240109T173114Z
UID:10001135-1705500000-1705503600@visitevergladescity.com
SUMMARY:Wilderness Wednesdays at the Museum
DESCRIPTION:Embark on a captivating journey into the heart of the Everglades with Wilderness Wednesdays\, an enriching lecture series held every Wednesday from 2 to 3 pm at the Museum of the Everglades. In collaboration with the Big Cypress National Preserve\, this seasonal program features presentations by ranger staff and esteemed partner organizations\, delving into the distinctive flora\, fauna\, and remarkable biodiversity of this unique ecosystem. \nSpanning January to April\, each week unveils a new topic presented by the National Park Service\, promising an immersive exploration of the Everglades’ natural wonders. For further details and updates on scheduled talks\, contact the Museum of the Everglades at (239) 252-5026 or visit CollierMuseums.com/events
URL:https://visitevergladescity.com/event/wilderness-wednesdays-at-the-museum/2024-01-17/
LOCATION:Museum of the Everglades\, 105 Broadway Ave W\, Everglades City\, FL\, 34139\, United States
CATEGORIES:Culture
ATTACH;FMTTYPE=image/jpeg:https://visitevergladescity.com/wp-content/uploads/2023/12/Wilderness-Wednesdays-Logo.jpg
END:VEVENT
BEGIN:VEVENT
DTSTART;TZID=America/New_York:20240118T083000
DTEND;TZID=America/New_York:20240118T100000
DTSTAMP:20260422T060436
CREATED:20231204T201724Z
LAST-MODIFIED:20231205T152542Z
UID:10000690-1705566600-1705572000@visitevergladescity.com
SUMMARY:Ladies' Coffee at City Seafood
DESCRIPTION:Ladies Coffee is a casual weekly gathering for women every Thursday at different local breakfast spots or homes. No rules or fees\, just a welcoming space to connect\, forge friendships in a relaxed atmosphere.
URL:https://visitevergladescity.com/event/ladies-coffee-city-seafood/2024-01-18/
LOCATION:City Seafood\, 702 Begonia St\, Everglades City\, 34139\, United States
CATEGORIES:Clubs
ATTACH;FMTTYPE=image/jpeg:https://visitevergladescity.com/wp-content/uploads/2023/12/Ladies-Coffee-1000x700-min.jpg
END:VEVENT
BEGIN:VEVENT
DTSTART;TZID=America/New_York:20240118T100000
DTEND;TZID=America/New_York:20240118T110000
DTSTAMP:20260422T060436
CREATED:20231128T192009Z
LAST-MODIFIED:20231212T191600Z
UID:10000416-1705572000-1705575600@visitevergladescity.com
SUMMARY:Everglades Book Club
DESCRIPTION:Meetings are open to all. We just read the book\, have wonderful discussions and make new friendships. \n\nJan. 18 Little Women by Louisa May Alcott – 10 am at the home of Geri Freiberger\, 300 Kumquat\nFeb. 15 The Brilliant Life of Eudora Honeysett by Annie Lyon – 10 am at the home of Sharon Nykiel\, 301 S. Copeland\, Unit 101\nMar. 21 Miss Dreamsville and the Collier County Women’s Literary Society by Amy Hill Heath – 10 am at the home of Elaine Middelstaedt\, 410 Storter Ave. South\nApril 11 Last Train to Paradise by Les Stand – 10 am at the home of Patty Huff\, 207 North Storter Ave\n\nQuestions\nCall: (812) 361-7402\nDiann Lock
URL:https://visitevergladescity.com/event/everglades-book-club-january-2024/
LOCATION:FL
CATEGORIES:Clubs
ATTACH;FMTTYPE=image/webp:https://visitevergladescity.com/wp-content/uploads/2023/11/Everglades-City-Book-Club-Header-min.webp
END:VEVENT
BEGIN:VEVENT
DTSTART;TZID=America/New_York:20240118T140000
DTEND;TZID=America/New_York:20240118T150000
DTSTAMP:20260422T060436
CREATED:20231204T205022Z
LAST-MODIFIED:20231204T205022Z
UID:10001123-1705586400-1705590000@visitevergladescity.com
SUMMARY:Charles C. Ebbets: the History & Mystery Behind a Pioneer in American Photography
DESCRIPTION:This companion lecture to the current “Ebbets in the Everglades” exhibit at Museum of the Everglades will provide a unique\, behind-the-scenes look at the “world famous photographer you never heard of” and his extraordinary work. Guest speaker Tami Ebbets Hahn\, Ebbets’ daughter visiting us from North Carolina\, will share personal stories about her father\, his love of Florida\, and his amazing life as the exhibit nears its close.
URL:https://visitevergladescity.com/event/charles-c-ebbets-the-history-mystery-behind-a-pioneer-in-american-photography/
LOCATION:Museum of the Everglades\, 105 Broadway Ave W\, Everglades City\, FL\, 34139\, United States
CATEGORIES:Culture
ATTACH;FMTTYPE=image/webp:https://visitevergladescity.com/wp-content/uploads/2023/11/Museum-of-the-Everglades-Visit-Everglades-City-Denise-Wauters.webp
END:VEVENT
BEGIN:VEVENT
DTSTART;TZID=America/New_York:20240119T170000
DTEND;TZID=America/New_York:20240119T190000
DTSTAMP:20260422T060436
CREATED:20231204T205452Z
LAST-MODIFIED:20231204T205452Z
UID:10001124-1705683600-1705690800@visitevergladescity.com
SUMMARY:Closing Reception for “Ebbets in the Everglades”
DESCRIPTION:Join us at Museum of the Everglades as we celebrate the success of this first ever museum exhibit dedicated solely to the photography of Charles C. Ebbets. Charlie’s daughter Tami and other members of his extended family will be present to tell stories and answer questions. Refreshments will be served courtesy of Friends of Museum of the Everglades.
URL:https://visitevergladescity.com/event/closing-reception-for-ebbets-in-the-everglades/
LOCATION:Museum of the Everglades\, 105 Broadway Ave W\, Everglades City\, FL\, 34139\, United States
CATEGORIES:Culture
ATTACH;FMTTYPE=image/png:https://visitevergladescity.com/wp-content/uploads/2023/10/Museum-of-the-Everglades-color-min.png
END:VEVENT
END:VCALENDAR