BEGIN:VCALENDAR
VERSION:2.0
PRODID:-//Visit Everglades City - ECPv6.15.20//NONSGML v1.0//EN
CALSCALE:GREGORIAN
METHOD:PUBLISH
X-WR-CALNAME:Visit Everglades City
X-ORIGINAL-URL:https://visitevergladescity.com
X-WR-CALDESC:Events for Visit Everglades City
REFRESH-INTERVAL;VALUE=DURATION:PT1H
X-Robots-Tag:noindex
X-PUBLISHED-TTL:PT1H
BEGIN:VTIMEZONE
TZID:America/New_York
BEGIN:DAYLIGHT
TZOFFSETFROM:-0500
TZOFFSETTO:-0400
TZNAME:EDT
DTSTART:20230312T070000
END:DAYLIGHT
BEGIN:STANDARD
TZOFFSETFROM:-0400
TZOFFSETTO:-0500
TZNAME:EST
DTSTART:20231105T060000
END:STANDARD
BEGIN:DAYLIGHT
TZOFFSETFROM:-0500
TZOFFSETTO:-0400
TZNAME:EDT
DTSTART:20240310T070000
END:DAYLIGHT
BEGIN:STANDARD
TZOFFSETFROM:-0400
TZOFFSETTO:-0500
TZNAME:EST
DTSTART:20241103T060000
END:STANDARD
BEGIN:DAYLIGHT
TZOFFSETFROM:-0500
TZOFFSETTO:-0400
TZNAME:EDT
DTSTART:20250309T070000
END:DAYLIGHT
BEGIN:STANDARD
TZOFFSETFROM:-0400
TZOFFSETTO:-0500
TZNAME:EST
DTSTART:20251102T060000
END:STANDARD
END:VTIMEZONE
BEGIN:VEVENT
DTSTART;TZID=America/New_York:20240126T080000
DTEND;TZID=America/New_York:20240126T170000
DTSTAMP:20260422T080931
CREATED:20240112T200419Z
LAST-MODIFIED:20240112T204753Z
UID:10001152-1706256000-1706288400@visitevergladescity.com
SUMMARY:Garage Sale in Fisherman's Cove Rec Hall
DESCRIPTION:Sale inside Rec Hall at Fisherman’s Cove\, 675 Copeland Ave. S. January 26 & 27. 8am-5pm. Lots of good stuff priced to sell!
URL:https://visitevergladescity.com/event/garage-sale-in-fishermans-cove-rec-hall/
LOCATION:Fishermans Cove\, 675 Copeland Ave. South\, Everglades City\, FL\, 34139\, United States
CATEGORIES:Culture
ATTACH;FMTTYPE=image/jpeg:https://visitevergladescity.com/wp-content/uploads/2024/01/Garage-Sale-Big-min.jpg
END:VEVENT
BEGIN:VEVENT
DTSTART;TZID=America/New_York:20240126T170000
DTEND;TZID=America/New_York:20240126T190000
DTSTAMP:20260422T080931
CREATED:20240112T234712Z
LAST-MODIFIED:20240112T234712Z
UID:10001160-1706288400-1706295600@visitevergladescity.com
SUMMARY:Pulled Pork Dinner at Everglades Community Church
DESCRIPTION:Everglades Community Church at 101 South Copeland Ave is having a Pulled Pork Dinner on January 26\, from 5-7pm. Eat in or Take out. $15 for adults and $5 for children under 10. Tickets on sale now or at the door. More Info: https://evergladescommunity.church/
URL:https://visitevergladescity.com/event/pulled-pork-dinner-at-everglades-community-church/
LOCATION:Everglades Community Church\, 101 Copeland Ave\, Everglades City\, FL\, 34139\, United States
CATEGORIES:Fundraiser
ATTACH;FMTTYPE=image/webp:https://visitevergladescity.com/wp-content/uploads/2024/01/Copy-of-DSC01675.webp
END:VEVENT
END:VCALENDAR