BEGIN:VCALENDAR
VERSION:2.0
PRODID:-//Visit Everglades City - ECPv6.15.20//NONSGML v1.0//EN
CALSCALE:GREGORIAN
METHOD:PUBLISH
X-ORIGINAL-URL:https://visitevergladescity.com
X-WR-CALDESC:Events for Visit Everglades City
REFRESH-INTERVAL;VALUE=DURATION:PT1H
X-Robots-Tag:noindex
X-PUBLISHED-TTL:PT1H
BEGIN:VTIMEZONE
TZID:America/New_York
BEGIN:DAYLIGHT
TZOFFSETFROM:-0500
TZOFFSETTO:-0400
TZNAME:EDT
DTSTART:20250309T070000
END:DAYLIGHT
BEGIN:STANDARD
TZOFFSETFROM:-0400
TZOFFSETTO:-0500
TZNAME:EST
DTSTART:20251102T060000
END:STANDARD
BEGIN:DAYLIGHT
TZOFFSETFROM:-0500
TZOFFSETTO:-0400
TZNAME:EDT
DTSTART:20260308T070000
END:DAYLIGHT
BEGIN:STANDARD
TZOFFSETFROM:-0400
TZOFFSETTO:-0500
TZNAME:EST
DTSTART:20261101T060000
END:STANDARD
BEGIN:DAYLIGHT
TZOFFSETFROM:-0500
TZOFFSETTO:-0400
TZNAME:EDT
DTSTART:20270314T070000
END:DAYLIGHT
BEGIN:STANDARD
TZOFFSETFROM:-0400
TZOFFSETTO:-0500
TZNAME:EST
DTSTART:20271107T060000
END:STANDARD
BEGIN:DAYLIGHT
TZOFFSETFROM:-0500
TZOFFSETTO:-0400
TZNAME:EDT
DTSTART:20280312T070000
END:DAYLIGHT
BEGIN:STANDARD
TZOFFSETFROM:-0400
TZOFFSETTO:-0500
TZNAME:EST
DTSTART:20281105T060000
END:STANDARD
END:VTIMEZONE
BEGIN:VEVENT
DTSTART;TZID=America/New_York:20260425T090000
DTEND;TZID=America/New_York:20260425T140000
DTSTAMP:20260422T154525
CREATED:20260131T183433Z
LAST-MODIFIED:20260403T093302Z
UID:10004205-1777107600-1777125600@visitevergladescity.com
SUMMARY:98th Anniversary of the Tamiami Trail’s Completion
DESCRIPTION:Celebrate the 98th anniversary of the completion of the Tamiami Trail with a lively\, family-friendly afternoon at the Museum of the Everglades — which is also marking its own birthday\, having opened on the Trail’s 70th anniversary in 1998. Enjoy live music\, complimentary hot dogs\, birthday cake\, classic car displays\, a guided walking tour\, and the famously fun laundry cart races — a local tradition you won’t find anywhere else. Want to do more than watch? Sign up and race.
URL:https://visitevergladescity.com/event/98th-anniversary-of-the-tamiami-trails-completion/
LOCATION:Museum of the Everglades\, 105 Broadway Ave W\, Everglades City\, FL\, 34139\, United States
CATEGORIES:Community,Culture,Youth
ATTACH;FMTTYPE=image/webp:https://visitevergladescity.com/wp-content/uploads/2024/05/42024-Museum-Birthday-Event-Photos-by-Denise-Wauters-17.webp
END:VEVENT
BEGIN:VEVENT
DTSTART;TZID=America/New_York:20260501T170000
DTEND;TZID=America/New_York:20260501T180000
DTSTAMP:20260422T154525
CREATED:20251202T012251Z
LAST-MODIFIED:20251202T012251Z
UID:10003943-1777654800-1777658400@visitevergladescity.com
SUMMARY:Rod & Gun First Friday Social
DESCRIPTION:Step inside the Historic Bar at the Rod & Gun Club for an easygoing community get-together. On December 5 and January 2 at 5pm\, locals and longtime friends gather to share stories\, swap memories\, and enjoy the kind of Old Florida atmosphere that only the Rod & Gun can offer. \nCome spend an evening “where history\, community\, and the Everglades meet.” \n 
URL:https://visitevergladescity.com/event/rod-gun-first-friday-social/2026-05-01/
LOCATION:Rod & Gun Club\, 200 Riverside Drive\, Everglades City\, FL\, 34139\, United States
CATEGORIES:Community,Culture,ECity
ATTACH;FMTTYPE=image/jpeg:https://visitevergladescity.com/wp-content/uploads/2025/12/Rod-Gun-Social-min.jpg
END:VEVENT
BEGIN:VEVENT
DTSTART;TZID=America/New_York:20260502T170000
DTEND;TZID=America/New_York:20260502T190000
DTSTAMP:20260422T154525
CREATED:20260321T190153Z
LAST-MODIFIED:20260321T190252Z
UID:10004548-1777741200-1777748400@visitevergladescity.com
SUMMARY:Mayor's Annual Fish Fry Everglades City 2026
DESCRIPTION:Everglades City’s Mayor’s Annual Fish Fry is back\, and everyone is invited. \nThe event takes place Saturday\, May 2nd at 5:00 p.m. at McLeod Park. This year’s gathering honors the sheriffs\, firefighters\, EMS personnel\, and veterans who serve and protect the community every day. \nCome out for good food and good company — and to show some appreciation for the people who are always there when it counts.
URL:https://visitevergladescity.com/event/mayors-annual-fish-fry-everglades-city-2026/
LOCATION:McLeod Park\, Copeland Ave & Hibiscus St W\,\, Everglades City\, FL\, 34141\, United States
CATEGORIES:Community,Culture,ECity
ATTACH;FMTTYPE=application/pdf:https://visitevergladescity.com/wp-content/uploads/2026/03/Mayor-Fish-Fry-2026-F.pdf
END:VEVENT
BEGIN:VEVENT
DTSTART;TZID=America/New_York:20260605T170000
DTEND;TZID=America/New_York:20260605T180000
DTSTAMP:20260422T154525
CREATED:20251202T012251Z
LAST-MODIFIED:20251202T012251Z
UID:10003944-1780678800-1780682400@visitevergladescity.com
SUMMARY:Rod & Gun First Friday Social
DESCRIPTION:Step inside the Historic Bar at the Rod & Gun Club for an easygoing community get-together. On December 5 and January 2 at 5pm\, locals and longtime friends gather to share stories\, swap memories\, and enjoy the kind of Old Florida atmosphere that only the Rod & Gun can offer. \nCome spend an evening “where history\, community\, and the Everglades meet.” \n 
URL:https://visitevergladescity.com/event/rod-gun-first-friday-social/2026-06-05/
LOCATION:Rod & Gun Club\, 200 Riverside Drive\, Everglades City\, FL\, 34139\, United States
CATEGORIES:Community,Culture,ECity
ATTACH;FMTTYPE=image/jpeg:https://visitevergladescity.com/wp-content/uploads/2025/12/Rod-Gun-Social-min.jpg
END:VEVENT
BEGIN:VEVENT
DTSTART;TZID=America/New_York:20260703T170000
DTEND;TZID=America/New_York:20260703T180000
DTSTAMP:20260422T154525
CREATED:20251202T012251Z
LAST-MODIFIED:20251202T012251Z
UID:10003945-1783098000-1783101600@visitevergladescity.com
SUMMARY:Rod & Gun First Friday Social
DESCRIPTION:Step inside the Historic Bar at the Rod & Gun Club for an easygoing community get-together. On December 5 and January 2 at 5pm\, locals and longtime friends gather to share stories\, swap memories\, and enjoy the kind of Old Florida atmosphere that only the Rod & Gun can offer. \nCome spend an evening “where history\, community\, and the Everglades meet.” \n 
URL:https://visitevergladescity.com/event/rod-gun-first-friday-social/2026-07-03/
LOCATION:Rod & Gun Club\, 200 Riverside Drive\, Everglades City\, FL\, 34139\, United States
CATEGORIES:Community,Culture,ECity
ATTACH;FMTTYPE=image/jpeg:https://visitevergladescity.com/wp-content/uploads/2025/12/Rod-Gun-Social-min.jpg
END:VEVENT
BEGIN:VEVENT
DTSTART;TZID=America/New_York:20260807T170000
DTEND;TZID=America/New_York:20260807T180000
DTSTAMP:20260422T154525
CREATED:20251202T012251Z
LAST-MODIFIED:20251202T012251Z
UID:10003946-1786122000-1786125600@visitevergladescity.com
SUMMARY:Rod & Gun First Friday Social
DESCRIPTION:Step inside the Historic Bar at the Rod & Gun Club for an easygoing community get-together. On December 5 and January 2 at 5pm\, locals and longtime friends gather to share stories\, swap memories\, and enjoy the kind of Old Florida atmosphere that only the Rod & Gun can offer. \nCome spend an evening “where history\, community\, and the Everglades meet.” \n 
URL:https://visitevergladescity.com/event/rod-gun-first-friday-social/2026-08-07/
LOCATION:Rod & Gun Club\, 200 Riverside Drive\, Everglades City\, FL\, 34139\, United States
CATEGORIES:Community,Culture,ECity
ATTACH;FMTTYPE=image/jpeg:https://visitevergladescity.com/wp-content/uploads/2025/12/Rod-Gun-Social-min.jpg
END:VEVENT
BEGIN:VEVENT
DTSTART;TZID=America/New_York:20260904T170000
DTEND;TZID=America/New_York:20260904T180000
DTSTAMP:20260422T154525
CREATED:20251202T012251Z
LAST-MODIFIED:20251202T012251Z
UID:10003947-1788541200-1788544800@visitevergladescity.com
SUMMARY:Rod & Gun First Friday Social
DESCRIPTION:Step inside the Historic Bar at the Rod & Gun Club for an easygoing community get-together. On December 5 and January 2 at 5pm\, locals and longtime friends gather to share stories\, swap memories\, and enjoy the kind of Old Florida atmosphere that only the Rod & Gun can offer. \nCome spend an evening “where history\, community\, and the Everglades meet.” \n 
URL:https://visitevergladescity.com/event/rod-gun-first-friday-social/2026-09-04/
LOCATION:Rod & Gun Club\, 200 Riverside Drive\, Everglades City\, FL\, 34139\, United States
CATEGORIES:Community,Culture,ECity
ATTACH;FMTTYPE=image/jpeg:https://visitevergladescity.com/wp-content/uploads/2025/12/Rod-Gun-Social-min.jpg
END:VEVENT
BEGIN:VEVENT
DTSTART;TZID=America/New_York:20261002T170000
DTEND;TZID=America/New_York:20261002T180000
DTSTAMP:20260422T154525
CREATED:20251202T012251Z
LAST-MODIFIED:20251202T012251Z
UID:10003948-1790960400-1790964000@visitevergladescity.com
SUMMARY:Rod & Gun First Friday Social
DESCRIPTION:Step inside the Historic Bar at the Rod & Gun Club for an easygoing community get-together. On December 5 and January 2 at 5pm\, locals and longtime friends gather to share stories\, swap memories\, and enjoy the kind of Old Florida atmosphere that only the Rod & Gun can offer. \nCome spend an evening “where history\, community\, and the Everglades meet.” \n 
URL:https://visitevergladescity.com/event/rod-gun-first-friday-social/2026-10-02/
LOCATION:Rod & Gun Club\, 200 Riverside Drive\, Everglades City\, FL\, 34139\, United States
CATEGORIES:Community,Culture,ECity
ATTACH;FMTTYPE=image/jpeg:https://visitevergladescity.com/wp-content/uploads/2025/12/Rod-Gun-Social-min.jpg
END:VEVENT
BEGIN:VEVENT
DTSTART;TZID=America/New_York:20261106T170000
DTEND;TZID=America/New_York:20261106T180000
DTSTAMP:20260422T154525
CREATED:20251202T012251Z
LAST-MODIFIED:20251202T012251Z
UID:10003949-1793984400-1793988000@visitevergladescity.com
SUMMARY:Rod & Gun First Friday Social
DESCRIPTION:Step inside the Historic Bar at the Rod & Gun Club for an easygoing community get-together. On December 5 and January 2 at 5pm\, locals and longtime friends gather to share stories\, swap memories\, and enjoy the kind of Old Florida atmosphere that only the Rod & Gun can offer. \nCome spend an evening “where history\, community\, and the Everglades meet.” \n 
URL:https://visitevergladescity.com/event/rod-gun-first-friday-social/2026-11-06/
LOCATION:Rod & Gun Club\, 200 Riverside Drive\, Everglades City\, FL\, 34139\, United States
CATEGORIES:Community,Culture,ECity
ATTACH;FMTTYPE=image/jpeg:https://visitevergladescity.com/wp-content/uploads/2025/12/Rod-Gun-Social-min.jpg
END:VEVENT
BEGIN:VEVENT
DTSTART;TZID=America/New_York:20261204T170000
DTEND;TZID=America/New_York:20261204T180000
DTSTAMP:20260422T154525
CREATED:20251202T012251Z
LAST-MODIFIED:20251202T012251Z
UID:10003950-1796403600-1796407200@visitevergladescity.com
SUMMARY:Rod & Gun First Friday Social
DESCRIPTION:Step inside the Historic Bar at the Rod & Gun Club for an easygoing community get-together. On December 5 and January 2 at 5pm\, locals and longtime friends gather to share stories\, swap memories\, and enjoy the kind of Old Florida atmosphere that only the Rod & Gun can offer. \nCome spend an evening “where history\, community\, and the Everglades meet.” \n 
URL:https://visitevergladescity.com/event/rod-gun-first-friday-social/2026-12-04/
LOCATION:Rod & Gun Club\, 200 Riverside Drive\, Everglades City\, FL\, 34139\, United States
CATEGORIES:Community,Culture,ECity
ATTACH;FMTTYPE=image/jpeg:https://visitevergladescity.com/wp-content/uploads/2025/12/Rod-Gun-Social-min.jpg
END:VEVENT
BEGIN:VEVENT
DTSTART;TZID=America/New_York:20270101T170000
DTEND;TZID=America/New_York:20270101T180000
DTSTAMP:20260422T154525
CREATED:20251202T012251Z
LAST-MODIFIED:20251202T012251Z
UID:10003951-1798822800-1798826400@visitevergladescity.com
SUMMARY:Rod & Gun First Friday Social
DESCRIPTION:Step inside the Historic Bar at the Rod & Gun Club for an easygoing community get-together. On December 5 and January 2 at 5pm\, locals and longtime friends gather to share stories\, swap memories\, and enjoy the kind of Old Florida atmosphere that only the Rod & Gun can offer. \nCome spend an evening “where history\, community\, and the Everglades meet.” \n 
URL:https://visitevergladescity.com/event/rod-gun-first-friday-social/2027-01-01/
LOCATION:Rod & Gun Club\, 200 Riverside Drive\, Everglades City\, FL\, 34139\, United States
CATEGORIES:Community,Culture,ECity
ATTACH;FMTTYPE=image/jpeg:https://visitevergladescity.com/wp-content/uploads/2025/12/Rod-Gun-Social-min.jpg
END:VEVENT
END:VCALENDAR