BEGIN:VCALENDAR
VERSION:2.0
PRODID:-//Visit Everglades City - ECPv6.15.20//NONSGML v1.0//EN
CALSCALE:GREGORIAN
METHOD:PUBLISH
X-ORIGINAL-URL:https://visitevergladescity.com
X-WR-CALDESC:Events for Visit Everglades City
REFRESH-INTERVAL;VALUE=DURATION:PT1H
X-Robots-Tag:noindex
X-PUBLISHED-TTL:PT1H
BEGIN:VTIMEZONE
TZID:America/New_York
BEGIN:DAYLIGHT
TZOFFSETFROM:-0500
TZOFFSETTO:-0400
TZNAME:EDT
DTSTART:20250309T070000
END:DAYLIGHT
BEGIN:STANDARD
TZOFFSETFROM:-0400
TZOFFSETTO:-0500
TZNAME:EST
DTSTART:20251102T060000
END:STANDARD
BEGIN:DAYLIGHT
TZOFFSETFROM:-0500
TZOFFSETTO:-0400
TZNAME:EDT
DTSTART:20260308T070000
END:DAYLIGHT
BEGIN:STANDARD
TZOFFSETFROM:-0400
TZOFFSETTO:-0500
TZNAME:EST
DTSTART:20261101T060000
END:STANDARD
BEGIN:DAYLIGHT
TZOFFSETFROM:-0500
TZOFFSETTO:-0400
TZNAME:EDT
DTSTART:20270314T070000
END:DAYLIGHT
BEGIN:STANDARD
TZOFFSETFROM:-0400
TZOFFSETTO:-0500
TZNAME:EST
DTSTART:20271107T060000
END:STANDARD
END:VTIMEZONE
BEGIN:VEVENT
DTSTART;TZID=America/New_York:20260317T160000
DTEND;TZID=America/New_York:20260317T190000
DTSTAMP:20260423T050532
CREATED:20260130T120555Z
LAST-MODIFIED:20260331T113632Z
UID:10004188-1773763200-1773774000@visitevergladescity.com
SUMMARY:Celebration of St. Patrick’s Day
DESCRIPTION:The Friends of the Museum of the Everglades invite the community to celebrate St. Patrick’s Day with an evening of Irish food\, music\, and fun on Tuesday\, March 17\, 2026\, from 4:00 PM to 7:00 PM on the grounds of the Museum of the Everglades in Everglades City. \nGuests will enjoy traditional corned beef and cabbage served with Irish soda bread\, along with beer\, wine\, and water\, all included with admission. \nThe celebration will feature live music\, games\, and light-hearted competitions\, with prizes awarded for best Irish dress\, best Irish jokes\, and best clean limericks. Guests are encouraged to wear green and join in the fun. \nTickets: $35 per person (all-inclusive)\nReservations: Limited\nRSVP Deadline: March 10\, 2026
URL:https://visitevergladescity.com/event/celebration-of-st-patricks-day/
LOCATION:Museum of the Everglades\, 105 Broadway Ave W\, Everglades City\, FL\, 34139\, United States
CATEGORIES:Culture,Fundraiser
ATTACH;FMTTYPE=image/jpeg:https://visitevergladescity.com/wp-content/uploads/2026/01/Happy-St-Patricks-Day-min-scaled.jpg
END:VEVENT
BEGIN:VEVENT
DTSTART;TZID=America/New_York:20260319T140000
DTEND;TZID=America/New_York:20260319T150000
DTSTAMP:20260423T050532
CREATED:20260101T195137Z
LAST-MODIFIED:20260101T195417Z
UID:10003966-1773928800-1773932400@visitevergladescity.com
SUMMARY:Flowers and Felonies in the Fakahatchee Lecture
DESCRIPTION:In this companion lecture to the current temporary exhibit at Museum of the Everglades\, Growing Obsession\, Museum Manager Thomas Lockyear will focus on the now infamous case of attempted theft—immortalized in Susan Orlean’s iconic book The Orchid Thief—in the nearby Fakahatchee Strand State Preserve Park.  The sordid story of Homestead horticulturist John Edward Larouche and his perfidious plan to purloin and propagate rare Ghost Orchids\, along with other crimes of floral passion\, will be discussed.
URL:https://visitevergladescity.com/event/flowers-and-felonies-in-the-fakahatchee-lecture/
LOCATION:Museum of the Everglades\, 105 Broadway Ave W\, Everglades City\, FL\, 34139\, United States
CATEGORIES:Culture
ATTACH;FMTTYPE=image/png:https://visitevergladescity.com/wp-content/uploads/2023/10/Museum-of-the-Everglades-color-min.png
END:VEVENT
END:VCALENDAR