BEGIN:VCALENDAR
VERSION:2.0
PRODID:-//Visit Everglades City - ECPv6.15.20//NONSGML v1.0//EN
CALSCALE:GREGORIAN
METHOD:PUBLISH
X-WR-CALNAME:Visit Everglades City
X-ORIGINAL-URL:https://visitevergladescity.com
X-WR-CALDESC:Events for Visit Everglades City
REFRESH-INTERVAL;VALUE=DURATION:PT1H
X-Robots-Tag:noindex
X-PUBLISHED-TTL:PT1H
BEGIN:VTIMEZONE
TZID:America/New_York
BEGIN:DAYLIGHT
TZOFFSETFROM:-0500
TZOFFSETTO:-0400
TZNAME:EDT
DTSTART:20220313T070000
END:DAYLIGHT
BEGIN:STANDARD
TZOFFSETFROM:-0400
TZOFFSETTO:-0500
TZNAME:EST
DTSTART:20221106T060000
END:STANDARD
BEGIN:DAYLIGHT
TZOFFSETFROM:-0500
TZOFFSETTO:-0400
TZNAME:EDT
DTSTART:20230312T070000
END:DAYLIGHT
BEGIN:STANDARD
TZOFFSETFROM:-0400
TZOFFSETTO:-0500
TZNAME:EST
DTSTART:20231105T060000
END:STANDARD
BEGIN:DAYLIGHT
TZOFFSETFROM:-0500
TZOFFSETTO:-0400
TZNAME:EDT
DTSTART:20240310T070000
END:DAYLIGHT
BEGIN:STANDARD
TZOFFSETFROM:-0400
TZOFFSETTO:-0500
TZNAME:EST
DTSTART:20241103T060000
END:STANDARD
END:VTIMEZONE
BEGIN:VEVENT
DTSTART;TZID=America/New_York:20230929T190000
DTEND;TZID=America/New_York:20230930T170000
DTSTAMP:20260422T195405
CREATED:20230729T164725Z
LAST-MODIFIED:20231113T090409Z
UID:10000045-1696014000-1696093200@visitevergladescity.com
SUMMARY:Romp in the Swamp Naples 2023
DESCRIPTION:Download: Click Image \nJoin us for the 20th Annual Romp In The Swamp Naples Sept 29 & 30 at the Port Of The Islands Resort. \nIt is an inshore catch-and-release fishing tournament benefiting local families in need. Target species are redfish\, snook\, and trout. There is a fly fishing division as well as an open division. \nThis year’s event kicks off with a Captain’s Meeting\, Friday\, September 29\, 2023\, at 7 pm in Port of the Islands Resort where there will be a raffle\, food\, and music. The event ends\nSept 30th with the winners being announced. \nPort of the Island Resort has slip & room group discount rates for participants! Chokoloskee RV Park is also offering a 10%\ndiscount. \nThis event is a not-for-profit 501(c)(3)C and is run by local firefighters and volunteers. \n\nParticipate\n\nRegistration Open Now: RompintheSwampnaples.com/registration\n\nSchedule\nSept. 29\, 4 pm Team Angler Registration Begins \nSept. 7 pm Captains Meeting \nSept 30 Saturday is a fun-filled day of fishing \nSept 30 Weigh-In and Awards
URL:https://visitevergladescity.com/event/romp-in-the-swamp-naples-2023/
LOCATION:Port of the Islands Resort\, 25000 Tamiami Trail E\,\, Naples\, FL\, 34114\, United States
CATEGORIES:Fishing
ATTACH;FMTTYPE=image/jpeg:https://visitevergladescity.com/wp-content/uploads/2023/07/Romp-in-the-Swamp-poster.jpg
ORGANIZER;CN="Romp In The Swamp Naples Inc":MAILTO:rompintheswapnaples@gmail.com
END:VEVENT
BEGIN:VEVENT
DTSTART;VALUE=DATE:20230930
DTEND;VALUE=DATE:20231001
DTSTAMP:20260422T195405
CREATED:20230729T171954Z
LAST-MODIFIED:20230729T172917Z
UID:10000046-1696032000-1696118399@visitevergladescity.com
SUMMARY:Blessing of the Fleet 2023
DESCRIPTION:The Florida Stone Crabbers Association will be hosting and organizing the 2023 BOTF on September 30th at Camellia Street Grill.\nMore info and updates to come!
URL:https://visitevergladescity.com/event/blessing-of-the-fleet-2023/
LOCATION:FL
ATTACH;FMTTYPE=image/jpeg:https://visitevergladescity.com/wp-content/uploads/2023/07/Blessing-of-the-Fleet.jpg
END:VEVENT
END:VCALENDAR