BEGIN:VCALENDAR
VERSION:2.0
PRODID:-//Visit Everglades City - ECPv6.15.20//NONSGML v1.0//EN
CALSCALE:GREGORIAN
METHOD:PUBLISH
X-WR-CALNAME:Visit Everglades City
X-ORIGINAL-URL:https://visitevergladescity.com
X-WR-CALDESC:Events for Visit Everglades City
REFRESH-INTERVAL;VALUE=DURATION:PT1H
X-Robots-Tag:noindex
X-PUBLISHED-TTL:PT1H
BEGIN:VTIMEZONE
TZID:America/New_York
BEGIN:DAYLIGHT
TZOFFSETFROM:-0500
TZOFFSETTO:-0400
TZNAME:EDT
DTSTART:20220313T070000
END:DAYLIGHT
BEGIN:STANDARD
TZOFFSETFROM:-0400
TZOFFSETTO:-0500
TZNAME:EST
DTSTART:20221106T060000
END:STANDARD
BEGIN:DAYLIGHT
TZOFFSETFROM:-0500
TZOFFSETTO:-0400
TZNAME:EDT
DTSTART:20230312T070000
END:DAYLIGHT
BEGIN:STANDARD
TZOFFSETFROM:-0400
TZOFFSETTO:-0500
TZNAME:EST
DTSTART:20231105T060000
END:STANDARD
BEGIN:DAYLIGHT
TZOFFSETFROM:-0500
TZOFFSETTO:-0400
TZNAME:EDT
DTSTART:20240310T070000
END:DAYLIGHT
BEGIN:STANDARD
TZOFFSETFROM:-0400
TZOFFSETTO:-0500
TZNAME:EST
DTSTART:20241103T060000
END:STANDARD
END:VTIMEZONE
BEGIN:VEVENT
DTSTART;TZID=America/New_York:20231219T180000
DTEND;TZID=America/New_York:20231219T190000
DTSTAMP:20260420T204334
CREATED:20231121T194328Z
LAST-MODIFIED:20231128T201737Z
UID:10000235-1703008800-1703012400@visitevergladescity.com
SUMMARY:Planning & Zoning Meeting
DESCRIPTION:P&Z Board meetings are held monthly on the 3rd Tuesday of the month. City Council room\, 2nd floor City Hall. \nThese meetings will be a Hybrid meeting with some board members present and others present by video conference / Zoom.  The bottom of the agenda has instructions on how to join the meeting via Zoom.  The Agenda can be found at: https://www.cityofeverglades.org
URL:https://visitevergladescity.com/event/planning-zoning-meeting/2023-12-19/
LOCATION:Everglades City Hall\, 102 Copeland Ave N.\, Everglades City\, FL\, 34139\, United States
CATEGORIES:ECity
ATTACH;FMTTYPE=image/webp:https://visitevergladescity.com/wp-content/uploads/2023/11/Event-Header-PZ-Square-250-min.webp
END:VEVENT
BEGIN:VEVENT
DTSTART;TZID=America/New_York:20231220T093000
DTEND;TZID=America/New_York:20231220T120000
DTSTAMP:20260420T204334
CREATED:20231128T202313Z
LAST-MODIFIED:20231128T221317Z
UID:10000427-1703064600-1703073600@visitevergladescity.com
SUMMARY:Food Pantry
DESCRIPTION:Food is distributed from the rear of Everglades Community Church located at 101 S. Copeland Ave.\, Everglades City. “This institution is an equal opportunity provider.”
URL:https://visitevergladescity.com/event/food-pantry/2023-12-20/
LOCATION:Everglades Community Church\, 101 Copeland Ave\, Everglades City\, FL\, 34139\, United States
CATEGORIES:ECity
ATTACH;FMTTYPE=image/webp:https://visitevergladescity.com/wp-content/uploads/2023/11/Food-Pantry-in-Everglades-City.webp
END:VEVENT
BEGIN:VEVENT
DTSTART;TZID=America/New_York:20231220T183000
DTEND;TZID=America/New_York:20231220T183000
DTSTAMP:20260420T204334
CREATED:20231011T192417Z
LAST-MODIFIED:20231101T031231Z
UID:10000145-1703097000-1703097000@visitevergladescity.com
SUMMARY:Christmas Dessert & Contest
DESCRIPTION:Join us for the Chokoloskee Family Church Annual Christmas Dessert & Ugly Sweater Contest on December 20 at 6:30 pm.   Don your ugliest sweater for a chance to win prizes.
URL:https://visitevergladescity.com/event/christmas-dessert-contest/
LOCATION:Chokoloskee Family Church Of God\, 1236 Demere Ln\, Chokoloskee\, FL\, 34138\, United States
CATEGORIES:Culture
ATTACH;FMTTYPE=image/jpeg:https://visitevergladescity.com/wp-content/uploads/2023/10/Christmas-Dessert-Content-Chokoloskee-Family-Church-01-min.jpg
END:VEVENT
BEGIN:VEVENT
DTSTART;TZID=America/New_York:20231221T083000
DTEND;TZID=America/New_York:20231221T100000
DTSTAMP:20260420T204335
CREATED:20231204T203754Z
LAST-MODIFIED:20231205T152351Z
UID:10001036-1703147400-1703152800@visitevergladescity.com
SUMMARY:Ladies' Coffee at Island Cafe
DESCRIPTION:Ladies Coffee is a casual weekly gathering for women every Thursday at different local breakfast spots or homes. No rules or fees\, just a welcoming space to connect\, forge friendships in a relaxed atmosphere.
URL:https://visitevergladescity.com/event/ladies-coffee-island-cafe/2023-12-21/
LOCATION:Island Cafe\, 305 Collier Ave\, Everglades City\, FL\, 34139\, United States
CATEGORIES:Clubs
ATTACH;FMTTYPE=image/jpeg:https://visitevergladescity.com/wp-content/uploads/2023/12/Ladies-Coffee-1000x700-min.jpg
END:VEVENT
BEGIN:VEVENT
DTSTART;TZID=America/New_York:20231221T140000
DTEND;TZID=America/New_York:20231221T150000
DTSTAMP:20260420T204335
CREATED:20231003T165507Z
LAST-MODIFIED:20231121T202158Z
UID:10000138-1703167200-1703170800@visitevergladescity.com
SUMMARY:Third Thursday Talk at the Museum of the Everglades
DESCRIPTION:The Third Thursday Talks hosted by the Museum of the Everglades are geared towards teaching and preserving the history of the area. \nGet all the details at colliermuseums.com.
URL:https://visitevergladescity.com/event/third-thursday-talk-at-the-museum-of-the-everglades-3/
LOCATION:Museum of the Everglades\, 105 Broadway Ave W\, Everglades City\, FL\, 34139\, United States
CATEGORIES:Culture
ATTACH;FMTTYPE=image/png:https://visitevergladescity.com/wp-content/uploads/2023/10/Museum-of-the-Everglades-color-min.png
END:VEVENT
BEGIN:VEVENT
DTSTART;TZID=America/New_York:20231222T140000
DTEND;TZID=America/New_York:20231222T160000
DTSTAMP:20260420T204335
CREATED:20231121T152735Z
LAST-MODIFIED:20231124T172148Z
UID:10000164-1703253600-1703260800@visitevergladescity.com
SUMMARY:Santa Claus is Coming to Town at Captain Morgan's Seafood Grill\, 102 S Copeland Ave Everglades City
DESCRIPTION:Santa Claus is making a special stop at Captain Morgan’s December 22 & 23 | 2 – 4 pm \nStop by to tell Santa what you want for Christmas. \nDon’t forget to bring your camera!
URL:https://visitevergladescity.com/event/santa-claus-is-coming-to-town-at-captain-morgans-seafood-grill/
LOCATION:Captain Morgan’s Seafood Grill Corp\, 102 S Copeland Ave\, Everglades City\, FL\, 34139\, United States
CATEGORIES:Culture
ATTACH;FMTTYPE=image/jpeg:https://visitevergladescity.com/wp-content/uploads/2023/11/Santa-Claus-is-Coming-to-Town-min.jpg
END:VEVENT
BEGIN:VEVENT
DTSTART;TZID=America/New_York:20231223T120000
DTEND;TZID=America/New_York:20231223T140000
DTSTAMP:20260420T204335
CREATED:20231208T152404Z
LAST-MODIFIED:20231208T153939Z
UID:10001130-1703332800-1703340000@visitevergladescity.com
SUMMARY:Santa & Mrs. Claus at Skunkape
DESCRIPTION:Santa Claus is coming to town!  Come get your family photos taken with Santa & Mrs. Claus on Saturday December 23rd from 12 pm to 2 pm.  Our shop is fully stocked with great last-minute holiday gifts and Christmas cheer!  Free-admission to the Reptile Exhibit for the day !
URL:https://visitevergladescity.com/event/santa-mrs-claus-at-skunkape/
LOCATION:Skunkape Headquarters\, 40904 Tamiami Trail E\, Ochopee\, FL\, 34141\, United States
CATEGORIES:Culture
ATTACH;FMTTYPE=image/jpeg:https://visitevergladescity.com/wp-content/uploads/2023/12/jpgSANTA-POSTER-FINALcolor-min.jpeg
END:VEVENT
BEGIN:VEVENT
DTSTART;TZID=America/New_York:20231223T140000
DTEND;TZID=America/New_York:20231223T160000
DTSTAMP:20260420T204335
CREATED:20231121T153029Z
LAST-MODIFIED:20231128T172844Z
UID:10000165-1703340000-1703347200@visitevergladescity.com
SUMMARY:Santa Claus is Coming to Town at Captain Morgan's Seafood Grill\, 102 S Copeland Ave Everglades City
DESCRIPTION:Santa Claus is making a special stop at Captain Morgan’s December 22 & 23 | 2 – 4 pm \nStop by to tell Santa what you want for Christmas. \nDon’t forget to bring your camera!
URL:https://visitevergladescity.com/event/santa-claus-is-coming-to-town-2/
LOCATION:Captain Morgan’s Seafood Grill Corp\, 102 S Copeland Ave\, Everglades City\, FL\, 34139\, United States
CATEGORIES:Culture
ATTACH;FMTTYPE=image/jpeg:https://visitevergladescity.com/wp-content/uploads/2023/11/Santa-Claus-is-Coming-to-Town-min.jpg
END:VEVENT
BEGIN:VEVENT
DTSTART;TZID=America/New_York:20231223T180000
DTEND;TZID=America/New_York:20231223T233000
DTSTAMP:20260420T204335
CREATED:20231208T220013Z
LAST-MODIFIED:20231208T220013Z
UID:10000686-1703354400-1703374200@visitevergladescity.com
SUMMARY:Grateful Holiday Jam
DESCRIPTION:Come join us for a festive and fun-filled event at the Trail Lakes Campground in Ochopee\, FL\, USA! Get ready to celebrate the holiday season with one of South Florida’s longest running Grateful Dead bands . We have lined up an amazing night of live music and a campfire gathering for everyone to enjoy. Whether you’re a music lover or just looking for a good time\, this event is perfect for you. So mark your calendars and get ready to jam at the Holiday Jam! We can’t wait to see you there! \nPrimitive Camping included with GA Ticket \nElectric sites\,RV\,cabin\, and hut upgrades are available through the Trail Lakes Campground office. \n(800) 504-6554
URL:https://visitevergladescity.com/event/grateful-holiday-jam/
LOCATION:Trail Lakes Campground\, 40904 Tamiami Trail E\, Ochopee\, FL\, 34141\, United States
CATEGORIES:Culture
END:VEVENT
END:VCALENDAR