BEGIN:VCALENDAR
VERSION:2.0
PRODID:-//Visit Everglades City - ECPv6.15.20//NONSGML v1.0//EN
CALSCALE:GREGORIAN
METHOD:PUBLISH
X-ORIGINAL-URL:https://visitevergladescity.com
X-WR-CALDESC:Events for Visit Everglades City
REFRESH-INTERVAL;VALUE=DURATION:PT1H
X-Robots-Tag:noindex
X-PUBLISHED-TTL:PT1H
BEGIN:VTIMEZONE
TZID:America/New_York
BEGIN:DAYLIGHT
TZOFFSETFROM:-0500
TZOFFSETTO:-0400
TZNAME:EDT
DTSTART:20240310T070000
END:DAYLIGHT
BEGIN:STANDARD
TZOFFSETFROM:-0400
TZOFFSETTO:-0500
TZNAME:EST
DTSTART:20241103T060000
END:STANDARD
BEGIN:DAYLIGHT
TZOFFSETFROM:-0500
TZOFFSETTO:-0400
TZNAME:EDT
DTSTART:20250309T070000
END:DAYLIGHT
BEGIN:STANDARD
TZOFFSETFROM:-0400
TZOFFSETTO:-0500
TZNAME:EST
DTSTART:20251102T060000
END:STANDARD
BEGIN:DAYLIGHT
TZOFFSETFROM:-0500
TZOFFSETTO:-0400
TZNAME:EDT
DTSTART:20260308T070000
END:DAYLIGHT
BEGIN:STANDARD
TZOFFSETFROM:-0400
TZOFFSETTO:-0500
TZNAME:EST
DTSTART:20261101T060000
END:STANDARD
END:VTIMEZONE
BEGIN:VEVENT
DTSTART;TZID=America/New_York:20250106T080000
DTEND;TZID=America/New_York:20250106T170000
DTSTAMP:20260425T165137
CREATED:20241211T203853Z
LAST-MODIFIED:20241211T204230Z
UID:10003027-1736150400-1736182800@visitevergladescity.com
SUMMARY:Everglades Ten Thousand Island Legacy Cruise
DESCRIPTION:Launch from Goodland Boating Park. Store your car/trailer at Pink House Hotel parking area on corner of Mango and Goodland Dr. E ($20 per day storage) or Everglades City at Rod &gun Club ($20 to launch\, $10 per day parking\, cash only). Sail to Panther Key or Launch from Port of the Ise or Everglades City. Take day trips from Panther Key. Enjoy evening campfires and camaraderie. Head back Friday.
URL:https://visitevergladescity.com/event/everglades-ten-thousand-island-legacy-cruise/
LOCATION:FL
CATEGORIES:Culture
END:VEVENT
BEGIN:VEVENT
DTSTART;TZID=America/New_York:20250107T143000
DTEND;TZID=America/New_York:20250107T170000
DTSTAMP:20260425T165137
CREATED:20240812T150152Z
LAST-MODIFIED:20240812T150152Z
UID:10002271-1736260200-1736269200@visitevergladescity.com
SUMMARY:Rep. Díaz-Balart’s in EC Office
DESCRIPTION:Every first Tuesday at 2:30 pm\, a member of Congressman Mario Diaz-Balart’s team will be at Everglades City Hall to assist with federal casework\, including USPS\, social security\, veterans’ benefits\, immigration\, and other federal issues.
URL:https://visitevergladescity.com/event/rep-diaz-balarts-in-ec-office/2025-01-07/
LOCATION:Everglades City Hall\, 102 Copeland Ave N.\, Everglades City\, FL\, 34139\, United States
CATEGORIES:ECity
ATTACH;FMTTYPE=image/webp:https://visitevergladescity.com/wp-content/uploads/2024/08/Event-Header-Diaz-Balart-250-1.webp
END:VEVENT
BEGIN:VEVENT
DTSTART;TZID=America/New_York:20250107T190000
DTEND;TZID=America/New_York:20250107T200000
DTSTAMP:20260425T165137
CREATED:20231121T201909Z
LAST-MODIFIED:20231128T191436Z
UID:10000309-1736276400-1736280000@visitevergladescity.com
SUMMARY:City Council Meeting
DESCRIPTION:City Council meetings are held every 1st Tuesday of the month @ 7 PM in the City Council room\, 2nd floor City Hall.  \nThe agenda will be posted here prior to the meeting. https://www.cityofeverglades.org/public-notice\n \nThese meetings will be a Hybrid meeting with some board members present and others present by video conference / Zoom. The bottom of the agenda has instructions on how to join the meeting via Zoom. 
URL:https://visitevergladescity.com/event/city-council-meeting/2025-01-07/
LOCATION:Everglades City Hall\, 102 Copeland Ave N.\, Everglades City\, FL\, 34139\, United States
CATEGORIES:ECity
ATTACH;FMTTYPE=image/jpeg:https://visitevergladescity.com/wp-content/uploads/2023/11/Event-Header-City-Council-Meeting-Square-250-min.jpg
END:VEVENT
BEGIN:VEVENT
DTSTART;TZID=America/New_York:20250108T093000
DTEND;TZID=America/New_York:20250108T120000
DTSTAMP:20260425T165137
CREATED:20240213T200501Z
LAST-MODIFIED:20240213T200504Z
UID:10000482-1736328600-1736337600@visitevergladescity.com
SUMMARY:Food Pantry
DESCRIPTION:Food is distributed from the rear of Everglades Community Church located at 101 S. Copeland Ave.\, Everglades City. “This institution is an equal opportunity provider.”
URL:https://visitevergladescity.com/event/food-pantry-2/2025-01-08/
LOCATION:Everglades Community Church\, 101 Copeland Ave\, Everglades City\, FL\, 34139\, United States
CATEGORIES:ECity
ATTACH;FMTTYPE=image/webp:https://visitevergladescity.com/wp-content/uploads/2023/11/Food-Pantry-in-Everglades-City.webp
END:VEVENT
BEGIN:VEVENT
DTSTART;TZID=America/New_York:20250109T083000
DTEND;TZID=America/New_York:20250109T100000
DTSTAMP:20260425T165137
CREATED:20241031T183324Z
LAST-MODIFIED:20250113T174330Z
UID:10003119-1736411400-1736416800@visitevergladescity.com
SUMMARY:Ladies' Coffee at HavAnnA Cafe
DESCRIPTION:Ladies Coffee is a casual weekly gathering for women every Thursday at different local breakfast spots or homes. No rules or fees\, just a welcoming space to connect\, forge friendships in a relaxed atmosphere.
URL:https://visitevergladescity.com/event/ladies-coffee-at-havanna-cafe-2-2/2025-01-09/
LOCATION:HavAnnA Cafe\, 191 Smallwood Dr\, Chokoloskee\, FL\, 34138\, United States
CATEGORIES:Clubs
END:VEVENT
BEGIN:VEVENT
DTSTART;TZID=America/New_York:20250109T093000
DTEND;TZID=America/New_York:20250109T120000
DTSTAMP:20260425T165137
CREATED:20241007T154611Z
LAST-MODIFIED:20241203T164111Z
UID:10002339-1736415000-1736424000@visitevergladescity.com
SUMMARY:Everglades Book Club
DESCRIPTION:Meetings are open to all. We just read the book\, have wonderful discussions and make new friendships. \n\nJan. 9 The Heaven and Earth Grocery Store by James McBride – 9:30 am Volunteer Needed to Host\nFeb. 13 The Lemon Tree by Sandy Tolan – 9:30 am Volunteer Needed to Host\nMar. 13 Someone Else’s Shoes by Jojo Moyes – 9:30 am hosted by Dianna Pollock at Location TBA\nApril 10 Lessons in Chemistry by Bonnie Garmus – 9:30 am Volunteer Needed to Host\n\nQuestions or to host a meeting contact Diann Lock at dmlock333@gmail.com
URL:https://visitevergladescity.com/event/everglades-book-club-january-2025/
LOCATION:FL
CATEGORIES:Clubs
ATTACH;FMTTYPE=image/webp:https://visitevergladescity.com/wp-content/uploads/2023/11/Everglades-City-Book-Club-Header-min.webp
END:VEVENT
BEGIN:VEVENT
DTSTART;TZID=America/New_York:20250110T100000
DTEND;TZID=America/New_York:20250110T200000
DTSTAMP:20260425T165137
CREATED:20241119T183808Z
LAST-MODIFIED:20241119T183808Z
UID:10002977-1736503200-1736539200@visitevergladescity.com
SUMMARY:8th Annual Everglades Roots Festival
DESCRIPTION:Join us for the Everglades Roots Festival at Trail Lakes Campground in Ochopee\, Florida\, featuring Bluegrass\, Southern Rock and Jam Bands. \nThe Everglades Roots Festival host the best of Florida Blues\, Bluegrass\, and Folk rooted music in the Heart of the Big Cypress swamp. Celebrating Everglades culture \,art\, and heritage with music\, camping\, and vendors. \nGet your tickets at https://www.evergladesrootsfestival.com/contact
URL:https://visitevergladescity.com/event/8th-annual-everglades-roots-festival/2025-01-10/
LOCATION:Trail Lakes Campground\, 40904 Tamiami Trail E\, Ochopee\, FL\, 34141\, United States
CATEGORIES:Culture
ATTACH;FMTTYPE=image/webp:https://visitevergladescity.com/wp-content/uploads/2024/11/8th-Annual-Everglades-Roots-Festival.webp
END:VEVENT
BEGIN:VEVENT
DTSTART;TZID=America/New_York:20250111T100000
DTEND;TZID=America/New_York:20250111T200000
DTSTAMP:20260425T165137
CREATED:20241119T183808Z
LAST-MODIFIED:20241119T183808Z
UID:10002978-1736589600-1736625600@visitevergladescity.com
SUMMARY:8th Annual Everglades Roots Festival
DESCRIPTION:Join us for the Everglades Roots Festival at Trail Lakes Campground in Ochopee\, Florida\, featuring Bluegrass\, Southern Rock and Jam Bands. \nThe Everglades Roots Festival host the best of Florida Blues\, Bluegrass\, and Folk rooted music in the Heart of the Big Cypress swamp. Celebrating Everglades culture \,art\, and heritage with music\, camping\, and vendors. \nGet your tickets at https://www.evergladesrootsfestival.com/contact
URL:https://visitevergladescity.com/event/8th-annual-everglades-roots-festival/2025-01-11/
LOCATION:Trail Lakes Campground\, 40904 Tamiami Trail E\, Ochopee\, FL\, 34141\, United States
CATEGORIES:Culture
ATTACH;FMTTYPE=image/webp:https://visitevergladescity.com/wp-content/uploads/2024/11/8th-Annual-Everglades-Roots-Festival.webp
END:VEVENT
BEGIN:VEVENT
DTSTART;TZID=America/New_York:20250111T110000
DTEND;TZID=America/New_York:20250111T170000
DTSTAMP:20260425T165137
CREATED:20241119T184226Z
LAST-MODIFIED:20250106T200717Z
UID:10002979-1736593200-1736614800@visitevergladescity.com
SUMMARY:White Pelican Festival
DESCRIPTION:Join us to welcome these gigantic snowy birds as they spend their winter in our backyard. Our special guests will be members of the Seminole Tribe who took part in the Music Festival along with popular Florida Folk Musicians. There will be boat tours\, arts & crafts sales\, native foods\, and free admission to the Smallwood Store Museum. \nThis event is a fundraiser benefiting the Smallwood Store and the Everglades Society for Historic Preservation. For info & tickets see www.ESHP.org
URL:https://visitevergladescity.com/event/white-pelican-festival/
LOCATION:Smallwood Store\, 360 Mamie St\, Chokoloskee\, FL\, 34138\, United States
CATEGORIES:Culture
END:VEVENT
END:VCALENDAR