BEGIN:VCALENDAR
VERSION:2.0
PRODID:-//Visit Everglades City - ECPv6.15.20//NONSGML v1.0//EN
CALSCALE:GREGORIAN
METHOD:PUBLISH
X-WR-CALNAME:Visit Everglades City
X-ORIGINAL-URL:https://visitevergladescity.com
X-WR-CALDESC:Events for Visit Everglades City
REFRESH-INTERVAL;VALUE=DURATION:PT1H
X-Robots-Tag:noindex
X-PUBLISHED-TTL:PT1H
BEGIN:VTIMEZONE
TZID:America/New_York
BEGIN:DAYLIGHT
TZOFFSETFROM:-0500
TZOFFSETTO:-0400
TZNAME:EDT
DTSTART:20240310T070000
END:DAYLIGHT
BEGIN:STANDARD
TZOFFSETFROM:-0400
TZOFFSETTO:-0500
TZNAME:EST
DTSTART:20241103T060000
END:STANDARD
BEGIN:DAYLIGHT
TZOFFSETFROM:-0500
TZOFFSETTO:-0400
TZNAME:EDT
DTSTART:20250309T070000
END:DAYLIGHT
BEGIN:STANDARD
TZOFFSETFROM:-0400
TZOFFSETTO:-0500
TZNAME:EST
DTSTART:20251102T060000
END:STANDARD
BEGIN:DAYLIGHT
TZOFFSETFROM:-0500
TZOFFSETTO:-0400
TZNAME:EDT
DTSTART:20260308T070000
END:DAYLIGHT
BEGIN:STANDARD
TZOFFSETFROM:-0400
TZOFFSETTO:-0500
TZNAME:EST
DTSTART:20261101T060000
END:STANDARD
END:VTIMEZONE
BEGIN:VEVENT
DTSTART;TZID=America/New_York:20250309T100000
DTEND;TZID=America/New_York:20250309T160000
DTSTAMP:20260425T224609
CREATED:20241119T202815Z
LAST-MODIFIED:20250109T172305Z
UID:10002987-1741514400-1741536000@visitevergladescity.com
SUMMARY:13th Annual Harbor Arts & Music Festival
DESCRIPTION:Come to the 13th Annual Harbor Arts & Music Festival on March 8 & 9th at MarGood Harbor Park. Showcasing top-tier artists and diverse cuisines\, enjoy captivating raffle prizes and live performances by Florida’s top musicians. Don’t miss this blend of great food\, art\, and music! \nMore Info: taraogallery@gmail.com
URL:https://visitevergladescity.com/event/12th-annual-harbor-arts-music-festival/2025-03-09/
LOCATION:MarGood Harbor Park\, Pear Tree Ave\, Goodland\, FL\, 34140\, United States
CATEGORIES:Culture
END:VEVENT
BEGIN:VEVENT
DTSTART;VALUE=DATE:20250310
DTEND;VALUE=DATE:20250315
DTSTAMP:20260425T224609
CREATED:20241211T183535Z
LAST-MODIFIED:20241211T183535Z
UID:10003023-1741564800-1741996799@visitevergladescity.com
SUMMARY:CCPS No School
DESCRIPTION:Collier County Public Schools have no classes today. See the 2024-2025 school calendar for details. \nRecent & upcoming early dismissals and closures: \n\n2/17 No School: President’s Day\n3/10-14 No School: Spring Break\n3/24 No School: Teacher Planning Day\n4/18 No School\n5/23 Early Dismissal: Graduation\n5/26 No School: Memorial Day\n5/30 Early Dismissal: Last Day for Students
URL:https://visitevergladescity.com/event/ccps-no-school-7/
LOCATION:FL
CATEGORIES:School
ATTACH;FMTTYPE=image/jpeg:https://visitevergladescity.com/wp-content/uploads/2024/01/VEC-CCPS-No-School-Notices-2024-2-min.jpg
END:VEVENT
BEGIN:VEVENT
DTSTART;TZID=America/New_York:20250312T093000
DTEND;TZID=America/New_York:20250312T120000
DTSTAMP:20260425T224609
CREATED:20240213T200501Z
LAST-MODIFIED:20240213T200504Z
UID:10000491-1741771800-1741780800@visitevergladescity.com
SUMMARY:Food Pantry
DESCRIPTION:Food is distributed from the rear of Everglades Community Church located at 101 S. Copeland Ave.\, Everglades City. “This institution is an equal opportunity provider.”
URL:https://visitevergladescity.com/event/food-pantry-2/2025-03-12/
LOCATION:Everglades Community Church\, 101 Copeland Ave\, Everglades City\, FL\, 34139\, United States
CATEGORIES:ECity
ATTACH;FMTTYPE=image/webp:https://visitevergladescity.com/wp-content/uploads/2023/11/Food-Pantry-in-Everglades-City.webp
END:VEVENT
BEGIN:VEVENT
DTSTART;TZID=America/New_York:20250312T140000
DTEND;TZID=America/New_York:20250312T150000
DTSTAMP:20260425T224609
CREATED:20241211T205951Z
LAST-MODIFIED:20241211T205951Z
UID:10003046-1741788000-1741791600@visitevergladescity.com
SUMMARY:Wilderness Wednesdays at the Museum
DESCRIPTION:Wilderness Wednesday lectures at Museum of the Everglades are a seasonal weekly program of presentations by ranger staff from the Big Cypress National Preserve and occasionally other partner organizations. Topics center around the flora and fauna unique to the Everglades and the biological diversity of the local ecosystem. \nSpanning January to April\, each week unveils a new topic presented by the National Park Service\, promising an immersive exploration of the Everglades’ natural wonders. For further details and updates on scheduled talks\, contact the Museum of the Everglades at (239) 252-5026 or visit CollierMuseums.com/events
URL:https://visitevergladescity.com/event/wilderness-wednesdays-at-the-museum-3/2025-03-12/
LOCATION:Museum of the Everglades\, 105 Broadway Ave W\, Everglades City\, FL\, 34139\, United States
CATEGORIES:Culture
ATTACH;FMTTYPE=image/jpeg:https://visitevergladescity.com/wp-content/uploads/2023/12/Wilderness-Wednesdays-Logo.jpg
END:VEVENT
BEGIN:VEVENT
DTSTART;TZID=America/New_York:20250312T160000
DTEND;TZID=America/New_York:20250312T173000
DTSTAMP:20260425T224609
CREATED:20250225T173521Z
LAST-MODIFIED:20250225T173521Z
UID:10003662-1741795200-1741800600@visitevergladescity.com
SUMMARY:Fly Fishing Clinic
DESCRIPTION:Who: EVG High School Students\nWhen: March 12\, 2025\nWhere: Baseball Field\nTime: 4 pm – 5:30 pm \nEVG High school students interested in attending the fly fishing clinic with Capt. Elmer Pillon should sign up in the front office with Mrs. Whitcomb by Friday\, March 7\, at 1 pm. Don’t miss this great opportunity to learn from an expert!
URL:https://visitevergladescity.com/event/fly-fishing-clinic/
LOCATION:Everglades City School\, 415 E School Dr\, Everglades City\, FL\, 34139\, United States
CATEGORIES:School
END:VEVENT
BEGIN:VEVENT
DTSTART;TZID=America/New_York:20250313T083000
DTEND;TZID=America/New_York:20250313T100000
DTSTAMP:20260425T224609
CREATED:20241031T183324Z
LAST-MODIFIED:20250113T174330Z
UID:10003122-1741854600-1741860000@visitevergladescity.com
SUMMARY:Ladies' Coffee at HavAnnA Cafe
DESCRIPTION:Ladies Coffee is a casual weekly gathering for women every Thursday at different local breakfast spots or homes. No rules or fees\, just a welcoming space to connect\, forge friendships in a relaxed atmosphere.
URL:https://visitevergladescity.com/event/ladies-coffee-at-havanna-cafe-2-2/2025-03-13/
LOCATION:HavAnnA Cafe\, 191 Smallwood Dr\, Chokoloskee\, FL\, 34138\, United States
CATEGORIES:Clubs
END:VEVENT
BEGIN:VEVENT
DTSTART;TZID=America/New_York:20250313T093000
DTEND;TZID=America/New_York:20250313T120000
DTSTAMP:20260425T224609
CREATED:20241007T160139Z
LAST-MODIFIED:20250225T155909Z
UID:10002341-1741858200-1741867200@visitevergladescity.com
SUMMARY:Everglades Book Club
DESCRIPTION:Meetings are open to all. We just read the book\, have wonderful discussions and make new friendships. \n\nMar. 13 Someone Else’s Shoes by Jojo Moyes – 9:30 am hosted by Debbie Hein at Hosts Home\nApril 10 Doll House by Fiona Davis – 9:30 am hosted by Connie Barker at Hosts Home\n\nQuestions or to host a meeting contact Diann Lock at dmlock333@gmail.com
URL:https://visitevergladescity.com/event/everglades-book-club-march-2025/
LOCATION:FL
CATEGORIES:Clubs
ATTACH;FMTTYPE=image/webp:https://visitevergladescity.com/wp-content/uploads/2023/11/Everglades-City-Book-Club-Header-min.webp
END:VEVENT
BEGIN:VEVENT
DTSTART;VALUE=DATE:20250315
DTEND;VALUE=DATE:20250316
DTSTAMP:20260425T224609
CREATED:20241121T203744Z
LAST-MODIFIED:20241121T203820Z
UID:10002998-1741996800-1742083199@visitevergladescity.com
SUMMARY:Mullet Rapper In Stand
DESCRIPTION:Pick up the new Mullet Rapper Issue from any one of our Newsstand locations.  Find a location at: https://visitevergladescity.com/places/tags/mullet-rapper-newsstands/
URL:https://visitevergladescity.com/event/mullet-rapper-in-stand-3/2025-03-15/
LOCATION:FL
CATEGORIES:Culture
ATTACH;FMTTYPE=image/png:https://visitevergladescity.com/wp-content/uploads/2018/04/Mullet-logo.png
END:VEVENT
BEGIN:VEVENT
DTSTART;TZID=America/New_York:20250315T100000
DTEND;TZID=America/New_York:20250315T170000
DTSTAMP:20260425T224609
CREATED:20250127T171231Z
LAST-MODIFIED:20250127T171455Z
UID:10003587-1742032800-1742058000@visitevergladescity.com
SUMMARY:Turkey Shoot
DESCRIPTION:The Lions Club of Everglades City is bringing back their Annual Turkey Shoot on March 15-16 at the Mayberry Cypress Tower Camp.  This family friendly event is a great opportunity to win some bragging rights as a top shooter and a little cash!  The event will run from 10:00am-5:00pm on March 15\, 2025 and 12:00pm-5:00pm March 16\, 2025.\n\nThe Lions Club will supply the ammo!  Bring your shot guns and get ready for a great time!  If you don’t have a shotgun\, come anyway.  They will be able to set you up!\n\nSo if you are interested in donating cash\, prizes\, or participating then mark your calendar and reach out to Lion Cecil Barker\, Lions Club President\, by email at ccbarker612@gmail.com.
URL:https://visitevergladescity.com/event/turkey-shoot/
LOCATION:Mayberry’s Cypress Tower Camp\, 18101 Cypress Tower Rd\, Ochopee\, FL\, 34141\, United States
CATEGORIES:Culture,Fundraiser,Tournament
ATTACH;FMTTYPE=image/webp:https://visitevergladescity.com/wp-content/uploads/2025/01/Turkey-shoot-poster-scaled.webp
END:VEVENT
END:VCALENDAR