BEGIN:VCALENDAR
VERSION:2.0
PRODID:-//Visit Everglades City - ECPv6.15.20//NONSGML v1.0//EN
CALSCALE:GREGORIAN
METHOD:PUBLISH
X-ORIGINAL-URL:https://visitevergladescity.com
X-WR-CALDESC:Events for Visit Everglades City
REFRESH-INTERVAL;VALUE=DURATION:PT1H
X-Robots-Tag:noindex
X-PUBLISHED-TTL:PT1H
BEGIN:VTIMEZONE
TZID:America/New_York
BEGIN:DAYLIGHT
TZOFFSETFROM:-0500
TZOFFSETTO:-0400
TZNAME:EDT
DTSTART:20240310T070000
END:DAYLIGHT
BEGIN:STANDARD
TZOFFSETFROM:-0400
TZOFFSETTO:-0500
TZNAME:EST
DTSTART:20241103T060000
END:STANDARD
BEGIN:DAYLIGHT
TZOFFSETFROM:-0500
TZOFFSETTO:-0400
TZNAME:EDT
DTSTART:20250309T070000
END:DAYLIGHT
BEGIN:STANDARD
TZOFFSETFROM:-0400
TZOFFSETTO:-0500
TZNAME:EST
DTSTART:20251102T060000
END:STANDARD
BEGIN:DAYLIGHT
TZOFFSETFROM:-0500
TZOFFSETTO:-0400
TZNAME:EDT
DTSTART:20260308T070000
END:DAYLIGHT
BEGIN:STANDARD
TZOFFSETFROM:-0400
TZOFFSETTO:-0500
TZNAME:EST
DTSTART:20261101T060000
END:STANDARD
END:VTIMEZONE
BEGIN:VEVENT
DTSTART;TZID=America/New_York:20250413T100000
DTEND;TZID=America/New_York:20250413T140000
DTSTAMP:20260425T165139
CREATED:20250326T141036Z
LAST-MODIFIED:20251121T220332Z
UID:10003668-1744538400-1744552800@visitevergladescity.com
SUMMARY:Fresh Market
DESCRIPTION:Find farm-fresh produce on Fridays and Sundays from 10 am to 2 pm next to the Everglades City Post Office.
URL:https://visitevergladescity.com/event/fresh-market/2025-04-13/
LOCATION:Everglades City Post Office\, 601 Collier Ave\, Everglades City\, FL\, 34139\, United States
CATEGORIES:Community
ATTACH;FMTTYPE=image/jpeg:https://visitevergladescity.com/wp-content/uploads/2025/03/Farmers-Market.jpg
END:VEVENT
BEGIN:VEVENT
DTSTART;TZID=America/New_York:20250415T180000
DTEND;TZID=America/New_York:20250415T190000
DTSTAMP:20260425T165139
CREATED:20240812T143154Z
LAST-MODIFIED:20240812T143230Z
UID:10000251-1744740000-1744743600@visitevergladescity.com
SUMMARY:Code Enforcement & Planning & Zoning Meetings
DESCRIPTION:Code Enforcement and Planning & Zoning meetings are held monthly on the 3rd Tuesday of the month. City Council room\, 2nd floor City Hall. \nThese meetings will be a Hybrid meeting with some board members present and others present by video conference / Zoom.  The bottom of the agenda has instructions on how to join the meeting via Zoom.  The Agenda can be found at: https://www.cityofeverglades.org/Meetings-Agendas
URL:https://visitevergladescity.com/event/planning-zoning-meeting-2-2/2025-04-15/
LOCATION:Everglades City Hall\, 102 Copeland Ave N.\, Everglades City\, FL\, 34139\, United States
CATEGORIES:ECity
ATTACH;FMTTYPE=image/webp:https://visitevergladescity.com/wp-content/uploads/2024/02/Event-Header-Code-PZ-250-1.webp
END:VEVENT
BEGIN:VEVENT
DTSTART;TZID=America/New_York:20250416T093000
DTEND;TZID=America/New_York:20250416T120000
DTSTAMP:20260425T165139
CREATED:20240213T200501Z
LAST-MODIFIED:20240213T200504Z
UID:10000496-1744795800-1744804800@visitevergladescity.com
SUMMARY:Food Pantry
DESCRIPTION:Food is distributed from the rear of Everglades Community Church located at 101 S. Copeland Ave.\, Everglades City. “This institution is an equal opportunity provider.”
URL:https://visitevergladescity.com/event/food-pantry-2/2025-04-16/
LOCATION:Everglades Community Church\, 101 Copeland Ave\, Everglades City\, FL\, 34139\, United States
CATEGORIES:ECity
ATTACH;FMTTYPE=image/webp:https://visitevergladescity.com/wp-content/uploads/2023/11/Food-Pantry-in-Everglades-City.webp
END:VEVENT
BEGIN:VEVENT
DTSTART;TZID=America/New_York:20250417T083000
DTEND;TZID=America/New_York:20250417T100000
DTSTAMP:20260425T165139
CREATED:20250326T142821Z
LAST-MODIFIED:20250326T143200Z
UID:10003822-1744878600-1744884000@visitevergladescity.com
SUMMARY:Ladies’ Coffee at Island Cafe
DESCRIPTION:Ladies Coffee is a casual weekly gathering for women every Thursday at different local breakfast spots or homes. No rules or fees\, just a welcoming space to connect\, forge friendships in a relaxed atmosphere.
URL:https://visitevergladescity.com/event/ladies-coffee-at-island-cafe/2025-04-17/
LOCATION:Island Cafe\, 305 Collier Ave\, Everglades City\, FL\, 34139\, United States
CATEGORIES:Clubs
ATTACH;FMTTYPE=image/jpeg:https://visitevergladescity.com/wp-content/uploads/2023/12/Ladies-Coffee-1000x700-min.jpg
END:VEVENT
BEGIN:VEVENT
DTSTART;TZID=America/New_York:20250417T140000
DTEND;TZID=America/New_York:20250417T150000
DTSTAMP:20260425T165139
CREATED:20240213T201710Z
LAST-MODIFIED:20250801T201628Z
UID:10000371-1744898400-1744902000@visitevergladescity.com
SUMMARY:Third Thursday Talk at the Museum of the Everglades
DESCRIPTION:The Third Thursday Talks hosted by the Museum of the Everglades are geared towards teaching and preserving the history of the area. \nGet all the details at colliermuseums.com.
URL:https://visitevergladescity.com/event/third-thursday-talk-at-the-museum-of-the-everglades-3-2/2025-04-17/
LOCATION:Museum of the Everglades\, 105 Broadway Ave W\, Everglades City\, FL\, 34139\, United States
CATEGORIES:Culture
ATTACH;FMTTYPE=image/png:https://visitevergladescity.com/wp-content/uploads/2023/10/Museum-of-the-Everglades-color-min.png
END:VEVENT
BEGIN:VEVENT
DTSTART;VALUE=DATE:20250418
DTEND;VALUE=DATE:20250419
DTSTAMP:20260425T165139
CREATED:20241211T183724Z
LAST-MODIFIED:20241211T183724Z
UID:10003025-1744934400-1745020799@visitevergladescity.com
SUMMARY:CCPS No School
DESCRIPTION:Collier County Public Schools have no classes today. See the 2024-2025 school calendar for details. \nRecent & upcoming early dismissals and closures: \n\n3/24 No School: Teacher Planning Day\n4/18 No School\n5/23 Early Dismissal: Graduation\n5/26 No School: Memorial Day\n5/30 Early Dismissal: Last Day for Students
URL:https://visitevergladescity.com/event/ccps-no-school-9/
LOCATION:FL
CATEGORIES:School
ATTACH;FMTTYPE=image/jpeg:https://visitevergladescity.com/wp-content/uploads/2024/01/VEC-CCPS-No-School-Notices-2024-2-min.jpg
END:VEVENT
BEGIN:VEVENT
DTSTART;TZID=America/New_York:20250418T100000
DTEND;TZID=America/New_York:20250418T140000
DTSTAMP:20260425T165139
CREATED:20250326T141036Z
LAST-MODIFIED:20251121T220332Z
UID:10003669-1744970400-1744984800@visitevergladescity.com
SUMMARY:Fresh Market
DESCRIPTION:Find farm-fresh produce on Fridays and Sundays from 10 am to 2 pm next to the Everglades City Post Office.
URL:https://visitevergladescity.com/event/fresh-market/2025-04-18/
LOCATION:Everglades City Post Office\, 601 Collier Ave\, Everglades City\, FL\, 34139\, United States
CATEGORIES:Community
ATTACH;FMTTYPE=image/jpeg:https://visitevergladescity.com/wp-content/uploads/2025/03/Farmers-Market.jpg
END:VEVENT
BEGIN:VEVENT
DTSTART;VALUE=DATE:20250419
DTEND;VALUE=DATE:20250428
DTSTAMP:20260425T165139
CREATED:20250404T225250Z
LAST-MODIFIED:20250404T230418Z
UID:10003859-1745020800-1745798399@visitevergladescity.com
SUMMARY:Annual National Park Week
DESCRIPTION:Celebrate National Park Week with a musical journey through Everglades National Park! From April 19th to 27th\, enjoy a variety of events inspired by different music genres\, with entrance fees waived on April 19th to kick off the celebration. Each day features a unique theme\, including Greatest Hits\, Alternative\, Pop\, Nature Songs\, Classic Rock\, Heavy Metal\, Rhythm & Blues\, Dance Music\, and Walkup Songs. \nInfo: https://www.nps.gov/subjects/npscelebrates/nationalpark-week.htm
URL:https://visitevergladescity.com/event/annual-national-park-week-2/2025-04-19/
LOCATION:FL
CATEGORIES:Culture
ATTACH;FMTTYPE=image/webp:https://visitevergladescity.com/wp-content/uploads/2023/11/Everglades-National-Park-1920-x-1050-Depositphotos_133040964_XL-min.webp
END:VEVENT
BEGIN:VEVENT
DTSTART;TZID=America/New_York:20250419T100000
DTEND;TZID=America/New_York:20250419T130000
DTSTAMP:20260425T165139
CREATED:20250210T152625Z
LAST-MODIFIED:20250210T152625Z
UID:10003656-1745056800-1745067600@visitevergladescity.com
SUMMARY:Eggstravaganza
DESCRIPTION:Bring your basket and join us for the Annual Everglades City Eggstravaganza on April 19 from 10 am to 1 pm\, where the fun happens in McLeod Park on Copeland Ave and Hibiscus Street West in Everglades City. This event features 4\,000 candyfilled Easter eggs waiting to be found\, inflatables for the little ones to bounce on\, cash-filled eggs adding an extra thrill to the hunt\, free food to fuel the excitement\, amazing giveaways adding to the joy\, a petting zoo and pony rides for extra fun\, and lots of happy kids enjoying the festivities and creating cherished memories with their families!
URL:https://visitevergladescity.com/event/eggstravaganza/
LOCATION:McLeod Park\, Copeland Ave & Hibiscus St W\,\, Everglades City\, FL\, 34141\, United States
CATEGORIES:Community,Culture
END:VEVENT
END:VCALENDAR