BEGIN:VCALENDAR
VERSION:2.0
PRODID:-//Visit Everglades City - ECPv6.15.20//NONSGML v1.0//EN
CALSCALE:GREGORIAN
METHOD:PUBLISH
X-WR-CALNAME:Visit Everglades City
X-ORIGINAL-URL:https://visitevergladescity.com
X-WR-CALDESC:Events for Visit Everglades City
REFRESH-INTERVAL;VALUE=DURATION:PT1H
X-Robots-Tag:noindex
X-PUBLISHED-TTL:PT1H
BEGIN:VTIMEZONE
TZID:America/New_York
BEGIN:DAYLIGHT
TZOFFSETFROM:-0500
TZOFFSETTO:-0400
TZNAME:EDT
DTSTART:20240310T070000
END:DAYLIGHT
BEGIN:STANDARD
TZOFFSETFROM:-0400
TZOFFSETTO:-0500
TZNAME:EST
DTSTART:20241103T060000
END:STANDARD
BEGIN:DAYLIGHT
TZOFFSETFROM:-0500
TZOFFSETTO:-0400
TZNAME:EDT
DTSTART:20250309T070000
END:DAYLIGHT
BEGIN:STANDARD
TZOFFSETFROM:-0400
TZOFFSETTO:-0500
TZNAME:EST
DTSTART:20251102T060000
END:STANDARD
BEGIN:DAYLIGHT
TZOFFSETFROM:-0500
TZOFFSETTO:-0400
TZNAME:EDT
DTSTART:20260308T070000
END:DAYLIGHT
BEGIN:STANDARD
TZOFFSETFROM:-0400
TZOFFSETTO:-0500
TZNAME:EST
DTSTART:20261101T060000
END:STANDARD
END:VTIMEZONE
BEGIN:VEVENT
DTSTART;TZID=America/New_York:20250504T100000
DTEND;TZID=America/New_York:20250504T140000
DTSTAMP:20260425T224610
CREATED:20250326T141036Z
LAST-MODIFIED:20251121T220332Z
UID:10003674-1746352800-1746367200@visitevergladescity.com
SUMMARY:Fresh Market
DESCRIPTION:Find farm-fresh produce on Fridays and Sundays from 10 am to 2 pm next to the Everglades City Post Office.
URL:https://visitevergladescity.com/event/fresh-market/2025-05-04/
LOCATION:Everglades City Post Office\, 601 Collier Ave\, Everglades City\, FL\, 34139\, United States
CATEGORIES:Community
ATTACH;FMTTYPE=image/jpeg:https://visitevergladescity.com/wp-content/uploads/2025/03/Farmers-Market.jpg
END:VEVENT
BEGIN:VEVENT
DTSTART;TZID=America/New_York:20250506T120000
DTEND;TZID=America/New_York:20250506T150000
DTSTAMP:20260425T224610
CREATED:20250424T172846Z
LAST-MODIFIED:20250424T172918Z
UID:10003880-1746532800-1746543600@visitevergladescity.com
SUMMARY:FWC Virtual Meeting
DESCRIPTION:The Florida Fish and Wildlife Conservation Commission (FWC) is holding a series of virtual public meetings to collect feedback directly from Florida residents on proposed changes to modernize wildlife trapping regulations. Thfwce content covered in all meetings is identical\, and it is not necessary to attend more than one virtual public meeting. \nThese proposed changes will include new regulations that will more closely align with the Association of Fish and Wildlife Agencies’ best management practices\, which ensure that trapping is more humane\, species-specific and efficient. Members of the public can learn more about the proposed changes by going to MyFWC.com/TrappingRules and clicking on the banner that says\, “Learn More.” \nMore information about wildlife trapping’s uses\, the FWC’s process for collecting input on these proposed changes\, answers to frequently asked questions and links to the virtual meetings can be found at MyFWC.com/TrappingRules. This page will also include a link to the FWC’s public commenting tool\, which will go live on May 6.
URL:https://visitevergladescity.com/event/fwc-virtual-meeting-may-6-2025/
LOCATION:FL
CATEGORIES:Community
ATTACH;FMTTYPE=image/webp:https://visitevergladescity.com/wp-content/uploads/2024/04/fwc-LOGO.webp
END:VEVENT
BEGIN:VEVENT
DTSTART;TZID=America/New_York:20250506T143000
DTEND;TZID=America/New_York:20250506T170000
DTSTAMP:20260425T224610
CREATED:20240812T150152Z
LAST-MODIFIED:20240812T150152Z
UID:10002275-1746541800-1746550800@visitevergladescity.com
SUMMARY:Rep. Díaz-Balart’s in EC Office
DESCRIPTION:Every first Tuesday at 2:30 pm\, a member of Congressman Mario Diaz-Balart’s team will be at Everglades City Hall to assist with federal casework\, including USPS\, social security\, veterans’ benefits\, immigration\, and other federal issues.
URL:https://visitevergladescity.com/event/rep-diaz-balarts-in-ec-office/2025-05-06/
LOCATION:Everglades City Hall\, 102 Copeland Ave N.\, Everglades City\, FL\, 34139\, United States
CATEGORIES:ECity
ATTACH;FMTTYPE=image/webp:https://visitevergladescity.com/wp-content/uploads/2024/08/Event-Header-Diaz-Balart-250-1.webp
END:VEVENT
BEGIN:VEVENT
DTSTART;TZID=America/New_York:20250506T190000
DTEND;TZID=America/New_York:20250506T200000
DTSTAMP:20260425T224610
CREATED:20231121T201909Z
LAST-MODIFIED:20231128T191436Z
UID:10000313-1746558000-1746561600@visitevergladescity.com
SUMMARY:City Council Meeting
DESCRIPTION:City Council meetings are held every 1st Tuesday of the month @ 7 PM in the City Council room\, 2nd floor City Hall.  \nThe agenda will be posted here prior to the meeting. https://www.cityofeverglades.org/public-notice\n \nThese meetings will be a Hybrid meeting with some board members present and others present by video conference / Zoom. The bottom of the agenda has instructions on how to join the meeting via Zoom. 
URL:https://visitevergladescity.com/event/city-council-meeting/2025-05-06/
LOCATION:Everglades City Hall\, 102 Copeland Ave N.\, Everglades City\, FL\, 34139\, United States
CATEGORIES:ECity
ATTACH;FMTTYPE=image/jpeg:https://visitevergladescity.com/wp-content/uploads/2023/11/Event-Header-City-Council-Meeting-Square-250-min.jpg
END:VEVENT
BEGIN:VEVENT
DTSTART;TZID=America/New_York:20250507T093000
DTEND;TZID=America/New_York:20250507T120000
DTSTAMP:20260425T224610
CREATED:20240213T200501Z
LAST-MODIFIED:20240213T200504Z
UID:10000499-1746610200-1746619200@visitevergladescity.com
SUMMARY:Food Pantry
DESCRIPTION:Food is distributed from the rear of Everglades Community Church located at 101 S. Copeland Ave.\, Everglades City. “This institution is an equal opportunity provider.”
URL:https://visitevergladescity.com/event/food-pantry-2/2025-05-07/
LOCATION:Everglades Community Church\, 101 Copeland Ave\, Everglades City\, FL\, 34139\, United States
CATEGORIES:ECity
ATTACH;FMTTYPE=image/webp:https://visitevergladescity.com/wp-content/uploads/2023/11/Food-Pantry-in-Everglades-City.webp
END:VEVENT
BEGIN:VEVENT
DTSTART;TZID=America/New_York:20250508T083000
DTEND;TZID=America/New_York:20250508T100000
DTSTAMP:20260425T224610
CREATED:20250326T142821Z
LAST-MODIFIED:20250326T143200Z
UID:10003823-1746693000-1746698400@visitevergladescity.com
SUMMARY:Ladies’ Coffee at Island Cafe
DESCRIPTION:Ladies Coffee is a casual weekly gathering for women every Thursday at different local breakfast spots or homes. No rules or fees\, just a welcoming space to connect\, forge friendships in a relaxed atmosphere.
URL:https://visitevergladescity.com/event/ladies-coffee-at-island-cafe/2025-05-08/
LOCATION:Island Cafe\, 305 Collier Ave\, Everglades City\, FL\, 34139\, United States
CATEGORIES:Clubs
ATTACH;FMTTYPE=image/jpeg:https://visitevergladescity.com/wp-content/uploads/2023/12/Ladies-Coffee-1000x700-min.jpg
END:VEVENT
BEGIN:VEVENT
DTSTART;TZID=America/New_York:20250508T180000
DTEND;TZID=America/New_York:20250508T210000
DTSTAMP:20260425T224610
CREATED:20250424T172955Z
LAST-MODIFIED:20250424T173135Z
UID:10003881-1746727200-1746738000@visitevergladescity.com
SUMMARY:FWC Virtual Meeting
DESCRIPTION:The Florida Fish and Wildlife Conservation Commission (FWC) is holding a series of virtual public meetings to collect feedback directly from Florida residents on proposed changes to modernize wildlife trapping regulations. Thfwce content covered in all meetings is identical\, and it is not necessary to attend more than one virtual public meeting. \nThese proposed changes will include new regulations that will more closely align with the Association of Fish and Wildlife Agencies’ best management practices\, which ensure that trapping is more humane\, species-specific and efficient. Members of the public can learn more about the proposed changes by going to MyFWC.com/TrappingRules and clicking on the banner that says\, “Learn More.” \nMore information about wildlife trapping’s uses\, the FWC’s process for collecting input on these proposed changes\, answers to frequently asked questions and links to the virtual meetings can be found at MyFWC.com/TrappingRules. This page will also include a link to the FWC’s public commenting tool\, which will go live on May 6.
URL:https://visitevergladescity.com/event/fwc-virtual-meeting-may-8-2025/
LOCATION:FL
CATEGORIES:Community
ATTACH;FMTTYPE=image/webp:https://visitevergladescity.com/wp-content/uploads/2024/04/fwc-LOGO.webp
END:VEVENT
BEGIN:VEVENT
DTSTART;TZID=America/New_York:20250509T100000
DTEND;TZID=America/New_York:20250509T140000
DTSTAMP:20260425T224610
CREATED:20250326T141036Z
LAST-MODIFIED:20251121T220332Z
UID:10003675-1746784800-1746799200@visitevergladescity.com
SUMMARY:Fresh Market
DESCRIPTION:Find farm-fresh produce on Fridays and Sundays from 10 am to 2 pm next to the Everglades City Post Office.
URL:https://visitevergladescity.com/event/fresh-market/2025-05-09/
LOCATION:Everglades City Post Office\, 601 Collier Ave\, Everglades City\, FL\, 34139\, United States
CATEGORIES:Community
ATTACH;FMTTYPE=image/jpeg:https://visitevergladescity.com/wp-content/uploads/2025/03/Farmers-Market.jpg
END:VEVENT
BEGIN:VEVENT
DTSTART;TZID=America/New_York:20250509T170000
DTEND;TZID=America/New_York:20250509T190000
DTSTAMP:20260425T224610
CREATED:20250404T231528Z
LAST-MODIFIED:20250404T231528Z
UID:10003861-1746810000-1746817200@visitevergladescity.com
SUMMARY:Opening Reception to Folklore\, Fish Tales\, & Family Stories: Legends of the Everglades
DESCRIPTION:Join us for the opening reception of Folklore\, Fish Tales\, & Family Stories: Legends of the Everglades. In collaboration with our local school\, students have contributed artwork\, photos\, videos\, stories\, and more to celebrate the unique history and culture of our community. This year\, they’ve been challenged to explore myths\, legends\, tall tales\, ghost stories\, and legendary acts from the Everglades\, including stories of colorful characters and family members. The exhibit will also feature historical information and traditional stories to provide context for the students’ creative expressions.
URL:https://visitevergladescity.com/event/opening-reception-to-folklore-fish-tales-family-stories-legends-of-the-everglades/
LOCATION:Museum of the Everglades\, 105 Broadway Ave W\, Everglades City\, FL\, 34139\, United States
CATEGORIES:Culture
ATTACH;FMTTYPE=image/webp:https://visitevergladescity.com/wp-content/uploads/2025/04/Fish-Tales-Exhibit-web.webp
END:VEVENT
BEGIN:VEVENT
DTSTART;TZID=America/New_York:20250510T090000
DTEND;TZID=America/New_York:20250510T120000
DTSTAMP:20260425T224610
CREATED:20250424T173132Z
LAST-MODIFIED:20250424T173132Z
UID:10003882-1746867600-1746878400@visitevergladescity.com
SUMMARY:FWC Virtual Meeting
DESCRIPTION:The Florida Fish and Wildlife Conservation Commission (FWC) is holding a series of virtual public meetings to collect feedback directly from Florida residents on proposed changes to modernize wildlife trapping regulations. Thfwce content covered in all meetings is identical\, and it is not necessary to attend more than one virtual public meeting. \nThese proposed changes will include new regulations that will more closely align with the Association of Fish and Wildlife Agencies’ best management practices\, which ensure that trapping is more humane\, species-specific and efficient. Members of the public can learn more about the proposed changes by going to MyFWC.com/TrappingRules and clicking on the banner that says\, “Learn More.” \nMore information about wildlife trapping’s uses\, the FWC’s process for collecting input on these proposed changes\, answers to frequently asked questions and links to the virtual meetings can be found at MyFWC.com/TrappingRules. This page will also include a link to the FWC’s public commenting tool\, which will go live on May 6.
URL:https://visitevergladescity.com/event/fwc-virtual-meeting-may-10-2025/
LOCATION:FL
CATEGORIES:Community
ATTACH;FMTTYPE=image/webp:https://visitevergladescity.com/wp-content/uploads/2024/04/fwc-LOGO.webp
END:VEVENT
END:VCALENDAR