BEGIN:VCALENDAR
VERSION:2.0
PRODID:-//Visit Everglades City - ECPv6.15.20//NONSGML v1.0//EN
CALSCALE:GREGORIAN
METHOD:PUBLISH
X-ORIGINAL-URL:https://visitevergladescity.com
X-WR-CALDESC:Events for Visit Everglades City
REFRESH-INTERVAL;VALUE=DURATION:PT1H
X-Robots-Tag:noindex
X-PUBLISHED-TTL:PT1H
BEGIN:VTIMEZONE
TZID:America/New_York
BEGIN:DAYLIGHT
TZOFFSETFROM:-0500
TZOFFSETTO:-0400
TZNAME:EDT
DTSTART:20240310T070000
END:DAYLIGHT
BEGIN:STANDARD
TZOFFSETFROM:-0400
TZOFFSETTO:-0500
TZNAME:EST
DTSTART:20241103T060000
END:STANDARD
BEGIN:DAYLIGHT
TZOFFSETFROM:-0500
TZOFFSETTO:-0400
TZNAME:EDT
DTSTART:20250309T070000
END:DAYLIGHT
BEGIN:STANDARD
TZOFFSETFROM:-0400
TZOFFSETTO:-0500
TZNAME:EST
DTSTART:20251102T060000
END:STANDARD
BEGIN:DAYLIGHT
TZOFFSETFROM:-0500
TZOFFSETTO:-0400
TZNAME:EDT
DTSTART:20260308T070000
END:DAYLIGHT
BEGIN:STANDARD
TZOFFSETFROM:-0400
TZOFFSETTO:-0500
TZNAME:EST
DTSTART:20261101T060000
END:STANDARD
END:VTIMEZONE
BEGIN:VEVENT
DTSTART;TZID=America/New_York:20250720T100000
DTEND;TZID=America/New_York:20250720T140000
DTSTAMP:20260425T181517
CREATED:20250326T141036Z
LAST-MODIFIED:20251121T220332Z
UID:10003696-1753005600-1753020000@visitevergladescity.com
SUMMARY:Fresh Market
DESCRIPTION:Find farm-fresh produce on Fridays and Sundays from 10 am to 2 pm next to the Everglades City Post Office.
URL:https://visitevergladescity.com/event/fresh-market/2025-07-20/
LOCATION:Everglades City Post Office\, 601 Collier Ave\, Everglades City\, FL\, 34139\, United States
CATEGORIES:Community
ATTACH;FMTTYPE=image/jpeg:https://visitevergladescity.com/wp-content/uploads/2025/03/Farmers-Market.jpg
END:VEVENT
BEGIN:VEVENT
DTSTART;TZID=America/New_York:20250723T090000
DTEND;TZID=America/New_York:20250723T110000
DTSTAMP:20260425T181517
CREATED:20250210T143639Z
LAST-MODIFIED:20250213T153136Z
UID:10003599-1753261200-1753268400@visitevergladescity.com
SUMMARY:Holy Family Church Outreach Program
DESCRIPTION:Volunteers from SVDP San Marco Conference will have office hours from 9 to 11 am at the Holy Family Church to help those that need financial assistance on the 4th Wednesday of the month. \nPlease make your appointment for the interview in advance by calling (239) 259-4591 or (239) 259-4593. You can also request an appointment via email using the following email address: svdpsanmarco@gmail.com \nWhen contacting us\, please leave your name\, phone number\, and the kind of assistance you are requesting.  Those who have appointments will be contacted prior to the interview.
URL:https://visitevergladescity.com/event/holy-family-church-outreach-program/2025-07-23/
LOCATION:Holy Family Catholic Church\, 200 Datura St E\, Everglades City\, FL\, 34139\, United States
CATEGORIES:Community
ATTACH;FMTTYPE=image/webp:https://visitevergladescity.com/wp-content/uploads/2025/02/Society-of-St-Vincent-de-Paul-San-Marco-Logo.webp
END:VEVENT
BEGIN:VEVENT
DTSTART;TZID=America/New_York:20250723T093000
DTEND;TZID=America/New_York:20250723T120000
DTSTAMP:20260425T181517
CREATED:20240213T200501Z
LAST-MODIFIED:20240213T200504Z
UID:10000510-1753263000-1753272000@visitevergladescity.com
SUMMARY:Food Pantry
DESCRIPTION:Food is distributed from the rear of Everglades Community Church located at 101 S. Copeland Ave.\, Everglades City. “This institution is an equal opportunity provider.”
URL:https://visitevergladescity.com/event/food-pantry-2/2025-07-23/
LOCATION:Everglades Community Church\, 101 Copeland Ave\, Everglades City\, FL\, 34139\, United States
CATEGORIES:ECity
ATTACH;FMTTYPE=image/webp:https://visitevergladescity.com/wp-content/uploads/2023/11/Food-Pantry-in-Everglades-City.webp
END:VEVENT
BEGIN:VEVENT
DTSTART;TZID=America/New_York:20250724T083000
DTEND;TZID=America/New_York:20250724T100000
DTSTAMP:20260425T181517
CREATED:20250404T231902Z
LAST-MODIFIED:20250404T232220Z
UID:10003875-1753345800-1753351200@visitevergladescity.com
SUMMARY:Ladies’ Coffee at City Seafood
DESCRIPTION:Ladies Coffee is a casual weekly gathering for women every Thursday at different local breakfast spots or homes. No rules or fees\, just a welcoming space to connect\, forge friendships in a relaxed atmosphere.
URL:https://visitevergladescity.com/event/ladies-coffee-at-city-seafood-2/2025-07-24/
LOCATION:City Seafood\, 702 Begonia St\, Everglades City\, 34139\, United States
CATEGORIES:Clubs
ATTACH;FMTTYPE=image/jpeg:https://visitevergladescity.com/wp-content/uploads/2023/12/Ladies-Coffee-1000x700-min.jpg
END:VEVENT
BEGIN:VEVENT
DTSTART;TZID=America/New_York:20250725T100000
DTEND;TZID=America/New_York:20250725T140000
DTSTAMP:20260425T181517
CREATED:20250326T141036Z
LAST-MODIFIED:20251121T220332Z
UID:10003697-1753437600-1753452000@visitevergladescity.com
SUMMARY:Fresh Market
DESCRIPTION:Find farm-fresh produce on Fridays and Sundays from 10 am to 2 pm next to the Everglades City Post Office.
URL:https://visitevergladescity.com/event/fresh-market/2025-07-25/
LOCATION:Everglades City Post Office\, 601 Collier Ave\, Everglades City\, FL\, 34139\, United States
CATEGORIES:Community
ATTACH;FMTTYPE=image/jpeg:https://visitevergladescity.com/wp-content/uploads/2025/03/Farmers-Market.jpg
END:VEVENT
BEGIN:VEVENT
DTSTART;TZID=America/New_York:20250726T093000
DTEND;TZID=America/New_York:20250726T233000
DTSTAMP:20260425T181517
CREATED:20250721T191802Z
LAST-MODIFIED:20250721T191802Z
UID:10003885-1753522200-1753572600@visitevergladescity.com
SUMMARY:Fly-In Pancake Breakfast at Everglades Airpark
DESCRIPTION:Fly-In Pancake Breakfast at Everglades Airpark \nDate: July 26\, 2025Time: 9:30 AM – 11:30 AMLocation: Everglades Airpark (X01)\, Everglades City\, FL \nJoin local and visiting pilots for a casual morning fly-in featuring a pancake breakfast at one of the most scenic airparks in Florida. Nestled in the heart of the Everglades\, this event offers a unique opportunity to enjoy breakfast and community with a backdrop of the Everglades. \nPilots can expect a welcoming airstrip and friendly faces. Fuel is available on-site (100LL). CTAF/Unicom: 123.075 MHz. \nFor more details\, contact Paul Sims at 863-207-4731.
URL:https://visitevergladescity.com/event/fly-in-pancake-breakfast-at-everglades-airpark/
LOCATION:Everglades Airpark (X01)
CATEGORIES:Clubs,Community
ATTACH;FMTTYPE=image/webp:https://visitevergladescity.com/wp-content/uploads/2025/07/Pancake-Fly-In-July-26-25-min.webp
END:VEVENT
END:VCALENDAR