BEGIN:VCALENDAR
VERSION:2.0
PRODID:-//Visit Everglades City - ECPv6.15.20//NONSGML v1.0//EN
CALSCALE:GREGORIAN
METHOD:PUBLISH
X-ORIGINAL-URL:https://visitevergladescity.com
X-WR-CALDESC:Events for Visit Everglades City
REFRESH-INTERVAL;VALUE=DURATION:PT1H
X-Robots-Tag:noindex
X-PUBLISHED-TTL:PT1H
BEGIN:VTIMEZONE
TZID:America/New_York
BEGIN:DAYLIGHT
TZOFFSETFROM:-0500
TZOFFSETTO:-0400
TZNAME:EDT
DTSTART:20240310T070000
END:DAYLIGHT
BEGIN:STANDARD
TZOFFSETFROM:-0400
TZOFFSETTO:-0500
TZNAME:EST
DTSTART:20241103T060000
END:STANDARD
BEGIN:DAYLIGHT
TZOFFSETFROM:-0500
TZOFFSETTO:-0400
TZNAME:EDT
DTSTART:20250309T070000
END:DAYLIGHT
BEGIN:STANDARD
TZOFFSETFROM:-0400
TZOFFSETTO:-0500
TZNAME:EST
DTSTART:20251102T060000
END:STANDARD
BEGIN:DAYLIGHT
TZOFFSETFROM:-0500
TZOFFSETTO:-0400
TZNAME:EDT
DTSTART:20260308T070000
END:DAYLIGHT
BEGIN:STANDARD
TZOFFSETFROM:-0400
TZOFFSETTO:-0500
TZNAME:EST
DTSTART:20261101T060000
END:STANDARD
END:VTIMEZONE
BEGIN:VEVENT
DTSTART;TZID=America/New_York:20251130T100000
DTEND;TZID=America/New_York:20251130T140000
DTSTAMP:20260425T111209
CREATED:20250326T141036Z
LAST-MODIFIED:20251121T220332Z
UID:10003734-1764496800-1764511200@visitevergladescity.com
SUMMARY:Fresh Market
DESCRIPTION:Find farm-fresh produce on Fridays and Sundays from 10 am to 2 pm next to the Everglades City Post Office.
URL:https://visitevergladescity.com/event/fresh-market/2025-11-30/
LOCATION:Everglades City Post Office\, 601 Collier Ave\, Everglades City\, FL\, 34139\, United States
CATEGORIES:Community
ATTACH;FMTTYPE=image/jpeg:https://visitevergladescity.com/wp-content/uploads/2025/03/Farmers-Market.jpg
END:VEVENT
BEGIN:VEVENT
DTSTART;TZID=America/New_York:20251202T143000
DTEND;TZID=America/New_York:20251202T170000
DTSTAMP:20260425T111209
CREATED:20240812T150152Z
LAST-MODIFIED:20240812T150152Z
UID:10002282-1764685800-1764694800@visitevergladescity.com
SUMMARY:Rep. Díaz-Balart’s in EC Office
DESCRIPTION:Every first Tuesday at 2:30 pm\, a member of Congressman Mario Diaz-Balart’s team will be at Everglades City Hall to assist with federal casework\, including USPS\, social security\, veterans’ benefits\, immigration\, and other federal issues.
URL:https://visitevergladescity.com/event/rep-diaz-balarts-in-ec-office/2025-12-02/
LOCATION:Everglades City Hall\, 102 Copeland Ave N.\, Everglades City\, FL\, 34139\, United States
CATEGORIES:ECity
ATTACH;FMTTYPE=image/webp:https://visitevergladescity.com/wp-content/uploads/2024/08/Event-Header-Diaz-Balart-250-1.webp
END:VEVENT
BEGIN:VEVENT
DTSTART;TZID=America/New_York:20251202T170000
DTEND;TZID=America/New_York:20251202T200000
DTSTAMP:20260425T111209
CREATED:20251016T214216Z
LAST-MODIFIED:20251016T214216Z
UID:10003937-1764694800-1764705600@visitevergladescity.com
SUMMARY:Boater Class: Boater’s Local Knowledge-Backwater Edition (BW) (Registration Required)
DESCRIPTION:This 3-hour advanced course begins where BLK ends\, providing navigation tools and waterways knowledge for boaters wishing to explore the unique backwaters of the 10\,000 Islands. Instructors provide tracks and routes into the 10\,000 Islands using “on the water” photos and video\, Google Earth\, and navigation charts. This course is recommended for intermediate boaters and above. Top Spot Chart #N204 is required for use during this class. Date/Time: Tuesday\, December 2nd @ 5 PM. \nAll Classes will be held at the US Coast Guard Auxiliary Station\, 903 Collier Court\, Caxambas Park\, Marco Island\, FL 34145. \nFor more information on Fall/Winter 2025 courses or to sign up on our website: https://wow.uscgaux.info/content.php?unit=070-09-05&category=boating-courses \nFor more information about these and other boating courses offered by the US Coast Guard Auxiliary\, contact Public Education Officer\, (239)384-7416 or cgauxcourses@gmail.com \nFor further information about other USCGAux programs\, including complimentary Vessel Safety Examinations\, or how to join the U.S. Coast Guard Auxiliary\, (239) 394-5911 or  www.USCGAuxMarco.org
URL:https://visitevergladescity.com/event/boater-class-boaters-local-knowledge-backwater-edition-bw-registration-required/
LOCATION:FL
CATEGORIES:Community
ATTACH;FMTTYPE=image/webp:https://visitevergladescity.com/wp-content/uploads/2025/01/U.S.-Deptartment-of-Homeland-Security-United-States-Coast-Guard-Auxiliary-Logo.webp
END:VEVENT
BEGIN:VEVENT
DTSTART;TZID=America/New_York:20251202T190000
DTEND;TZID=America/New_York:20251202T200000
DTSTAMP:20260425T111209
CREATED:20231121T201909Z
LAST-MODIFIED:20231128T191436Z
UID:10000320-1764702000-1764705600@visitevergladescity.com
SUMMARY:City Council Meeting
DESCRIPTION:City Council meetings are held every 1st Tuesday of the month @ 7 PM in the City Council room\, 2nd floor City Hall.  \nThe agenda will be posted here prior to the meeting. https://www.cityofeverglades.org/public-notice\n \nThese meetings will be a Hybrid meeting with some board members present and others present by video conference / Zoom. The bottom of the agenda has instructions on how to join the meeting via Zoom. 
URL:https://visitevergladescity.com/event/city-council-meeting/2025-12-02/
LOCATION:Everglades City Hall\, 102 Copeland Ave N.\, Everglades City\, FL\, 34139\, United States
CATEGORIES:ECity
ATTACH;FMTTYPE=image/jpeg:https://visitevergladescity.com/wp-content/uploads/2023/11/Event-Header-City-Council-Meeting-Square-250-min.jpg
END:VEVENT
BEGIN:VEVENT
DTSTART;TZID=America/New_York:20251203T093000
DTEND;TZID=America/New_York:20251203T120000
DTSTAMP:20260425T111209
CREATED:20240213T200501Z
LAST-MODIFIED:20240213T200504Z
UID:10000529-1764754200-1764763200@visitevergladescity.com
SUMMARY:Food Pantry
DESCRIPTION:Food is distributed from the rear of Everglades Community Church located at 101 S. Copeland Ave.\, Everglades City. “This institution is an equal opportunity provider.”
URL:https://visitevergladescity.com/event/food-pantry-2/2025-12-03/
LOCATION:Everglades Community Church\, 101 Copeland Ave\, Everglades City\, FL\, 34139\, United States
CATEGORIES:ECity
ATTACH;FMTTYPE=image/webp:https://visitevergladescity.com/wp-content/uploads/2023/11/Food-Pantry-in-Everglades-City.webp
END:VEVENT
BEGIN:VEVENT
DTSTART;TZID=America/New_York:20251205T100000
DTEND;TZID=America/New_York:20251205T140000
DTSTAMP:20260425T111209
CREATED:20250326T141036Z
LAST-MODIFIED:20251121T220332Z
UID:10003735-1764928800-1764943200@visitevergladescity.com
SUMMARY:Fresh Market
DESCRIPTION:Find farm-fresh produce on Fridays and Sundays from 10 am to 2 pm next to the Everglades City Post Office.
URL:https://visitevergladescity.com/event/fresh-market/2025-12-05/
LOCATION:Everglades City Post Office\, 601 Collier Ave\, Everglades City\, FL\, 34139\, United States
CATEGORIES:Community
ATTACH;FMTTYPE=image/jpeg:https://visitevergladescity.com/wp-content/uploads/2025/03/Farmers-Market.jpg
END:VEVENT
BEGIN:VEVENT
DTSTART;TZID=America/New_York:20251205T170000
DTEND;TZID=America/New_York:20251205T180000
DTSTAMP:20260425T111209
CREATED:20251202T012251Z
LAST-MODIFIED:20251202T012251Z
UID:10003938-1764954000-1764957600@visitevergladescity.com
SUMMARY:Rod & Gun First Friday Social
DESCRIPTION:Step inside the Historic Bar at the Rod & Gun Club for an easygoing community get-together. On December 5 and January 2 at 5pm\, locals and longtime friends gather to share stories\, swap memories\, and enjoy the kind of Old Florida atmosphere that only the Rod & Gun can offer. \nCome spend an evening “where history\, community\, and the Everglades meet.” \n 
URL:https://visitevergladescity.com/event/rod-gun-first-friday-social/2025-12-05/
LOCATION:Rod & Gun Club\, 200 Riverside Drive\, Everglades City\, FL\, 34139\, United States
CATEGORIES:Community,Culture,ECity
ATTACH;FMTTYPE=image/jpeg:https://visitevergladescity.com/wp-content/uploads/2025/12/Rod-Gun-Social-min.jpg
END:VEVENT
BEGIN:VEVENT
DTSTART;TZID=America/New_York:20251206T100000
DTEND;TZID=America/New_York:20251206T153000
DTSTAMP:20260425T111209
CREATED:20251203T104651Z
LAST-MODIFIED:20251203T104651Z
UID:10003956-1765015200-1765035000@visitevergladescity.com
SUMMARY:2026 Swamp Heritage Festival
DESCRIPTION:Mark your calendars! The Swamp Heritage Festival returns on December 6!\n\n\nThis annual event celebrates the deep natural and cultural roots of Big Cypress National Preserve and the generations of people who have called the swamp home.\n\n\n\nThis year’s theme\, “Art Meets the Wild\,” highlights the creativity inspired by this landscape. Enjoy artist demonstrations\, cultural presentations\, storytelling\, hands-on activities\, and more – all connected to the traditions of Big Cypress.\n\n\n\nJoin us at the Nathaniel P. Reed Visitor Center grounds for this free\, family-friendly celebration. We can’t wait to welcome you!
URL:https://visitevergladescity.com/event/2026-swamp-heritage-festival/
LOCATION:Nathaniel P. Reed Visitor Center\, 33000 Tamiami Trl East\, Ochopee\, 34141\, United States
ATTACH;FMTTYPE=image/jpeg:https://visitevergladescity.com/wp-content/uploads/2025/12/Swamp-Heritage-Festival-2025.jpg
END:VEVENT
END:VCALENDAR