BEGIN:VCALENDAR
VERSION:2.0
PRODID:-//Visit Everglades City - ECPv6.15.20//NONSGML v1.0//EN
CALSCALE:GREGORIAN
METHOD:PUBLISH
X-ORIGINAL-URL:https://visitevergladescity.com
X-WR-CALDESC:Events for Visit Everglades City
REFRESH-INTERVAL;VALUE=DURATION:PT1H
X-Robots-Tag:noindex
X-PUBLISHED-TTL:PT1H
BEGIN:VTIMEZONE
TZID:America/New_York
BEGIN:DAYLIGHT
TZOFFSETFROM:-0500
TZOFFSETTO:-0400
TZNAME:EDT
DTSTART:20240310T070000
END:DAYLIGHT
BEGIN:STANDARD
TZOFFSETFROM:-0400
TZOFFSETTO:-0500
TZNAME:EST
DTSTART:20241103T060000
END:STANDARD
BEGIN:DAYLIGHT
TZOFFSETFROM:-0500
TZOFFSETTO:-0400
TZNAME:EDT
DTSTART:20250309T070000
END:DAYLIGHT
BEGIN:STANDARD
TZOFFSETFROM:-0400
TZOFFSETTO:-0500
TZNAME:EST
DTSTART:20251102T060000
END:STANDARD
BEGIN:DAYLIGHT
TZOFFSETFROM:-0500
TZOFFSETTO:-0400
TZNAME:EDT
DTSTART:20260308T070000
END:DAYLIGHT
BEGIN:STANDARD
TZOFFSETFROM:-0400
TZOFFSETTO:-0500
TZNAME:EST
DTSTART:20261101T060000
END:STANDARD
END:VTIMEZONE
BEGIN:VEVENT
DTSTART;TZID=America/New_York:20251214T100000
DTEND;TZID=America/New_York:20251214T140000
DTSTAMP:20260424T034805
CREATED:20250326T141036Z
LAST-MODIFIED:20251121T220332Z
UID:10003738-1765706400-1765720800@visitevergladescity.com
SUMMARY:Fresh Market
DESCRIPTION:Find farm-fresh produce on Fridays and Sundays from 10 am to 2 pm next to the Everglades City Post Office.
URL:https://visitevergladescity.com/event/fresh-market/2025-12-14/
LOCATION:Everglades City Post Office\, 601 Collier Ave\, Everglades City\, FL\, 34139\, United States
CATEGORIES:Community
ATTACH;FMTTYPE=image/jpeg:https://visitevergladescity.com/wp-content/uploads/2025/03/Farmers-Market.jpg
END:VEVENT
BEGIN:VEVENT
DTSTART;TZID=America/New_York:20251216T180000
DTEND;TZID=America/New_York:20251216T190000
DTSTAMP:20260424T034805
CREATED:20240812T143154Z
LAST-MODIFIED:20240812T143230Z
UID:10000259-1765908000-1765911600@visitevergladescity.com
SUMMARY:Code Enforcement & Planning & Zoning Meetings
DESCRIPTION:Code Enforcement and Planning & Zoning meetings are held monthly on the 3rd Tuesday of the month. City Council room\, 2nd floor City Hall. \nThese meetings will be a Hybrid meeting with some board members present and others present by video conference / Zoom.  The bottom of the agenda has instructions on how to join the meeting via Zoom.  The Agenda can be found at: https://www.cityofeverglades.org/Meetings-Agendas
URL:https://visitevergladescity.com/event/planning-zoning-meeting-2-2/2025-12-16/
LOCATION:Everglades City Hall\, 102 Copeland Ave N.\, Everglades City\, FL\, 34139\, United States
CATEGORIES:ECity
ATTACH;FMTTYPE=image/webp:https://visitevergladescity.com/wp-content/uploads/2024/02/Event-Header-Code-PZ-250-1.webp
END:VEVENT
BEGIN:VEVENT
DTSTART;TZID=America/New_York:20251216T180000
DTEND;TZID=America/New_York:20251216T200000
DTSTAMP:20260424T034805
CREATED:20251217T094550Z
LAST-MODIFIED:20251217T094550Z
UID:10003960-1765908000-1765915200@visitevergladescity.com
SUMMARY:Christmas Golf Cart Parade & Tree Lighting in Goodland
DESCRIPTION:Kick off the holiday season in true Goodland style with a festive Christmas Golf Cart Parade & Tree Lighting at Margood Harbor Park Pavilion. Decorated golf carts will roll by\, spreading cheer as neighbors and visitors gather for an evening of lights\, music\, and community fun. \nAfter the parade\, enjoy the official tree lighting\, holiday caroling\, and a cozy hometown atmosphere that makes Goodland special. Golf cart owners are encouraged to join the decorating contest\, and everyone is invited to bring cookies to share. This family-friendly celebration is a perfect way to slow down\, connect\, and enjoy the magic of the season by the water. \nHosted by the Goodland Civic Association.
URL:https://visitevergladescity.com/event/christmas-golf-cart-parade-tree-lighting-in-goodland/
LOCATION:FL
ATTACH;FMTTYPE=image/jpeg:https://visitevergladescity.com/wp-content/uploads/2025/12/Christmas-Tree-Lighting-Goodland-2025-scaled.jpg
END:VEVENT
BEGIN:VEVENT
DTSTART;TZID=America/New_York:20251217T093000
DTEND;TZID=America/New_York:20251217T120000
DTSTAMP:20260424T034805
CREATED:20240213T200501Z
LAST-MODIFIED:20240213T200504Z
UID:10000531-1765963800-1765972800@visitevergladescity.com
SUMMARY:Food Pantry
DESCRIPTION:Food is distributed from the rear of Everglades Community Church located at 101 S. Copeland Ave.\, Everglades City. “This institution is an equal opportunity provider.”
URL:https://visitevergladescity.com/event/food-pantry-2/2025-12-17/
LOCATION:Everglades Community Church\, 101 Copeland Ave\, Everglades City\, FL\, 34139\, United States
CATEGORIES:ECity
ATTACH;FMTTYPE=image/webp:https://visitevergladescity.com/wp-content/uploads/2023/11/Food-Pantry-in-Everglades-City.webp
END:VEVENT
BEGIN:VEVENT
DTSTART;TZID=America/New_York:20251217T183000
DTEND;TZID=America/New_York:20251217T200000
DTSTAMP:20260424T034805
CREATED:20251208T100819Z
LAST-MODIFIED:20251208T101607Z
UID:10003958-1765996200-1766001600@visitevergladescity.com
SUMMARY:Charcuterie Christmas Party at Chokoloskee Family Church
DESCRIPTION:Bring your best charcuterie Christmas platter and you could win $100 for first place. Or bring your favorite dish and come enjoy some great fellowship.
URL:https://visitevergladescity.com/event/charcuterie-christmas-party-at-chokoloskee-family-church/
LOCATION:Chokoloskee Family Church Of God\, 1236 Demere Ln\, Chokoloskee\, FL\, 34138\, United States
CATEGORIES:Community,Worship
ATTACH;FMTTYPE=image/jpeg:https://visitevergladescity.com/wp-content/uploads/2025/12/christmas_wallpaper_3.jpg
END:VEVENT
BEGIN:VEVENT
DTSTART;TZID=America/New_York:20251218T140000
DTEND;TZID=America/New_York:20251218T150000
DTSTAMP:20260424T034806
CREATED:20251010T203455Z
LAST-MODIFIED:20251010T203456Z
UID:10000379-1766066400-1766070000@visitevergladescity.com
SUMMARY:Third Thursday Talk at the Museum of the Everglades
DESCRIPTION:The Third Thursday Talks hosted by the Museum of the Everglades are geared towards teaching and preserving the history of the area. \nDecember 18 – Dignitaries on the Dais\nOn December 6th\, 1947\, President Harry Truman arrived at the Everglades City airport and addressed an audience assembled on bleachers borrowed from the Ringling Brothers Circus in Sarasota. The occasion was the dedication of Everglades National Park. \nWhile the enabling legislation to create the Park had been enacted in 1924 under Franklin Roosevelt\, it had taken more than a decade for the seemingly endless list of tasks from land acquisition to the writing of policies to be completed for what would be just the sixth National Park. It was an auspicious event — but not one without controversy\, both internal and external. \nThe dignitaries who joined the President on the dais — adorned with palm fronds and decorated with open crates of oranges — came from all walks of life: politics\, journalism\, military\, horticulture\, conservation\, religion\, and more. Leaders of the Seminole Tribe rubbed elbows with author Marjory Stoneman Douglas and orchid collector turner “Daddy of the Park” Ernest F. Coe. \nMuseum Manager Thomas Lockyear will share the stories of the VIPs in attendance\, some of whom addressed the audience\, others who we singled out for their contributions to the project and still more who might have gone unnoticed but were nonetheless crucial components in the thirteen-year effort to preserve the country’s largest wetland — the only Everglades in the world. \nGet all the details at colliermuseums.com.
URL:https://visitevergladescity.com/event/third-thursday-talk-at-the-museum-of-the-everglades-3-2-4/
LOCATION:Museum of the Everglades\, 105 Broadway Ave W\, Everglades City\, FL\, 34139\, United States
CATEGORIES:Culture
ATTACH;FMTTYPE=image/png:https://visitevergladescity.com/wp-content/uploads/2023/10/Museum-of-the-Everglades-color-min.png
END:VEVENT
BEGIN:VEVENT
DTSTART;TZID=America/New_York:20251219T100000
DTEND;TZID=America/New_York:20251219T140000
DTSTAMP:20260424T034806
CREATED:20250326T141036Z
LAST-MODIFIED:20251121T220332Z
UID:10003739-1766138400-1766152800@visitevergladescity.com
SUMMARY:Fresh Market
DESCRIPTION:Find farm-fresh produce on Fridays and Sundays from 10 am to 2 pm next to the Everglades City Post Office.
URL:https://visitevergladescity.com/event/fresh-market/2025-12-19/
LOCATION:Everglades City Post Office\, 601 Collier Ave\, Everglades City\, FL\, 34139\, United States
CATEGORIES:Community
ATTACH;FMTTYPE=image/jpeg:https://visitevergladescity.com/wp-content/uploads/2025/03/Farmers-Market.jpg
END:VEVENT
END:VCALENDAR