BEGIN:VCALENDAR
VERSION:2.0
PRODID:-//Visit Everglades City - ECPv6.15.20//NONSGML v1.0//EN
CALSCALE:GREGORIAN
METHOD:PUBLISH
X-WR-CALNAME:Visit Everglades City
X-ORIGINAL-URL:https://visitevergladescity.com
X-WR-CALDESC:Events for Visit Everglades City
REFRESH-INTERVAL;VALUE=DURATION:PT1H
X-Robots-Tag:noindex
X-PUBLISHED-TTL:PT1H
BEGIN:VTIMEZONE
TZID:America/New_York
BEGIN:DAYLIGHT
TZOFFSETFROM:-0500
TZOFFSETTO:-0400
TZNAME:EDT
DTSTART:20240310T070000
END:DAYLIGHT
BEGIN:STANDARD
TZOFFSETFROM:-0400
TZOFFSETTO:-0500
TZNAME:EST
DTSTART:20241103T060000
END:STANDARD
BEGIN:DAYLIGHT
TZOFFSETFROM:-0500
TZOFFSETTO:-0400
TZNAME:EDT
DTSTART:20250309T070000
END:DAYLIGHT
BEGIN:STANDARD
TZOFFSETFROM:-0400
TZOFFSETTO:-0500
TZNAME:EST
DTSTART:20251102T060000
END:STANDARD
BEGIN:DAYLIGHT
TZOFFSETFROM:-0500
TZOFFSETTO:-0400
TZNAME:EDT
DTSTART:20260308T070000
END:DAYLIGHT
BEGIN:STANDARD
TZOFFSETFROM:-0400
TZOFFSETTO:-0500
TZNAME:EST
DTSTART:20261101T060000
END:STANDARD
BEGIN:DAYLIGHT
TZOFFSETFROM:-0500
TZOFFSETTO:-0400
TZNAME:EDT
DTSTART:20270314T070000
END:DAYLIGHT
BEGIN:STANDARD
TZOFFSETFROM:-0400
TZOFFSETTO:-0500
TZNAME:EST
DTSTART:20271107T060000
END:STANDARD
END:VTIMEZONE
BEGIN:VEVENT
DTSTART;VALUE=DATE:20251222
DTEND;VALUE=DATE:20260106
DTSTAMP:20260423T200648
CREATED:20250814T221450Z
LAST-MODIFIED:20250814T221450Z
UID:10003910-1766361600-1767657599@visitevergladescity.com
SUMMARY:CCPS No School
DESCRIPTION:Collier County Public Schools have no classes today. See the 2025-2026 school calendar for details. \nRecent & upcoming early dismissals and closures: \n\n12/22-31 No School: Winter Break\n1/1-2 No School: Winter Break\n1/5  No School: Teacher Plan Day\n1/19 No School: Martin Luther King Day\n2/11 Early Dismissal: Professional Learning for Teachers\n2/16 No School: President’s Day\n3/6 No School: Teacher Plan Day\n3/9-13 No School: Spring Break\n3/25 Early Dismissal: Professional Learning for Teachers\n4/3 No School\n5/22 Early Dismissal: Graduation Week\n5/25 No School: Memorial Day\n5/29 Early Dismissal: Last Day for Students
URL:https://visitevergladescity.com/event/ccps-no-school-16/
LOCATION:Everglades City School\, 415 E School Dr\, Everglades City\, FL\, 34139\, United States
CATEGORIES:School
ATTACH;FMTTYPE=image/jpeg:https://visitevergladescity.com/wp-content/uploads/2024/01/VEC-CCPS-No-School-Notices-2024-2-min.jpg
END:VEVENT
BEGIN:VEVENT
DTSTART;TZID=America/New_York:20260104T100000
DTEND;TZID=America/New_York:20260104T140000
DTSTAMP:20260423T200648
CREATED:20250326T141036Z
LAST-MODIFIED:20251121T220332Z
UID:10003744-1767520800-1767535200@visitevergladescity.com
SUMMARY:Fresh Market
DESCRIPTION:Find farm-fresh produce on Fridays and Sundays from 10 am to 2 pm next to the Everglades City Post Office.
URL:https://visitevergladescity.com/event/fresh-market/2026-01-04/
LOCATION:Everglades City Post Office\, 601 Collier Ave\, Everglades City\, FL\, 34139\, United States
CATEGORIES:Community
ATTACH;FMTTYPE=image/jpeg:https://visitevergladescity.com/wp-content/uploads/2025/03/Farmers-Market.jpg
END:VEVENT
BEGIN:VEVENT
DTSTART;TZID=America/New_York:20260106T103000
DTEND;TZID=America/New_York:20260106T133000
DTSTAMP:20260423T200648
CREATED:20251202T012909Z
LAST-MODIFIED:20260130T151759Z
UID:10003952-1767695400-1767706200@visitevergladescity.com
SUMMARY:First Tuesday – Guided Walking Tour & Lunch
DESCRIPTION:Experience Everglades City’s history up close while supporting the Historic Bank of Everglades Building Fundraising Project. This small-group tour (limited to just 12 people) includes a guided walk through key historic sites\, lunch at the iconic Rod & Gun Club\, and a bag of goodies from the Welcome Center. \nCost: $150 per personDiscount available for MembersReservations required. \nEmail: snookcity@gmail.comCall/Text: (239) 719-0020
URL:https://visitevergladescity.com/event/first-tuesday-guided-walking-tour-lunch/2026-01-06/
LOCATION:Bank of Everglades\, 201 Broadway Ave W\, Ochopee\, FL\, 34141\, United States
CATEGORIES:ECity,Fundraiser
ATTACH;FMTTYPE=image/jpeg:https://visitevergladescity.com/wp-content/uploads/2025/12/First-Tuesday-scaled.jpg
END:VEVENT
BEGIN:VEVENT
DTSTART;TZID=America/New_York:20260106T143000
DTEND;TZID=America/New_York:20260106T170000
DTSTAMP:20260423T200648
CREATED:20240812T150152Z
LAST-MODIFIED:20240812T150152Z
UID:10002283-1767709800-1767718800@visitevergladescity.com
SUMMARY:Rep. Díaz-Balart’s in EC Office
DESCRIPTION:Every first Tuesday at 2:30 pm\, a member of Congressman Mario Diaz-Balart’s team will be at Everglades City Hall to assist with federal casework\, including USPS\, social security\, veterans’ benefits\, immigration\, and other federal issues.
URL:https://visitevergladescity.com/event/rep-diaz-balarts-in-ec-office/2026-01-06/
LOCATION:Everglades City Hall\, 102 Copeland Ave N.\, Everglades City\, FL\, 34139\, United States
CATEGORIES:ECity
ATTACH;FMTTYPE=image/webp:https://visitevergladescity.com/wp-content/uploads/2024/08/Event-Header-Diaz-Balart-250-1.webp
END:VEVENT
BEGIN:VEVENT
DTSTART;TZID=America/New_York:20260106T190000
DTEND;TZID=America/New_York:20260106T200000
DTSTAMP:20260423T200648
CREATED:20231121T201909Z
LAST-MODIFIED:20231128T191436Z
UID:10000321-1767726000-1767729600@visitevergladescity.com
SUMMARY:City Council Meeting
DESCRIPTION:City Council meetings are held every 1st Tuesday of the month @ 7 PM in the City Council room\, 2nd floor City Hall.  \nThe agenda will be posted here prior to the meeting. https://www.cityofeverglades.org/public-notice\n \nThese meetings will be a Hybrid meeting with some board members present and others present by video conference / Zoom. The bottom of the agenda has instructions on how to join the meeting via Zoom. 
URL:https://visitevergladescity.com/event/city-council-meeting/2026-01-06/
LOCATION:Everglades City Hall\, 102 Copeland Ave N.\, Everglades City\, FL\, 34139\, United States
CATEGORIES:ECity
ATTACH;FMTTYPE=image/jpeg:https://visitevergladescity.com/wp-content/uploads/2023/11/Event-Header-City-Council-Meeting-Square-250-min.jpg
END:VEVENT
BEGIN:VEVENT
DTSTART;TZID=America/New_York:20260107T093000
DTEND;TZID=America/New_York:20260107T120000
DTSTAMP:20260423T200648
CREATED:20240213T200501Z
LAST-MODIFIED:20240213T200504Z
UID:10000534-1767778200-1767787200@visitevergladescity.com
SUMMARY:Food Pantry
DESCRIPTION:Food is distributed from the rear of Everglades Community Church located at 101 S. Copeland Ave.\, Everglades City. “This institution is an equal opportunity provider.”
URL:https://visitevergladescity.com/event/food-pantry-2/2026-01-07/
LOCATION:Everglades Community Church\, 101 Copeland Ave\, Everglades City\, FL\, 34139\, United States
CATEGORIES:ECity
ATTACH;FMTTYPE=image/webp:https://visitevergladescity.com/wp-content/uploads/2023/11/Food-Pantry-in-Everglades-City.webp
END:VEVENT
BEGIN:VEVENT
DTSTART;TZID=America/New_York:20260109T100000
DTEND;TZID=America/New_York:20260109T140000
DTSTAMP:20260423T200648
CREATED:20250326T141036Z
LAST-MODIFIED:20251121T220332Z
UID:10003745-1767952800-1767967200@visitevergladescity.com
SUMMARY:Fresh Market
DESCRIPTION:Find farm-fresh produce on Fridays and Sundays from 10 am to 2 pm next to the Everglades City Post Office.
URL:https://visitevergladescity.com/event/fresh-market/2026-01-09/
LOCATION:Everglades City Post Office\, 601 Collier Ave\, Everglades City\, FL\, 34139\, United States
CATEGORIES:Community
ATTACH;FMTTYPE=image/jpeg:https://visitevergladescity.com/wp-content/uploads/2025/03/Farmers-Market.jpg
END:VEVENT
END:VCALENDAR