BEGIN:VCALENDAR
VERSION:2.0
PRODID:-//Visit Everglades City - ECPv6.15.20//NONSGML v1.0//EN
CALSCALE:GREGORIAN
METHOD:PUBLISH
X-ORIGINAL-URL:https://visitevergladescity.com
X-WR-CALDESC:Events for Visit Everglades City
REFRESH-INTERVAL;VALUE=DURATION:PT1H
X-Robots-Tag:noindex
X-PUBLISHED-TTL:PT1H
BEGIN:VTIMEZONE
TZID:America/New_York
BEGIN:DAYLIGHT
TZOFFSETFROM:-0500
TZOFFSETTO:-0400
TZNAME:EDT
DTSTART:20250309T070000
END:DAYLIGHT
BEGIN:STANDARD
TZOFFSETFROM:-0400
TZOFFSETTO:-0500
TZNAME:EST
DTSTART:20251102T060000
END:STANDARD
BEGIN:DAYLIGHT
TZOFFSETFROM:-0500
TZOFFSETTO:-0400
TZNAME:EDT
DTSTART:20260308T070000
END:DAYLIGHT
BEGIN:STANDARD
TZOFFSETFROM:-0400
TZOFFSETTO:-0500
TZNAME:EST
DTSTART:20261101T060000
END:STANDARD
BEGIN:DAYLIGHT
TZOFFSETFROM:-0500
TZOFFSETTO:-0400
TZNAME:EDT
DTSTART:20270314T070000
END:DAYLIGHT
BEGIN:STANDARD
TZOFFSETFROM:-0400
TZOFFSETTO:-0500
TZNAME:EST
DTSTART:20271107T060000
END:STANDARD
END:VTIMEZONE
BEGIN:VEVENT
DTSTART;TZID=America/New_York:20260215T080000
DTEND;TZID=America/New_York:20260215T110000
DTSTAMP:20260423T162021
CREATED:20260128T060027Z
LAST-MODIFIED:20260128T060356Z
UID:10004178-1771142400-1771153200@visitevergladescity.com
SUMMARY:GCA Pancake Breakfast
DESCRIPTION:Join us in Goodland for ALL YOU CAN EAT delicious pancakes\, sausage\, coffee and orange juice served up by some of the sweetest Goodlanders in the village! \n$8 for Adults | $3 for Children \nGoodland Community Center 417 Mango Avenue\, Goodland.
URL:https://visitevergladescity.com/event/gca-pancake-breakfast-2/2026-02-15/
LOCATION:Goodland Community Center\, 417 Mango Avenue\, Goodland\, FL\, 34140\, United States
CATEGORIES:Community,Culture
ATTACH;FMTTYPE=image/jpeg:https://visitevergladescity.com/wp-content/uploads/2026/01/FB_IMG_1769578736078.jpg
END:VEVENT
BEGIN:VEVENT
DTSTART;TZID=America/New_York:20260215T100000
DTEND;TZID=America/New_York:20260215T140000
DTSTAMP:20260423T162021
CREATED:20250326T141036Z
LAST-MODIFIED:20251121T220332Z
UID:10003756-1771149600-1771164000@visitevergladescity.com
SUMMARY:Fresh Market
DESCRIPTION:Find farm-fresh produce on Fridays and Sundays from 10 am to 2 pm next to the Everglades City Post Office.
URL:https://visitevergladescity.com/event/fresh-market/2026-02-15/
LOCATION:Everglades City Post Office\, 601 Collier Ave\, Everglades City\, FL\, 34139\, United States
CATEGORIES:Community
ATTACH;FMTTYPE=image/jpeg:https://visitevergladescity.com/wp-content/uploads/2025/03/Farmers-Market.jpg
END:VEVENT
BEGIN:VEVENT
DTSTART;TZID=America/New_York:20260215T110000
DTEND;TZID=America/New_York:20260215T180000
DTSTAMP:20260423T162021
CREATED:20260121T024559Z
LAST-MODIFIED:20260121T024752Z
UID:10003988-1771153200-1771178400@visitevergladescity.com
SUMMARY:56th Annual Everglades Seafood Festival
DESCRIPTION:Sunday wraps up the 56th Annual Everglades Seafood Festival with a relaxed\, community-focused day in Everglades City. Presented by the Florida Stone Crabbers Association (FLSCA)\, the final day takes place just outside Everglades City Hall at 102 Copeland Ave. North. \nSunday is known for its easygoing pace\, blending live music throughout the day with seafood\, artisan vendors\, merchandise booths\, beverages\, and carnival rides. It’s a favorite day for families and visitors looking to enjoy the festival atmosphere before heading home. \nSunday 02/15\n11 am – 6 pm \nThings to Know \n\nThis is a high-attendance event with large crowds\nNo lawn chairs\, coolers\, or pets permitted\nBeverage and carnival ride tickets are cash only\nATMs available onsite\n\nSunday Entertainment Schedule\nEmcee: Gator Nate \n11:00–11:45 am Chokoloskee Church Worship Band\n12:00–1:00 pm Jorden Guess\n1:30–2:30 pm Wes Shipp\n3:00–4:00 pm Charlie Pace Band\n4:30–6:00 pm Meet Loaf (Meat Loaf Tribute) \nMore Info: https://evergladesseafoodfestival.org/
URL:https://visitevergladescity.com/event/56th-annual-everglades-seafood-festival-sunday/
LOCATION:Everglades City Hall\, 102 Copeland Ave N.\, Everglades City\, FL\, 34139\, United States
CATEGORIES:Culture,Fundraiser
ATTACH;FMTTYPE=image/webp:https://visitevergladescity.com/wp-content/uploads/2025/01/Seafood-WEB.webp
ORGANIZER;CN="Florida Stone Crabbers Association":MAILTO:store@stonecrabbers.com
END:VEVENT
BEGIN:VEVENT
DTSTART;VALUE=DATE:20260216
DTEND;VALUE=DATE:20260217
DTSTAMP:20260423T162021
CREATED:20250814T221716Z
LAST-MODIFIED:20250814T221716Z
UID:10003913-1771200000-1771286399@visitevergladescity.com
SUMMARY:CCPS No School
DESCRIPTION:Collier County Public Schools have no classes today. See the 2025-2026 school calendar for details. \nRecent & upcoming early dismissals and closures: \n\n2/16 No School: President’s Day\n3/6 No School: Teacher Plan Day\n3/9-13 No School: Spring Break\n3/25 Early Dismissal: Professional Learning for Teachers\n4/3 No School\n5/22 Early Dismissal: Graduation Week\n5/25 No School: Memorial Day\n5/29 Early Dismissal: Last Day for Students
URL:https://visitevergladescity.com/event/ccps-no-school-18/
LOCATION:Everglades City School\, 415 E School Dr\, Everglades City\, FL\, 34139\, United States
CATEGORIES:School
ATTACH;FMTTYPE=image/jpeg:https://visitevergladescity.com/wp-content/uploads/2024/01/VEC-CCPS-No-School-Notices-2024-2-min.jpg
END:VEVENT
BEGIN:VEVENT
DTSTART;TZID=America/New_York:20260217T180000
DTEND;TZID=America/New_York:20260217T190000
DTSTAMP:20260423T162021
CREATED:20240812T143154Z
LAST-MODIFIED:20240812T143230Z
UID:10000261-1771351200-1771354800@visitevergladescity.com
SUMMARY:Code Enforcement & Planning & Zoning Meetings
DESCRIPTION:Code Enforcement and Planning & Zoning meetings are held monthly on the 3rd Tuesday of the month. City Council room\, 2nd floor City Hall. \nThese meetings will be a Hybrid meeting with some board members present and others present by video conference / Zoom.  The bottom of the agenda has instructions on how to join the meeting via Zoom.  The Agenda can be found at: https://www.cityofeverglades.org/Meetings-Agendas
URL:https://visitevergladescity.com/event/planning-zoning-meeting-2-2/2026-02-17/
LOCATION:Everglades City Hall\, 102 Copeland Ave N.\, Everglades City\, FL\, 34139\, United States
CATEGORIES:ECity
ATTACH;FMTTYPE=image/webp:https://visitevergladescity.com/wp-content/uploads/2024/02/Event-Header-Code-PZ-250-1.webp
END:VEVENT
BEGIN:VEVENT
DTSTART;TZID=America/New_York:20260218T093000
DTEND;TZID=America/New_York:20260218T120000
DTSTAMP:20260423T162021
CREATED:20240213T200501Z
LAST-MODIFIED:20240213T200504Z
UID:10000540-1771407000-1771416000@visitevergladescity.com
SUMMARY:Food Pantry
DESCRIPTION:Food is distributed from the rear of Everglades Community Church located at 101 S. Copeland Ave.\, Everglades City. “This institution is an equal opportunity provider.”
URL:https://visitevergladescity.com/event/food-pantry-2/2026-02-18/
LOCATION:Everglades Community Church\, 101 Copeland Ave\, Everglades City\, FL\, 34139\, United States
CATEGORIES:ECity
ATTACH;FMTTYPE=image/webp:https://visitevergladescity.com/wp-content/uploads/2023/11/Food-Pantry-in-Everglades-City.webp
END:VEVENT
BEGIN:VEVENT
DTSTART;TZID=America/New_York:20260219T083000
DTEND;TZID=America/New_York:20260219T100000
DTSTAMP:20260423T162021
CREATED:20260203T103505Z
LAST-MODIFIED:20260203T103907Z
UID:10003846-1771489800-1771495200@visitevergladescity.com
SUMMARY:Ladies’ Coffee at HavAnnA Cafe
DESCRIPTION:Ladies Coffee is a laid-back weekly gathering for women who enjoy good conversation\, familiar faces\, and the discovery of new friendships over breakfast and coffee. There’s no agenda\, no dues\, and no pressure — just an open seat at the table and a welcoming group. \nEach week\, the group rotates between four local favorites: \n\nCity Seafood\nDulce’s\nHavAnna Café\nIsland Café\n\nThursdays at 8:30 AM
URL:https://visitevergladescity.com/event/ladies-coffee-at-havanna-cafe-3-2/2026-02-19/
LOCATION:HavAnnA Cafe\, 191 Smallwood Dr\, Chokoloskee\, FL\, 34138\, United States
CATEGORIES:Clubs
ATTACH;FMTTYPE=image/jpeg:https://visitevergladescity.com/wp-content/uploads/2023/12/Ladies-Coffee-1000x700-min.jpg
END:VEVENT
BEGIN:VEVENT
DTSTART;TZID=America/New_York:20260219T140000
DTEND;TZID=America/New_York:20260219T150000
DTSTAMP:20260423T162021
CREATED:20260101T194756Z
LAST-MODIFIED:20260101T194757Z
UID:10000381-1771509600-1771513200@visitevergladescity.com
SUMMARY:Third Thursday Talk at the Museum of the Everglades
DESCRIPTION:The Third Thursday Talks hosted by the Museum of the Everglades are geared towards teaching and preserving the history of the area. \nFind Our More Museum Calendar
URL:https://visitevergladescity.com/event/third-thursday-talk-at-the-museum-of-the-everglades-3-2-5/2026-02-19/
LOCATION:Museum of the Everglades\, 105 Broadway Ave W\, Everglades City\, FL\, 34139\, United States
CATEGORIES:Culture
ATTACH;FMTTYPE=image/png:https://visitevergladescity.com/wp-content/uploads/2023/10/Museum-of-the-Everglades-color-min.png
END:VEVENT
BEGIN:VEVENT
DTSTART;TZID=America/New_York:20260220T100000
DTEND;TZID=America/New_York:20260220T140000
DTSTAMP:20260423T162021
CREATED:20250326T141036Z
LAST-MODIFIED:20251121T220332Z
UID:10003757-1771581600-1771596000@visitevergladescity.com
SUMMARY:Fresh Market
DESCRIPTION:Find farm-fresh produce on Fridays and Sundays from 10 am to 2 pm next to the Everglades City Post Office.
URL:https://visitevergladescity.com/event/fresh-market/2026-02-20/
LOCATION:Everglades City Post Office\, 601 Collier Ave\, Everglades City\, FL\, 34139\, United States
CATEGORIES:Community
ATTACH;FMTTYPE=image/jpeg:https://visitevergladescity.com/wp-content/uploads/2025/03/Farmers-Market.jpg
END:VEVENT
BEGIN:VEVENT
DTSTART;TZID=America/New_York:20260221T100000
DTEND;TZID=America/New_York:20260221T113000
DTSTAMP:20260423T162021
CREATED:20260219T224010Z
LAST-MODIFIED:20260219T224010Z
UID:10004541-1771668000-1771673400@visitevergladescity.com
SUMMARY:Ribbon Cutting Celebrates Boardwalk Reopening\, Fakahatchee Strand
DESCRIPTION:The full boardwalk system at Fakahatchee Strand Preserve State Park is officially reopening end-to-end for the first time in years. \nSaturday\, February 21\n10:00–11:30 AM\nFakahatchee Strand Preserve State Park \nThe ceremony is hosted by the Florida Department of Environmental Protection Division of Recreation and Parks in partnership with Friends of Fakahatchee. \nThis reopening includes the newer boardwalk section that opened in February 2024 along with the reconstructed original boardwalk completed in November 2025. For the first time since hurricane damage disrupted access\, visitors can once again walk the entire system through the heart of the strand. \nFakahatchee protects one of the largest preserved cypress strand swamps in North America. This landscape supports: \n\nRare native orchids\, including the ghost orchid\nFlorida panther habitat\nBromeliads and air plants\nOld-growth bald cypress ecosystems\n\nThe elevated boardwalk makes this fragile habitat accessible while protecting sensitive wetlands beneath it. \nIf you’ve been waiting to walk it again — or have never experienced it end-to-end — this is the time.
URL:https://visitevergladescity.com/event/ribbon-cutting-celebrates-boardwalk-reopening-fakahatchee-strand/
LOCATION:Fakahatchee Strand Preserve State Park\, 137 Coast Line Dr\, Copeland\, FL\, 34137\, United States
CATEGORIES:Community
ATTACH;FMTTYPE=image/webp:https://visitevergladescity.com/wp-content/uploads/2024/03/Fakahatchee-Strand-Preserve-State-Park-Big-Cypress-Bend-Boardwalk-Chairs.webp
END:VEVENT
END:VCALENDAR