BEGIN:VCALENDAR
VERSION:2.0
PRODID:-//Visit Everglades City - ECPv6.15.20//NONSGML v1.0//EN
CALSCALE:GREGORIAN
METHOD:PUBLISH
X-ORIGINAL-URL:https://visitevergladescity.com
X-WR-CALDESC:Events for Visit Everglades City
REFRESH-INTERVAL;VALUE=DURATION:PT1H
X-Robots-Tag:noindex
X-PUBLISHED-TTL:PT1H
BEGIN:VTIMEZONE
TZID:America/New_York
BEGIN:DAYLIGHT
TZOFFSETFROM:-0500
TZOFFSETTO:-0400
TZNAME:EDT
DTSTART:20250309T070000
END:DAYLIGHT
BEGIN:STANDARD
TZOFFSETFROM:-0400
TZOFFSETTO:-0500
TZNAME:EST
DTSTART:20251102T060000
END:STANDARD
BEGIN:DAYLIGHT
TZOFFSETFROM:-0500
TZOFFSETTO:-0400
TZNAME:EDT
DTSTART:20260308T070000
END:DAYLIGHT
BEGIN:STANDARD
TZOFFSETFROM:-0400
TZOFFSETTO:-0500
TZNAME:EST
DTSTART:20261101T060000
END:STANDARD
BEGIN:DAYLIGHT
TZOFFSETFROM:-0500
TZOFFSETTO:-0400
TZNAME:EDT
DTSTART:20270314T070000
END:DAYLIGHT
BEGIN:STANDARD
TZOFFSETFROM:-0400
TZOFFSETTO:-0500
TZNAME:EST
DTSTART:20271107T060000
END:STANDARD
END:VTIMEZONE
BEGIN:VEVENT
DTSTART;TZID=America/New_York:20260322T100000
DTEND;TZID=America/New_York:20260322T140000
DTSTAMP:20260423T141015
CREATED:20250326T141036Z
LAST-MODIFIED:20251121T220332Z
UID:10003766-1774173600-1774188000@visitevergladescity.com
SUMMARY:Fresh Market
DESCRIPTION:Find farm-fresh produce on Fridays and Sundays from 10 am to 2 pm next to the Everglades City Post Office.
URL:https://visitevergladescity.com/event/fresh-market/2026-03-22/
LOCATION:Everglades City Post Office\, 601 Collier Ave\, Everglades City\, FL\, 34139\, United States
CATEGORIES:Community
ATTACH;FMTTYPE=image/jpeg:https://visitevergladescity.com/wp-content/uploads/2025/03/Farmers-Market.jpg
END:VEVENT
BEGIN:VEVENT
DTSTART;TZID=America/New_York:20260322T120000
DTEND;TZID=America/New_York:20260322T170000
DTSTAMP:20260423T141015
CREATED:20250127T174550Z
LAST-MODIFIED:20260203T204042Z
UID:10003588-1774180800-1774198800@visitevergladescity.com
SUMMARY:Turkey Shoot
DESCRIPTION:The Lions Club of Everglades City is bringing back their Annual Turkey Shoot on March 15-16 at the Mayberry Cypress Tower Camp.  This family friendly event is a great opportunity to win some bragging rights as a top shooter and a little cash!  The event will run from 10:00am-5:00pm on March 15\, 2025 and 12:00pm-5:00pm March 16\, 2025.\n\nThe Lions Club will supply the ammo!  Bring your shot guns and get ready for a great time!  If you don’t have a shotgun\, come anyway.  They will be able to set you up!\n\nSo if you are interested in donating cash\, prizes\, or participating then mark your calendar and reach out to Lion Cecil Barker\, Lions Club President\, by email at ccbarker612@gmail.com.
URL:https://visitevergladescity.com/event/turkey-shoot-2/
LOCATION:Mayberry’s Cypress Tower Camp\, 18101 Cypress Tower Rd\, Ochopee\, FL\, 34141\, United States
CATEGORIES:Culture,Fundraiser,Tournament
ATTACH;FMTTYPE=image/webp:https://visitevergladescity.com/wp-content/uploads/2025/01/Turkey-shoot-poster-scaled.webp
END:VEVENT
BEGIN:VEVENT
DTSTART;VALUE=DATE:20260325
DTEND;VALUE=DATE:20260326
DTSTAMP:20260423T141015
CREATED:20250814T221954Z
LAST-MODIFIED:20250814T221954Z
UID:10003917-1774396800-1774483199@visitevergladescity.com
SUMMARY:CCPS Early Dismissal
DESCRIPTION:Collier County Public Schools have an early dismissal day scheduled.  See the 2025-2026 school calendar for details. \nRecent & upcoming early dismissals and closures: \n\n3/25 Early Dismissal: Professional Learning for Teachers\n4/3 No School\n5/22 Early Dismissal: Graduation Week\n5/25 No School: Memorial Day\n5/29 Early Dismissal: Last Day for Students
URL:https://visitevergladescity.com/event/ccps-early-dismissal-7/
LOCATION:Everglades City School\, 415 E School Dr\, Everglades City\, FL\, 34139\, United States
CATEGORIES:School
ATTACH;FMTTYPE=image/jpeg:https://visitevergladescity.com/wp-content/uploads/2024/01/VEC-CCPS-Early-Dismissal-Notices-2024-2-min.jpg
END:VEVENT
BEGIN:VEVENT
DTSTART;TZID=America/New_York:20260325T090000
DTEND;TZID=America/New_York:20260325T110000
DTSTAMP:20260423T141015
CREATED:20250210T143639Z
LAST-MODIFIED:20250213T153136Z
UID:10003607-1774429200-1774436400@visitevergladescity.com
SUMMARY:Holy Family Church Outreach Program
DESCRIPTION:Volunteers from SVDP San Marco Conference will have office hours from 9 to 11 am at the Holy Family Church to help those that need financial assistance on the 4th Wednesday of the month. \nPlease make your appointment for the interview in advance by calling (239) 259-4591 or (239) 259-4593. You can also request an appointment via email using the following email address: svdpsanmarco@gmail.com \nWhen contacting us\, please leave your name\, phone number\, and the kind of assistance you are requesting.  Those who have appointments will be contacted prior to the interview.
URL:https://visitevergladescity.com/event/holy-family-church-outreach-program/2026-03-25/
LOCATION:Holy Family Catholic Church\, 200 Datura St E\, Everglades City\, FL\, 34139\, United States
CATEGORIES:Community
ATTACH;FMTTYPE=image/webp:https://visitevergladescity.com/wp-content/uploads/2025/02/Society-of-St-Vincent-de-Paul-San-Marco-Logo.webp
END:VEVENT
BEGIN:VEVENT
DTSTART;TZID=America/New_York:20260325T093000
DTEND;TZID=America/New_York:20260325T120000
DTSTAMP:20260423T141015
CREATED:20240213T200501Z
LAST-MODIFIED:20240213T200504Z
UID:10000545-1774431000-1774440000@visitevergladescity.com
SUMMARY:Food Pantry
DESCRIPTION:Food is distributed from the rear of Everglades Community Church located at 101 S. Copeland Ave.\, Everglades City. “This institution is an equal opportunity provider.”
URL:https://visitevergladescity.com/event/food-pantry-2/2026-03-25/
LOCATION:Everglades Community Church\, 101 Copeland Ave\, Everglades City\, FL\, 34139\, United States
CATEGORIES:ECity
ATTACH;FMTTYPE=image/webp:https://visitevergladescity.com/wp-content/uploads/2023/11/Food-Pantry-in-Everglades-City.webp
END:VEVENT
BEGIN:VEVENT
DTSTART;TZID=America/New_York:20260326T083000
DTEND;TZID=America/New_York:20260326T100000
DTSTAMP:20260423T141015
CREATED:20260203T103726Z
LAST-MODIFIED:20260203T103751Z
UID:10004410-1774513800-1774519200@visitevergladescity.com
SUMMARY:Ladies’ Coffee at Island Cafe
DESCRIPTION:Ladies Coffee is a laid-back weekly gathering for women who enjoy good conversation\, familiar faces\, and the discovery of new friendships over breakfast and coffee. There’s no agenda\, no dues\, and no pressure — just an open seat at the table and a welcoming group. \nEach week\, the group rotates between four local favorites: \n\nCity Seafood\nDulce’s\nHavAnna Café\nIsland Café\n\nThursdays at 8:30 AM
URL:https://visitevergladescity.com/event/ladies-coffee-at-island-cafe-2-2/2026-03-26/
LOCATION:Island Cafe\, 305 Collier Ave\, Everglades City\, FL\, 34139\, United States
CATEGORIES:Clubs
ATTACH;FMTTYPE=image/jpeg:https://visitevergladescity.com/wp-content/uploads/2023/12/Ladies-Coffee-1000x700-min.jpg
END:VEVENT
BEGIN:VEVENT
DTSTART;TZID=America/New_York:20260327T100000
DTEND;TZID=America/New_York:20260327T140000
DTSTAMP:20260423T141015
CREATED:20250326T141036Z
LAST-MODIFIED:20251121T220332Z
UID:10003767-1774605600-1774620000@visitevergladescity.com
SUMMARY:Fresh Market
DESCRIPTION:Find farm-fresh produce on Fridays and Sundays from 10 am to 2 pm next to the Everglades City Post Office.
URL:https://visitevergladescity.com/event/fresh-market/2026-03-27/
LOCATION:Everglades City Post Office\, 601 Collier Ave\, Everglades City\, FL\, 34139\, United States
CATEGORIES:Community
ATTACH;FMTTYPE=image/jpeg:https://visitevergladescity.com/wp-content/uploads/2025/03/Farmers-Market.jpg
END:VEVENT
BEGIN:VEVENT
DTSTART;TZID=America/New_York:20260328T090000
DTEND;TZID=America/New_York:20260328T230000
DTSTAMP:20260423T141015
CREATED:20260303T063734Z
LAST-MODIFIED:20260303T063823Z
UID:10004546-1774688400-1774738800@visitevergladescity.com
SUMMARY:Fly-In Pancake & Sausage Breakfast at Everglades Airpark
DESCRIPTION:Friends of Everglades Airpark will host a Fly-In Pancake & Sausage Breakfast on Saturday\, March 28\, 2026\, from 9:00 AM to 11:00 AM at McLeod Park in the center of Everglades City.
URL:https://visitevergladescity.com/event/fly-in-pancake-sausage-breakfast-at-everglades-airpark/
LOCATION:McLeod Park\, Copeland Ave & Hibiscus St W\,\, Everglades City\, FL\, 34141\, United States
CATEGORIES:Clubs,Community,ECity
ATTACH;FMTTYPE=image/jpeg:https://visitevergladescity.com/wp-content/uploads/2026/03/Everglades-Airpark-Pancake-Flyin.jpg
END:VEVENT
BEGIN:VEVENT
DTSTART;TZID=America/New_York:20260328T110000
DTEND;TZID=America/New_York:20260328T140000
DTSTAMP:20260423T141015
CREATED:20260131T171920Z
LAST-MODIFIED:20260131T171920Z
UID:10004204-1774695600-1774706400@visitevergladescity.com
SUMMARY:Underwater Easter Egg Hunt Naples
DESCRIPTION:Ready… Set… SPLASH! \nGrab your goggles—this Easter egg hunt happens underwater! Kids dive for eggs in this high-energy\, anything-but-ordinary Easter adventure. \nSaturday\, March 28\, 2026 \n11:00 a.m. – 2:00 p.m.\nDonna Fiala Eagle Lakes Aquatics Facility\, 11565 Tamiami Trail East\, Naples\, FL \nEgg Hunt Times by Age Group:\n1–3 years: 11:30 a.m.\n4–5 years: 12:00 p.m.\n6–7 years: 12:30 p.m.\n8–9 years: 1:00 p.m.\n10–12 years: 1:30 p.m. \nScan the QR code to register online
URL:https://visitevergladescity.com/event/underwater-easter-egg-hunt-naples/
LOCATION:Donna Fiala Eagle Lakes Community Park\, 11565 Tamiami Trl E\, Naples\, FL\, United States
CATEGORIES:Community,Youth
ATTACH;FMTTYPE=image/jpeg:https://visitevergladescity.com/wp-content/uploads/2026/01/Collier-County-Donna-Fiala-Eagle-Lakes-Community-Park-Underwater-Easter-Egg-Hunt-2026.jpg
ORGANIZER;CN="Collier County Parks & Recreation":MAILTO:parksandrecreation@colliercountyfl.gov
END:VEVENT
BEGIN:VEVENT
DTSTART;TZID=America/New_York:20260328T160000
DTEND;TZID=America/New_York:20260328T180000
DTSTAMP:20260423T141015
CREATED:20260101T224914Z
LAST-MODIFIED:20260130T144500Z
UID:10004190-1774713600-1774720800@visitevergladescity.com
SUMMARY:Paint Along at HavAnna Café
DESCRIPTION:When: Last Wednesday of each month\nTime: 4:00 – 6:00 PM\nCost: $20 per person\nWhere: HavAnna Café \nJoin local artist Lisa Gilmore for a relaxed\, hands-on paint-along at HavAnna Café. Each session focuses on painting natural elements such as leaves\, coconuts\, shells\, and rocks. \nParticipants should bring their own natural items to paint. All other painting supplies are provided. No prior painting experience is required. \nQuestions:\nLisa Gilmore — 239-877-3998
URL:https://visitevergladescity.com/event/paint-along-at-havanna-cafe-3/2026-03-28/
LOCATION:HavAnnA Cafe\, 191 Smallwood Dr\, Chokoloskee\, FL\, 34138\, United States
CATEGORIES:Culture
ATTACH;FMTTYPE=image/png:https://visitevergladescity.com/wp-content/uploads/2026/01/Copy-of-Viva-Margarita-Marketing-Flyer-1.png
END:VEVENT
END:VCALENDAR