BEGIN:VCALENDAR
VERSION:2.0
PRODID:-//Visit Everglades City - ECPv6.15.20//NONSGML v1.0//EN
CALSCALE:GREGORIAN
METHOD:PUBLISH
X-WR-CALNAME:Visit Everglades City
X-ORIGINAL-URL:https://visitevergladescity.com
X-WR-CALDESC:Events for Visit Everglades City
REFRESH-INTERVAL;VALUE=DURATION:PT1H
X-Robots-Tag:noindex
X-PUBLISHED-TTL:PT1H
BEGIN:VTIMEZONE
TZID:America/New_York
BEGIN:DAYLIGHT
TZOFFSETFROM:-0500
TZOFFSETTO:-0400
TZNAME:EDT
DTSTART:20250309T070000
END:DAYLIGHT
BEGIN:STANDARD
TZOFFSETFROM:-0400
TZOFFSETTO:-0500
TZNAME:EST
DTSTART:20251102T060000
END:STANDARD
BEGIN:DAYLIGHT
TZOFFSETFROM:-0500
TZOFFSETTO:-0400
TZNAME:EDT
DTSTART:20260308T070000
END:DAYLIGHT
BEGIN:STANDARD
TZOFFSETFROM:-0400
TZOFFSETTO:-0500
TZNAME:EST
DTSTART:20261101T060000
END:STANDARD
BEGIN:DAYLIGHT
TZOFFSETFROM:-0500
TZOFFSETTO:-0400
TZNAME:EDT
DTSTART:20270314T070000
END:DAYLIGHT
BEGIN:STANDARD
TZOFFSETFROM:-0400
TZOFFSETTO:-0500
TZNAME:EST
DTSTART:20271107T060000
END:STANDARD
END:VTIMEZONE
BEGIN:VEVENT
DTSTART;TZID=America/New_York:20260412T100000
DTEND;TZID=America/New_York:20260412T140000
DTSTAMP:20260425T073946
CREATED:20250326T141036Z
LAST-MODIFIED:20251121T220332Z
UID:10003772-1775988000-1776002400@visitevergladescity.com
SUMMARY:Fresh Market
DESCRIPTION:Find farm-fresh produce on Fridays and Sundays from 10 am to 2 pm next to the Everglades City Post Office.
URL:https://visitevergladescity.com/event/fresh-market/2026-04-12/
LOCATION:Everglades City Post Office\, 601 Collier Ave\, Everglades City\, FL\, 34139\, United States
CATEGORIES:Community
ATTACH;FMTTYPE=image/jpeg:https://visitevergladescity.com/wp-content/uploads/2025/03/Farmers-Market.jpg
END:VEVENT
BEGIN:VEVENT
DTSTART;TZID=America/New_York:20260415T093000
DTEND;TZID=America/New_York:20260415T120000
DTSTAMP:20260425T073946
CREATED:20240213T200501Z
LAST-MODIFIED:20240213T200504Z
UID:10000548-1776245400-1776254400@visitevergladescity.com
SUMMARY:Food Pantry
DESCRIPTION:Food is distributed from the rear of Everglades Community Church located at 101 S. Copeland Ave.\, Everglades City. “This institution is an equal opportunity provider.”
URL:https://visitevergladescity.com/event/food-pantry-2/2026-04-15/
LOCATION:Everglades Community Church\, 101 Copeland Ave\, Everglades City\, FL\, 34139\, United States
CATEGORIES:ECity
ATTACH;FMTTYPE=image/webp:https://visitevergladescity.com/wp-content/uploads/2023/11/Food-Pantry-in-Everglades-City.webp
END:VEVENT
BEGIN:VEVENT
DTSTART;TZID=America/New_York:20260416T083000
DTEND;TZID=America/New_York:20260416T100000
DTSTAMP:20260425T073946
CREATED:20260203T103505Z
LAST-MODIFIED:20260203T103907Z
UID:10004475-1776328200-1776333600@visitevergladescity.com
SUMMARY:Ladies’ Coffee at HavAnnA Cafe
DESCRIPTION:Ladies Coffee is a laid-back weekly gathering for women who enjoy good conversation\, familiar faces\, and the discovery of new friendships over breakfast and coffee. There’s no agenda\, no dues\, and no pressure — just an open seat at the table and a welcoming group. \nEach week\, the group rotates between four local favorites: \n\nCity Seafood\nDulce’s\nHavAnna Café\nIsland Café\n\nThursdays at 8:30 AM
URL:https://visitevergladescity.com/event/ladies-coffee-at-havanna-cafe-3-2/2026-04-16/
LOCATION:HavAnnA Cafe\, 191 Smallwood Dr\, Chokoloskee\, FL\, 34138\, United States
CATEGORIES:Clubs
ATTACH;FMTTYPE=image/jpeg:https://visitevergladescity.com/wp-content/uploads/2023/12/Ladies-Coffee-1000x700-min.jpg
END:VEVENT
BEGIN:VEVENT
DTSTART;TZID=America/New_York:20260416T140000
DTEND;TZID=America/New_York:20260416T150000
DTSTAMP:20260425T073946
CREATED:20260301T114948Z
LAST-MODIFIED:20260301T121349Z
UID:10000383-1776348000-1776351600@visitevergladescity.com
SUMMARY:The Spirit of ’26: Barron Collier’s American Dream
DESCRIPTION:The Spirit of ’26: Barron Collier’s American Dream.\nThis program explores the legacy of Barron Collier and his role in shaping Collier County and Everglades City. The lecture ties into the national America250 commemoration and reflects on the ambition\, development\, and vision that helped transform this remote region into the community we know today. \nThe lecture begins at 2:00 PM and runs approximately one hour. Admission is free and open to the public. \nThe Third Thursday Talks hosted by the Museum of the Everglades are geared towards teaching and preserving the history of the area. \nFind Our More Museum Calendar
URL:https://visitevergladescity.com/event/the-spirit-of-26-barron-colliers-american-dream/
LOCATION:Museum of the Everglades\, 105 Broadway Ave W\, Everglades City\, FL\, 34139\, United States
CATEGORIES:Culture
ATTACH;FMTTYPE=image/jpeg:https://visitevergladescity.com/wp-content/uploads/2026/01/Chicken-BBQ-at-the-Park-2024_01_06.jpg
END:VEVENT
BEGIN:VEVENT
DTSTART;TZID=America/New_York:20260417T100000
DTEND;TZID=America/New_York:20260417T140000
DTSTAMP:20260425T073946
CREATED:20250326T141036Z
LAST-MODIFIED:20251121T220332Z
UID:10003773-1776420000-1776434400@visitevergladescity.com
SUMMARY:Fresh Market
DESCRIPTION:Find farm-fresh produce on Fridays and Sundays from 10 am to 2 pm next to the Everglades City Post Office.
URL:https://visitevergladescity.com/event/fresh-market/2026-04-17/
LOCATION:Everglades City Post Office\, 601 Collier Ave\, Everglades City\, FL\, 34139\, United States
CATEGORIES:Community
ATTACH;FMTTYPE=image/jpeg:https://visitevergladescity.com/wp-content/uploads/2025/03/Farmers-Market.jpg
END:VEVENT
BEGIN:VEVENT
DTSTART;TZID=America/New_York:20260418T130000
DTEND;TZID=America/New_York:20260418T140000
DTSTAMP:20260425T073946
CREATED:20260416T035659Z
LAST-MODIFIED:20260416T035659Z
UID:10004550-1776517200-1776520800@visitevergladescity.com
SUMMARY:Big Cypress Dark Sky Lecture
DESCRIPTION:Big Cypress National Preserve invites you to join us this Saturday\, April 18\, at 1:00 pm in the Nathanial P. Reed Visitor Center auditorium for a special artist lecture and photography exhibit. The exhibit will remain throughout the summer. __ \nThe Vanishing Dark: An Artist’s Case for Preserving and Embracing Dark Sky Advocacy \nDark Sky Scholar and fine-art photographer Matt Stock will present an exploration of the “parallel universe” of the night. Matt will share the meticulous technical process—and the deep philosophical mission—behind his hyper-real night photography. This talk examines why darkness is a natural resource as vital as the water in the swamp\, and how we can use light to protect\, rather than obscure\, the beauty of Big Cypress National Preserve.
URL:https://visitevergladescity.com/event/big-cypress-dark-sky-lecture/
LOCATION:Nathaniel P. Reed Visitor Center\, 33000 Tamiami Trl East\, Ochopee\, 34141\, United States
CATEGORIES:Community
ATTACH;FMTTYPE=image/webp:https://visitevergladescity.com/wp-content/uploads/2026/04/Matt-Stock-Dark-Skys-Flyer-2026.webp
END:VEVENT
END:VCALENDAR