BEGIN:VCALENDAR
VERSION:2.0
PRODID:-//Visit Everglades City - ECPv6.15.20//NONSGML v1.0//EN
CALSCALE:GREGORIAN
METHOD:PUBLISH
X-WR-CALNAME:Visit Everglades City
X-ORIGINAL-URL:https://visitevergladescity.com
X-WR-CALDESC:Events for Visit Everglades City
REFRESH-INTERVAL;VALUE=DURATION:PT1H
X-Robots-Tag:noindex
X-PUBLISHED-TTL:PT1H
BEGIN:VTIMEZONE
TZID:America/New_York
BEGIN:DAYLIGHT
TZOFFSETFROM:-0500
TZOFFSETTO:-0400
TZNAME:EDT
DTSTART:20220313T070000
END:DAYLIGHT
BEGIN:STANDARD
TZOFFSETFROM:-0400
TZOFFSETTO:-0500
TZNAME:EST
DTSTART:20221106T060000
END:STANDARD
BEGIN:DAYLIGHT
TZOFFSETFROM:-0500
TZOFFSETTO:-0400
TZNAME:EDT
DTSTART:20230312T070000
END:DAYLIGHT
BEGIN:STANDARD
TZOFFSETFROM:-0400
TZOFFSETTO:-0500
TZNAME:EST
DTSTART:20231105T060000
END:STANDARD
BEGIN:DAYLIGHT
TZOFFSETFROM:-0500
TZOFFSETTO:-0400
TZNAME:EDT
DTSTART:20240310T070000
END:DAYLIGHT
BEGIN:STANDARD
TZOFFSETFROM:-0400
TZOFFSETTO:-0500
TZNAME:EST
DTSTART:20241103T060000
END:STANDARD
BEGIN:DAYLIGHT
TZOFFSETFROM:-0500
TZOFFSETTO:-0400
TZNAME:EDT
DTSTART:20250309T070000
END:DAYLIGHT
BEGIN:STANDARD
TZOFFSETFROM:-0400
TZOFFSETTO:-0500
TZNAME:EST
DTSTART:20251102T060000
END:STANDARD
END:VTIMEZONE
BEGIN:VEVENT
DTSTART;TZID=America/New_York:20240604T190000
DTEND;TZID=America/New_York:20240604T200000
DTSTAMP:20260421T201155
CREATED:20231121T201909Z
LAST-MODIFIED:20231128T191436Z
UID:10000302-1717527600-1717531200@visitevergladescity.com
SUMMARY:City Council Meeting
DESCRIPTION:City Council meetings are held every 1st Tuesday of the month @ 7 PM in the City Council room\, 2nd floor City Hall.  \nThe agenda will be posted here prior to the meeting. https://www.cityofeverglades.org/public-notice\n \nThese meetings will be a Hybrid meeting with some board members present and others present by video conference / Zoom. The bottom of the agenda has instructions on how to join the meeting via Zoom. 
URL:https://visitevergladescity.com/event/city-council-meeting/2024-06-04/
LOCATION:Everglades City Hall\, 102 Copeland Ave N.\, Everglades City\, FL\, 34139\, United States
CATEGORIES:ECity
ATTACH;FMTTYPE=image/jpeg:https://visitevergladescity.com/wp-content/uploads/2023/11/Event-Header-City-Council-Meeting-Square-250-min.jpg
END:VEVENT
BEGIN:VEVENT
DTSTART;TZID=America/New_York:20240521T180000
DTEND;TZID=America/New_York:20240521T190000
DTSTAMP:20260421T201155
CREATED:20240213T201831Z
LAST-MODIFIED:20240213T201832Z
UID:10000240-1716314400-1716318000@visitevergladescity.com
SUMMARY:Planning & Zoning Meeting
DESCRIPTION:P&Z Board meetings are held monthly on the 3rd Tuesday of the month. City Council room\, 2nd floor City Hall. \nThese meetings will be a Hybrid meeting with some board members present and others present by video conference / Zoom.  The bottom of the agenda has instructions on how to join the meeting via Zoom.  The Agenda can be found at: https://www.cityofeverglades.org
URL:https://visitevergladescity.com/event/planning-zoning-meeting-2/2024-05-21/
LOCATION:Everglades City Hall\, 102 Copeland Ave N.\, Everglades City\, FL\, 34139\, United States
CATEGORIES:ECity
ATTACH;FMTTYPE=image/webp:https://visitevergladescity.com/wp-content/uploads/2023/11/Event-Header-PZ-Square-250-min.webp
END:VEVENT
BEGIN:VEVENT
DTSTART;TZID=America/New_York:20240507T190000
DTEND;TZID=America/New_York:20240507T200000
DTSTAMP:20260421T201155
CREATED:20231121T201909Z
LAST-MODIFIED:20231128T191436Z
UID:10000301-1715108400-1715112000@visitevergladescity.com
SUMMARY:City Council Meeting
DESCRIPTION:City Council meetings are held every 1st Tuesday of the month @ 7 PM in the City Council room\, 2nd floor City Hall.  \nThe agenda will be posted here prior to the meeting. https://www.cityofeverglades.org/public-notice\n \nThese meetings will be a Hybrid meeting with some board members present and others present by video conference / Zoom. The bottom of the agenda has instructions on how to join the meeting via Zoom. 
URL:https://visitevergladescity.com/event/city-council-meeting/2024-05-07/
LOCATION:Everglades City Hall\, 102 Copeland Ave N.\, Everglades City\, FL\, 34139\, United States
CATEGORIES:ECity
ATTACH;FMTTYPE=image/jpeg:https://visitevergladescity.com/wp-content/uploads/2023/11/Event-Header-City-Council-Meeting-Square-250-min.jpg
END:VEVENT
BEGIN:VEVENT
DTSTART;TZID=America/New_York:20240416T180000
DTEND;TZID=America/New_York:20240416T190000
DTSTAMP:20260421T201155
CREATED:20240213T201831Z
LAST-MODIFIED:20240213T201832Z
UID:10000239-1713290400-1713294000@visitevergladescity.com
SUMMARY:Planning & Zoning Meeting
DESCRIPTION:P&Z Board meetings are held monthly on the 3rd Tuesday of the month. City Council room\, 2nd floor City Hall. \nThese meetings will be a Hybrid meeting with some board members present and others present by video conference / Zoom.  The bottom of the agenda has instructions on how to join the meeting via Zoom.  The Agenda can be found at: https://www.cityofeverglades.org
URL:https://visitevergladescity.com/event/planning-zoning-meeting-2/2024-04-16/
LOCATION:Everglades City Hall\, 102 Copeland Ave N.\, Everglades City\, FL\, 34139\, United States
CATEGORIES:ECity
ATTACH;FMTTYPE=image/webp:https://visitevergladescity.com/wp-content/uploads/2023/11/Event-Header-PZ-Square-250-min.webp
END:VEVENT
BEGIN:VEVENT
DTSTART;TZID=America/New_York:20240402T190000
DTEND;TZID=America/New_York:20240402T200000
DTSTAMP:20260421T201155
CREATED:20231121T201909Z
LAST-MODIFIED:20231128T191436Z
UID:10000300-1712084400-1712088000@visitevergladescity.com
SUMMARY:City Council Meeting
DESCRIPTION:City Council meetings are held every 1st Tuesday of the month @ 7 PM in the City Council room\, 2nd floor City Hall.  \nThe agenda will be posted here prior to the meeting. https://www.cityofeverglades.org/public-notice\n \nThese meetings will be a Hybrid meeting with some board members present and others present by video conference / Zoom. The bottom of the agenda has instructions on how to join the meeting via Zoom. 
URL:https://visitevergladescity.com/event/city-council-meeting/2024-04-02/
LOCATION:Everglades City Hall\, 102 Copeland Ave N.\, Everglades City\, FL\, 34139\, United States
CATEGORIES:ECity
ATTACH;FMTTYPE=image/jpeg:https://visitevergladescity.com/wp-content/uploads/2023/11/Event-Header-City-Council-Meeting-Square-250-min.jpg
END:VEVENT
BEGIN:VEVENT
DTSTART;TZID=America/New_York:20240319T180000
DTEND;TZID=America/New_York:20240319T190000
DTSTAMP:20260421T201155
CREATED:20240213T201831Z
LAST-MODIFIED:20240213T201832Z
UID:10000238-1710871200-1710874800@visitevergladescity.com
SUMMARY:Planning & Zoning Meeting
DESCRIPTION:P&Z Board meetings are held monthly on the 3rd Tuesday of the month. City Council room\, 2nd floor City Hall. \nThese meetings will be a Hybrid meeting with some board members present and others present by video conference / Zoom.  The bottom of the agenda has instructions on how to join the meeting via Zoom.  The Agenda can be found at: https://www.cityofeverglades.org
URL:https://visitevergladescity.com/event/planning-zoning-meeting-2/2024-03-19/
LOCATION:Everglades City Hall\, 102 Copeland Ave N.\, Everglades City\, FL\, 34139\, United States
CATEGORIES:ECity
ATTACH;FMTTYPE=image/webp:https://visitevergladescity.com/wp-content/uploads/2023/11/Event-Header-PZ-Square-250-min.webp
END:VEVENT
BEGIN:VEVENT
DTSTART;TZID=America/New_York:20240305T190000
DTEND;TZID=America/New_York:20240305T200000
DTSTAMP:20260421T201155
CREATED:20231121T201909Z
LAST-MODIFIED:20231128T191436Z
UID:10000299-1709665200-1709668800@visitevergladescity.com
SUMMARY:City Council Meeting
DESCRIPTION:City Council meetings are held every 1st Tuesday of the month @ 7 PM in the City Council room\, 2nd floor City Hall.  \nThe agenda will be posted here prior to the meeting. https://www.cityofeverglades.org/public-notice\n \nThese meetings will be a Hybrid meeting with some board members present and others present by video conference / Zoom. The bottom of the agenda has instructions on how to join the meeting via Zoom. 
URL:https://visitevergladescity.com/event/city-council-meeting/2024-03-05/
LOCATION:Everglades City Hall\, 102 Copeland Ave N.\, Everglades City\, FL\, 34139\, United States
CATEGORIES:ECity
ATTACH;FMTTYPE=image/jpeg:https://visitevergladescity.com/wp-content/uploads/2023/11/Event-Header-City-Council-Meeting-Square-250-min.jpg
END:VEVENT
BEGIN:VEVENT
DTSTART;TZID=America/New_York:20240220T180000
DTEND;TZID=America/New_York:20240220T190000
DTSTAMP:20260421T201155
CREATED:20240213T201831Z
LAST-MODIFIED:20240213T201832Z
UID:10000237-1708452000-1708455600@visitevergladescity.com
SUMMARY:Planning & Zoning Meeting
DESCRIPTION:P&Z Board meetings are held monthly on the 3rd Tuesday of the month. City Council room\, 2nd floor City Hall. \nThese meetings will be a Hybrid meeting with some board members present and others present by video conference / Zoom.  The bottom of the agenda has instructions on how to join the meeting via Zoom.  The Agenda can be found at: https://www.cityofeverglades.org
URL:https://visitevergladescity.com/event/planning-zoning-meeting-2/2024-02-20/
LOCATION:Everglades City Hall\, 102 Copeland Ave N.\, Everglades City\, FL\, 34139\, United States
CATEGORIES:ECity
ATTACH;FMTTYPE=image/webp:https://visitevergladescity.com/wp-content/uploads/2023/11/Event-Header-PZ-Square-250-min.webp
END:VEVENT
BEGIN:VEVENT
DTSTART;TZID=America/New_York:20240206T190000
DTEND;TZID=America/New_York:20240206T200000
DTSTAMP:20260421T201155
CREATED:20231121T201909Z
LAST-MODIFIED:20231128T191436Z
UID:10000298-1707246000-1707249600@visitevergladescity.com
SUMMARY:City Council Meeting
DESCRIPTION:City Council meetings are held every 1st Tuesday of the month @ 7 PM in the City Council room\, 2nd floor City Hall.  \nThe agenda will be posted here prior to the meeting. https://www.cityofeverglades.org/public-notice\n \nThese meetings will be a Hybrid meeting with some board members present and others present by video conference / Zoom. The bottom of the agenda has instructions on how to join the meeting via Zoom. 
URL:https://visitevergladescity.com/event/city-council-meeting/2024-02-06/
LOCATION:Everglades City Hall\, 102 Copeland Ave N.\, Everglades City\, FL\, 34139\, United States
CATEGORIES:ECity
ATTACH;FMTTYPE=image/jpeg:https://visitevergladescity.com/wp-content/uploads/2023/11/Event-Header-City-Council-Meeting-Square-250-min.jpg
END:VEVENT
BEGIN:VEVENT
DTSTART;TZID=America/New_York:20240116T180000
DTEND;TZID=America/New_York:20240116T190000
DTSTAMP:20260421T201155
CREATED:20231121T194328Z
LAST-MODIFIED:20231128T201737Z
UID:10000236-1705428000-1705431600@visitevergladescity.com
SUMMARY:Planning & Zoning Meeting
DESCRIPTION:P&Z Board meetings are held monthly on the 3rd Tuesday of the month. City Council room\, 2nd floor City Hall. \nThese meetings will be a Hybrid meeting with some board members present and others present by video conference / Zoom.  The bottom of the agenda has instructions on how to join the meeting via Zoom.  The Agenda can be found at: https://www.cityofeverglades.org
URL:https://visitevergladescity.com/event/planning-zoning-meeting/2024-01-16/
LOCATION:Everglades City Hall\, 102 Copeland Ave N.\, Everglades City\, FL\, 34139\, United States
CATEGORIES:ECity
ATTACH;FMTTYPE=image/webp:https://visitevergladescity.com/wp-content/uploads/2023/11/Event-Header-PZ-Square-250-min.webp
END:VEVENT
BEGIN:VEVENT
DTSTART;TZID=America/New_York:20240102T190000
DTEND;TZID=America/New_York:20240102T200000
DTSTAMP:20260421T201155
CREATED:20231121T201909Z
LAST-MODIFIED:20231128T191436Z
UID:10000297-1704222000-1704225600@visitevergladescity.com
SUMMARY:City Council Meeting
DESCRIPTION:City Council meetings are held every 1st Tuesday of the month @ 7 PM in the City Council room\, 2nd floor City Hall.  \nThe agenda will be posted here prior to the meeting. https://www.cityofeverglades.org/public-notice\n \nThese meetings will be a Hybrid meeting with some board members present and others present by video conference / Zoom. The bottom of the agenda has instructions on how to join the meeting via Zoom. 
URL:https://visitevergladescity.com/event/city-council-meeting/2024-01-02/
LOCATION:Everglades City Hall\, 102 Copeland Ave N.\, Everglades City\, FL\, 34139\, United States
CATEGORIES:ECity
ATTACH;FMTTYPE=image/jpeg:https://visitevergladescity.com/wp-content/uploads/2023/11/Event-Header-City-Council-Meeting-Square-250-min.jpg
END:VEVENT
BEGIN:VEVENT
DTSTART;TZID=America/New_York:20231219T180000
DTEND;TZID=America/New_York:20231219T190000
DTSTAMP:20260421T201155
CREATED:20231121T194328Z
LAST-MODIFIED:20231128T201737Z
UID:10000235-1703008800-1703012400@visitevergladescity.com
SUMMARY:Planning & Zoning Meeting
DESCRIPTION:P&Z Board meetings are held monthly on the 3rd Tuesday of the month. City Council room\, 2nd floor City Hall. \nThese meetings will be a Hybrid meeting with some board members present and others present by video conference / Zoom.  The bottom of the agenda has instructions on how to join the meeting via Zoom.  The Agenda can be found at: https://www.cityofeverglades.org
URL:https://visitevergladescity.com/event/planning-zoning-meeting/2023-12-19/
LOCATION:Everglades City Hall\, 102 Copeland Ave N.\, Everglades City\, FL\, 34139\, United States
CATEGORIES:ECity
ATTACH;FMTTYPE=image/webp:https://visitevergladescity.com/wp-content/uploads/2023/11/Event-Header-PZ-Square-250-min.webp
END:VEVENT
BEGIN:VEVENT
DTSTART;TZID=America/New_York:20231209T170000
DTEND;TZID=America/New_York:20231209T200000
DTSTAMP:20260421T201155
CREATED:20231121T164900Z
LAST-MODIFIED:20231121T232018Z
UID:10000167-1702141200-1702152000@visitevergladescity.com
SUMMARY:Christmas Tree Lighting & Light Parade
DESCRIPTION:Everglades City and the Booster Club are gearing up for the Christmas Tree Lighting and Parade! Bring out your Christmas lights and join us for a joyful family evening. Raffle prizes\, food\, and Christmas cheer await. Don’t miss out on the opportunity to win a 65″ TV and much much more!!  All proceeds help our Gator athletes. \nLight Parade Theme: Skunk Ape\nGolf Carts: $10\nTrailers\, Buggies\, Airboats: $20 \nEvent Schedule: \n5 pm – Food\, Drinks & Raffle\n5:30 pm – Tree Lighting at City Hall\n6 pm – Line up behind fire station\n6:45 pm – Light Parade
URL:https://visitevergladescity.com/event/christmas-tree-lighting-light-parade/
LOCATION:Everglades City Hall\, 102 Copeland Ave N.\, Everglades City\, FL\, 34139\, United States
CATEGORIES:Culture,Fundraiser
ATTACH;FMTTYPE=image/jpeg:https://visitevergladescity.com/wp-content/uploads/2023/11/Christmas-Tree-Lighting-Light-Parade-Dec-9th-EC.jpg
END:VEVENT
BEGIN:VEVENT
DTSTART;TZID=America/New_York:20231205T190000
DTEND;TZID=America/New_York:20231205T200000
DTSTAMP:20260421T201155
CREATED:20231121T201909Z
LAST-MODIFIED:20231128T191436Z
UID:10000296-1701802800-1701806400@visitevergladescity.com
SUMMARY:City Council Meeting
DESCRIPTION:City Council meetings are held every 1st Tuesday of the month @ 7 PM in the City Council room\, 2nd floor City Hall.  \nThe agenda will be posted here prior to the meeting. https://www.cityofeverglades.org/public-notice\n \nThese meetings will be a Hybrid meeting with some board members present and others present by video conference / Zoom. The bottom of the agenda has instructions on how to join the meeting via Zoom. 
URL:https://visitevergladescity.com/event/city-council-meeting/2023-12-05/
LOCATION:Everglades City Hall\, 102 Copeland Ave N.\, Everglades City\, FL\, 34139\, United States
CATEGORIES:ECity
ATTACH;FMTTYPE=image/jpeg:https://visitevergladescity.com/wp-content/uploads/2023/11/Event-Header-City-Council-Meeting-Square-250-min.jpg
END:VEVENT
BEGIN:VEVENT
DTSTART;TZID=America/New_York:20231121T180000
DTEND;TZID=America/New_York:20231121T190000
DTSTAMP:20260421T201155
CREATED:20231121T194328Z
LAST-MODIFIED:20231128T201737Z
UID:10000295-1700589600-1700593200@visitevergladescity.com
SUMMARY:Planning & Zoning Meeting
DESCRIPTION:P&Z Board meetings are held monthly on the 3rd Tuesday of the month. City Council room\, 2nd floor City Hall. \nThese meetings will be a Hybrid meeting with some board members present and others present by video conference / Zoom.  The bottom of the agenda has instructions on how to join the meeting via Zoom.  The Agenda can be found at: https://www.cityofeverglades.org
URL:https://visitevergladescity.com/event/planning-zoning-meeting/2023-11-21/
LOCATION:Everglades City Hall\, 102 Copeland Ave N.\, Everglades City\, FL\, 34139\, United States
CATEGORIES:ECity
ATTACH;FMTTYPE=image/webp:https://visitevergladescity.com/wp-content/uploads/2023/11/Event-Header-PZ-Square-250-min.webp
END:VEVENT
BEGIN:VEVENT
DTSTART;TZID=America/New_York:20230701T100000
DTEND;TZID=America/New_York:20230701T210000
DTSTAMP:20260421T201155
CREATED:20230517T224647Z
LAST-MODIFIED:20231113T090415Z
UID:10000043-1688205600-1688245200@visitevergladescity.com
SUMMARY:Annual Independence Day Celebration Everglades City
DESCRIPTION:Come to Historic Everglades City for a family day of fun and celebration.  This year’s theme is “100 Years of History” so dress accordingly\, and be ready to start the day at 10:00 am for the opening ceremony.  Enjoy the parade and contests and then go visit one of the many shops\, eateries or parks as you wait for the amazing fireworks we are so famous for! \nThe fireworks are at 9 pm and you will be shocked at how close and amazing they are in our little town.  This is your opportunity to see them on Saturday\, and then enjoy them again wherever you are from! \nThe will be plenty of places for you to park\, and we will have handicapped parking at Everglades Community Church for those who need it. \nIf you would like to join the parade\, doll up your golf cart\, buggy or be creative!  We welcome anyone who would like to participate!  We will see you on July 2nd! \nParticipate\nJoin the Parade! Make sure to sign up in advance. Call (239) 695-4299 or Email Karen.\nOnce registered you will be given a number so we can vote on best float! \nSchedule\n10:00 Opening Ceremony \n10:30 Parade – Theme: “100 Years of History” Prizes for best Parade Entries \n11:00 Booths Open\, Food\, Raffel \n11:30 Parade Winners Announced \n11:30 Kids Contests \n12:30 Raffel Winners Announced \n9:00 PM Fireworks \nDownload Flyer
URL:https://visitevergladescity.com/event/annual-independence-day-celebration-everglades-city/
LOCATION:McLeod Park\, Copeland Ave & Hibiscus St W\,\, Everglades City\, FL\, 34141\, United States
CATEGORIES:Culture
END:VEVENT
END:VCALENDAR