BEGIN:VCALENDAR
VERSION:2.0
PRODID:-//Visit Everglades City - ECPv6.15.20//NONSGML v1.0//EN
CALSCALE:GREGORIAN
METHOD:PUBLISH
X-ORIGINAL-URL:https://visitevergladescity.com
X-WR-CALDESC:Events for Visit Everglades City
REFRESH-INTERVAL;VALUE=DURATION:PT1H
X-Robots-Tag:noindex
X-PUBLISHED-TTL:PT1H
BEGIN:VTIMEZONE
TZID:America/New_York
BEGIN:DAYLIGHT
TZOFFSETFROM:-0500
TZOFFSETTO:-0400
TZNAME:EDT
DTSTART:20220313T070000
END:DAYLIGHT
BEGIN:STANDARD
TZOFFSETFROM:-0400
TZOFFSETTO:-0500
TZNAME:EST
DTSTART:20221106T060000
END:STANDARD
BEGIN:DAYLIGHT
TZOFFSETFROM:-0500
TZOFFSETTO:-0400
TZNAME:EDT
DTSTART:20230312T070000
END:DAYLIGHT
BEGIN:STANDARD
TZOFFSETFROM:-0400
TZOFFSETTO:-0500
TZNAME:EST
DTSTART:20231105T060000
END:STANDARD
BEGIN:DAYLIGHT
TZOFFSETFROM:-0500
TZOFFSETTO:-0400
TZNAME:EDT
DTSTART:20240310T070000
END:DAYLIGHT
BEGIN:STANDARD
TZOFFSETFROM:-0400
TZOFFSETTO:-0500
TZNAME:EST
DTSTART:20241103T060000
END:STANDARD
BEGIN:DAYLIGHT
TZOFFSETFROM:-0500
TZOFFSETTO:-0400
TZNAME:EDT
DTSTART:20250309T070000
END:DAYLIGHT
BEGIN:STANDARD
TZOFFSETFROM:-0400
TZOFFSETTO:-0500
TZNAME:EST
DTSTART:20251102T060000
END:STANDARD
BEGIN:DAYLIGHT
TZOFFSETFROM:-0500
TZOFFSETTO:-0400
TZNAME:EDT
DTSTART:20260308T070000
END:DAYLIGHT
BEGIN:STANDARD
TZOFFSETFROM:-0400
TZOFFSETTO:-0500
TZNAME:EST
DTSTART:20261101T060000
END:STANDARD
END:VTIMEZONE
BEGIN:VEVENT
DTSTART;TZID=America/New_York:20250405T080000
DTEND;TZID=America/New_York:20250405T130000
DTSTAMP:20260420T061203
CREATED:20250225T162238Z
LAST-MODIFIED:20250225T162238Z
UID:10003660-1743840000-1743858000@visitevergladescity.com
SUMMARY:5K Walk-Run 2025
DESCRIPTION:APRIL 5\, 2025\nRace Starts at 8:00 a.m. \nDr. Martin Luther King\, Jr. Administrative Center Campus\n5775 Osceola Trail\, Naples \n\n\nThis event provides a great opportunity to model and demonstrate healthy living to our students\, families\, staff\, and community. CCPS has a goal of bringing over 2\,200 people together to run or walk in an effort to raise awareness for healthy living. This event has previously welcomed almost 2\,000 participants\, making it the 2nd largest 5K event in Collier County. This year\, we plan to grow the event.\n\nThe school district is committed to promoting wellness\, nutrition\, and an active lifestyle. Proceeds from the event will support District schools. Supporting this 5K Walk-Run helps impact all 50\,000 CCPS students. This is one of the few initiatives that can offer that scope of impact.
URL:https://visitevergladescity.com/event/5k-walk-run-2025/
LOCATION:Dr. Martin Luther King\, Jr. Administrative Center Campus\, 5775 Osceola Trail\, Naples\, FL\, 34109\, United States
CATEGORIES:Fundraiser,School
ATTACH;FMTTYPE=image/webp:https://visitevergladescity.com/wp-content/uploads/2025/02/5K-run-4-5-2025-web.webp
END:VEVENT
BEGIN:VEVENT
DTSTART;TZID=America/New_York:20240209T193000
DTEND;TZID=America/New_York:20240209T213000
DTSTAMP:20260420T061203
CREATED:20240119T211336Z
LAST-MODIFIED:20240119T211556Z
UID:10001161-1707507000-1707514200@visitevergladescity.com
SUMMARY:#CCPSFamily Night with the Everblades
DESCRIPTION:Join our #CCPSFamily for Hockey Night with the Everblades! Watch the Kelly Cup Champion Florida Everblades take on the New York Adirondack Thunder. \nThis event is open to CCPS staff\, students\, families\, friends\, and alumni! \n#CCPSFamily Night with the Everblades\nFriday\, February 9\, 2024\nat Hertz Arena\nGame starts at 7:30pm \n$15 per Person\n$1 of each ticket will benefit the United Way of Collier and the Keys. Regular retail for these seats is $37 per ticket. \nGET YOUR TICKETS TODAY!
URL:https://visitevergladescity.com/event/ccpsfamily-night-with-the-everblades/
LOCATION:Hertz Arena\, 11000 Everblades Parkway\, Estero\, FL\, 33928\, United States
CATEGORIES:School
ATTACH;FMTTYPE=image/jpeg:https://visitevergladescity.com/wp-content/uploads/2024/01/CCPSFamily-Night-with-the-Everblades-February-9-2024.jpg
END:VEVENT
BEGIN:VEVENT
DTSTART;TZID=America/New_York:20240112T080000
DTEND;TZID=America/New_York:20240112T170000
DTSTAMP:20260420T061203
CREATED:20240112T215610Z
LAST-MODIFIED:20240112T215649Z
UID:10001158-1705046400-1705078800@visitevergladescity.com
SUMMARY:CCPS Family Night with the Everblades
DESCRIPTION:Join our #CCPSFamily for Hockey Night with the Everblades!\nWatch the Kelly Cup Champion Florida Everblades take on the New York Adirondack Thunder.\nThis event is open to CCPS staff\, students\, families\, friends\, and alumni! \n#CCPSFamily Night with the Everblades\nFriday\, February 9\, 2024\nat Hertz Arena\nGame starts at 7:30pm \n$15 per Person\n$1 of each ticket will benefit the United Way of Collier and the Keys. Regular retail for these seats is $37 per ticket. \nGET YOUR TICKETS TODAY!\nhttps://everblades.spinzo.com/collier-county-public-schools-fundraiser-and-family-fun-night-with-the-florida-everblades-2024-02-09-SARHV?group=collier-county-public-schools-njdz
URL:https://visitevergladescity.com/event/ccps-family-night-with-the-everblades/
LOCATION:Hertz Arena\, 11000 Everblades Parkway\, Estero\, FL\, 33928\, United States
CATEGORIES:Fundraiser
ATTACH;FMTTYPE=image/jpeg:https://visitevergladescity.com/wp-content/uploads/2024/01/hockey24.jpg
END:VEVENT
BEGIN:VEVENT
DTSTART;TZID=America/New_York:20231104T080000
DTEND;TZID=America/New_York:20231104T130000
DTSTAMP:20260420T061203
CREATED:20231003T165055Z
LAST-MODIFIED:20231003T165055Z
UID:10000136-1699084800-1699102800@visitevergladescity.com
SUMMARY:5K Walk-Run 2023
DESCRIPTION:NOVEMBER 4\, 2023\nRace Starts at 8:00 a.m. at the Dr. Martin Luther King\, Jr. Administrative Center Campus. \n\n\n\n5775 Osceola Trail\nNaples\, FL 34109 \n\n\n\nThis years event is designed to bring the focus of health and wellness to Collier County students\, teachers\, school staff\, and the community. In 2019\, there were over 2\,100 participants with 100% of schools participating\, making it the 2nd largest 5K event in Collier County. This year\, we want to bring 2\,500 people together to run or walk in an effort to raise awareness of healthy living. \nThe school district is committed to promoting wellness\, nutrition\, and an active lifestyle. Proceeds from the event will support District schools. Supporting this 5K Walk-Run helps impact all 50\,000 CCPS students. This is one of the few initiatives that can offer that scope of impact. All participants will receive a chipped (timed) bib\, however\, you can choose to participate in one of the following: 5K Run/Fun Run or OneMile Walk. All participants receive a t-shirt and medal. \nMore Info: https://www.collierschools.com/ccps5K
URL:https://visitevergladescity.com/event/5k-walk-run-2023/
LOCATION:Dr. Martin Luther King\, Jr. Administrative Center Campus\, 5775 Osceola Trail\, Naples\, FL\, 34109\, United States
CATEGORIES:Fundraiser
ATTACH;FMTTYPE=image/png:https://visitevergladescity.com/wp-content/uploads/2023/10/2023logoPNG-min.png
END:VEVENT
END:VCALENDAR