BEGIN:VCALENDAR
VERSION:2.0
PRODID:-//Visit Everglades City - ECPv6.15.20//NONSGML v1.0//EN
CALSCALE:GREGORIAN
METHOD:PUBLISH
X-ORIGINAL-URL:https://visitevergladescity.com
X-WR-CALDESC:Events for Visit Everglades City
REFRESH-INTERVAL;VALUE=DURATION:PT1H
X-Robots-Tag:noindex
X-PUBLISHED-TTL:PT1H
BEGIN:VTIMEZONE
TZID:America/New_York
BEGIN:DAYLIGHT
TZOFFSETFROM:-0500
TZOFFSETTO:-0400
TZNAME:EDT
DTSTART:20230312T070000
END:DAYLIGHT
BEGIN:STANDARD
TZOFFSETFROM:-0400
TZOFFSETTO:-0500
TZNAME:EST
DTSTART:20231105T060000
END:STANDARD
BEGIN:DAYLIGHT
TZOFFSETFROM:-0500
TZOFFSETTO:-0400
TZNAME:EDT
DTSTART:20240310T070000
END:DAYLIGHT
BEGIN:STANDARD
TZOFFSETFROM:-0400
TZOFFSETTO:-0500
TZNAME:EST
DTSTART:20241103T060000
END:STANDARD
BEGIN:DAYLIGHT
TZOFFSETFROM:-0500
TZOFFSETTO:-0400
TZNAME:EDT
DTSTART:20250309T070000
END:DAYLIGHT
BEGIN:STANDARD
TZOFFSETFROM:-0400
TZOFFSETTO:-0500
TZNAME:EST
DTSTART:20251102T060000
END:STANDARD
BEGIN:DAYLIGHT
TZOFFSETFROM:-0500
TZOFFSETTO:-0400
TZNAME:EDT
DTSTART:20260308T070000
END:DAYLIGHT
BEGIN:STANDARD
TZOFFSETFROM:-0400
TZOFFSETTO:-0500
TZNAME:EST
DTSTART:20261101T060000
END:STANDARD
BEGIN:DAYLIGHT
TZOFFSETFROM:-0500
TZOFFSETTO:-0400
TZNAME:EDT
DTSTART:20270314T070000
END:DAYLIGHT
BEGIN:STANDARD
TZOFFSETFROM:-0400
TZOFFSETTO:-0500
TZNAME:EST
DTSTART:20271107T060000
END:STANDARD
END:VTIMEZONE
BEGIN:VEVENT
DTSTART;TZID=America/New_York:20260322T120000
DTEND;TZID=America/New_York:20260322T170000
DTSTAMP:20260422T154615
CREATED:20250127T174550Z
LAST-MODIFIED:20260203T204042Z
UID:10003588-1774180800-1774198800@visitevergladescity.com
SUMMARY:Turkey Shoot
DESCRIPTION:The Lions Club of Everglades City is bringing back their Annual Turkey Shoot on March 15-16 at the Mayberry Cypress Tower Camp.  This family friendly event is a great opportunity to win some bragging rights as a top shooter and a little cash!  The event will run from 10:00am-5:00pm on March 15\, 2025 and 12:00pm-5:00pm March 16\, 2025.\n\nThe Lions Club will supply the ammo!  Bring your shot guns and get ready for a great time!  If you don’t have a shotgun\, come anyway.  They will be able to set you up!\n\nSo if you are interested in donating cash\, prizes\, or participating then mark your calendar and reach out to Lion Cecil Barker\, Lions Club President\, by email at ccbarker612@gmail.com.
URL:https://visitevergladescity.com/event/turkey-shoot-2/
LOCATION:Mayberry’s Cypress Tower Camp\, 18101 Cypress Tower Rd\, Ochopee\, FL\, 34141\, United States
CATEGORIES:Culture,Fundraiser,Tournament
ATTACH;FMTTYPE=image/webp:https://visitevergladescity.com/wp-content/uploads/2025/01/Turkey-shoot-poster-scaled.webp
END:VEVENT
BEGIN:VEVENT
DTSTART;TZID=America/New_York:20260321T100000
DTEND;TZID=America/New_York:20260321T170000
DTSTAMP:20260422T154615
CREATED:20260121T062824Z
LAST-MODIFIED:20260218T185033Z
UID:10003991-1774087200-1774112400@visitevergladescity.com
SUMMARY:Turkey Shoot
DESCRIPTION:The Lions Club of Everglades City is bringing back its Annual Turkey Shoot on March 21-22 at the Mayberry Cypress Tower Camp.  This family-friendly event is a great opportunity to win some bragging rights as a top shooter and a little cash!  The event will run from 10:00 am-5:00 pm on March 21\, 2026\, and from 12:00 pm-5:00 pm on March 22\, 2026.\n\nThe Lions Club will supply the ammo!  Bring your shotguns and get ready for a great time!  If you don’t have a shotgun\, come anyway.  They will be able to set you up!\n\nSo if you are interested in donating cash\, prizes\, or participating\, then mark your calendar and reach out to Lion Cecil Barker\, Lions Club President\, by email at ccbarker612@gmail.com.
URL:https://visitevergladescity.com/event/turkey-shoot-2026/
LOCATION:Mayberry’s Cypress Tower Camp\, 18101 Cypress Tower Rd\, Ochopee\, FL\, 34141\, United States
CATEGORIES:Culture,Fundraiser,Tournament
ATTACH;FMTTYPE=image/jpeg:https://visitevergladescity.com/wp-content/uploads/2025/01/Lions-Club-Turkey-Shoot-FB_Event-scaled.jpg
END:VEVENT
BEGIN:VEVENT
DTSTART;TZID=America/New_York:20250315T100000
DTEND;TZID=America/New_York:20250315T170000
DTSTAMP:20260422T154615
CREATED:20250127T171231Z
LAST-MODIFIED:20250127T171455Z
UID:10003587-1742032800-1742058000@visitevergladescity.com
SUMMARY:Turkey Shoot
DESCRIPTION:The Lions Club of Everglades City is bringing back their Annual Turkey Shoot on March 15-16 at the Mayberry Cypress Tower Camp.  This family friendly event is a great opportunity to win some bragging rights as a top shooter and a little cash!  The event will run from 10:00am-5:00pm on March 15\, 2025 and 12:00pm-5:00pm March 16\, 2025.\n\nThe Lions Club will supply the ammo!  Bring your shot guns and get ready for a great time!  If you don’t have a shotgun\, come anyway.  They will be able to set you up!\n\nSo if you are interested in donating cash\, prizes\, or participating then mark your calendar and reach out to Lion Cecil Barker\, Lions Club President\, by email at ccbarker612@gmail.com.
URL:https://visitevergladescity.com/event/turkey-shoot/
LOCATION:Mayberry’s Cypress Tower Camp\, 18101 Cypress Tower Rd\, Ochopee\, FL\, 34141\, United States
CATEGORIES:Culture,Fundraiser,Tournament
ATTACH;FMTTYPE=image/webp:https://visitevergladescity.com/wp-content/uploads/2025/01/Turkey-shoot-poster-scaled.webp
END:VEVENT
BEGIN:VEVENT
DTSTART;TZID=America/New_York:20241109T070000
DTEND;TZID=America/New_York:20241109T163000
DTSTAMP:20260422T154615
CREATED:20240613T175330Z
LAST-MODIFIED:20240613T175330Z
UID:10002236-1731135600-1731169800@visitevergladescity.com
SUMMARY:7th Annual Hook’em in the Glades: Tournament
DESCRIPTION:The 7th Annual Hook’em in the Glades fishing fundraiser supporting Everglades City Schools is scheduled for November 8-9\, 2024! Teams will fish the 10\,000 islands for a chance to catch the biggest Snook\, Redfish\, and Seatrout while supporting our school. Find out more: https://hookemintheglades.com
URL:https://visitevergladescity.com/event/7th-annual-hookem-in-the-glades-tournament/
LOCATION:Everglades Fishing Company\, 201 Collier Ave\, Everglades City\, FL\, 34139\, United States
CATEGORIES:Fishing,Fundraiser,Tournament
ATTACH;FMTTYPE=image/jpeg:https://visitevergladescity.com/wp-content/uploads/2023/10/Hookem-in-the-Glades-2023-Logo-min.jpg
END:VEVENT
BEGIN:VEVENT
DTSTART;TZID=America/New_York:20241108T173000
DTEND;TZID=America/New_York:20241108T193000
DTSTAMP:20260422T154615
CREATED:20240613T175052Z
LAST-MODIFIED:20240613T175052Z
UID:10002235-1731087000-1731094200@visitevergladescity.com
SUMMARY:7th Annual Hook’em in the Glades: Captain's Meeting
DESCRIPTION:The 7th Annual Hook’em in the Glades fishing fundraiser supporting Everglades City Schools is scheduled for November 8-9\, 2024! Teams will fish the 10\,000 islands for a chance to catch the biggest Snook\, Redfish\, and Seatrout while supporting our school. Find out more: https://hookemintheglades.com
URL:https://visitevergladescity.com/event/7th-annual-hookem-in-the-glades-captains-meeting/
LOCATION:Gator Hole Bar\, 875 S. Copeland Ave. S\, Everglades City\, FL\, 34139\, United States
CATEGORIES:Fishing,Fundraiser,Tournament
ATTACH;FMTTYPE=image/jpeg:https://visitevergladescity.com/wp-content/uploads/2023/10/Hookem-in-the-Glades-2023-Logo-min.jpg
END:VEVENT
BEGIN:VEVENT
DTSTART;TZID=America/New_York:20240106T163000
DTEND;TZID=America/New_York:20240106T180000
DTSTAMP:20260422T154615
CREATED:20240103T144745Z
LAST-MODIFIED:20240103T144745Z
UID:10001150-1704558600-1704564000@visitevergladescity.com
SUMMARY:Chicken BBQ Dinner
DESCRIPTION:Featuring: Cecil’s Famous Chicken BBQ with Beans\, Cole Slaw and Dessert $17 \nTickets should be purchased before January 2nd by contacting: Connie Barker at 1-419-350-6650 or Caryn Wells at 1-83-557-4533 \nA limited number of dinners will be available at the event. \nSponsored by the Everglades Lions Club
URL:https://visitevergladescity.com/event/chicken-bbq-dinner/
LOCATION:McLeod Park\, Copeland Ave & Hibiscus St W\,\, Everglades City\, FL\, 34141\, United States
CATEGORIES:Culture
ATTACH;FMTTYPE=image/jpeg:https://visitevergladescity.com/wp-content/uploads/2024/01/Chicken-BBQ-at-the-Park-2024_01_06-min.jpg
END:VEVENT
END:VCALENDAR