BEGIN:VCALENDAR
VERSION:2.0
PRODID:-//Visit Everglades City - ECPv6.15.20//NONSGML v1.0//EN
CALSCALE:GREGORIAN
METHOD:PUBLISH
X-ORIGINAL-URL:https://visitevergladescity.com
X-WR-CALDESC:Events for Visit Everglades City
REFRESH-INTERVAL;VALUE=DURATION:PT1H
X-Robots-Tag:noindex
X-PUBLISHED-TTL:PT1H
BEGIN:VTIMEZONE
TZID:America/New_York
BEGIN:DAYLIGHT
TZOFFSETFROM:-0500
TZOFFSETTO:-0400
TZNAME:EDT
DTSTART:20230312T070000
END:DAYLIGHT
BEGIN:STANDARD
TZOFFSETFROM:-0400
TZOFFSETTO:-0500
TZNAME:EST
DTSTART:20231105T060000
END:STANDARD
BEGIN:DAYLIGHT
TZOFFSETFROM:-0500
TZOFFSETTO:-0400
TZNAME:EDT
DTSTART:20240310T070000
END:DAYLIGHT
BEGIN:STANDARD
TZOFFSETFROM:-0400
TZOFFSETTO:-0500
TZNAME:EST
DTSTART:20241103T060000
END:STANDARD
BEGIN:DAYLIGHT
TZOFFSETFROM:-0500
TZOFFSETTO:-0400
TZNAME:EDT
DTSTART:20250309T070000
END:DAYLIGHT
BEGIN:STANDARD
TZOFFSETFROM:-0400
TZOFFSETTO:-0500
TZNAME:EST
DTSTART:20251102T060000
END:STANDARD
BEGIN:DAYLIGHT
TZOFFSETFROM:-0500
TZOFFSETTO:-0400
TZNAME:EDT
DTSTART:20260308T070000
END:DAYLIGHT
BEGIN:STANDARD
TZOFFSETFROM:-0400
TZOFFSETTO:-0500
TZNAME:EST
DTSTART:20261101T060000
END:STANDARD
BEGIN:DAYLIGHT
TZOFFSETFROM:-0500
TZOFFSETTO:-0400
TZNAME:EDT
DTSTART:20270314T070000
END:DAYLIGHT
BEGIN:STANDARD
TZOFFSETFROM:-0400
TZOFFSETTO:-0500
TZNAME:EST
DTSTART:20271107T060000
END:STANDARD
END:VTIMEZONE
BEGIN:VEVENT
DTSTART;TZID=America/New_York:20260411T110000
DTEND;TZID=America/New_York:20260411T140000
DTSTAMP:20260423T074253
CREATED:20260403T114803Z
LAST-MODIFIED:20260403T114803Z
UID:10004549-1775905200-1775916000@visitevergladescity.com
SUMMARY:Spring Fling - Goodland
DESCRIPTION:The Goodland Civic Association is throwing its 14th Annual Spring Fling on Saturday\, April 11th\, and everyone is invited. Head to Margood Harbor Park from 11:00 a.m. to 2:00 p.m. for a free community meal and a proper seasonal send-off. \nStan’s\, Little Bar\, Kirk Fish Company\, Paradise Found\, and Crabby Lady are providing the food — hamburgers\, hot dogs\, french fries\, salads\, and all the fixings. The GCA is covering sodas\, water\, condiments\, and raffle prizes. \nIt’s a great chance to celebrate another season of events and friendships\, and to say “See you next season” to your Goodland neighbors before summer sets in. Come hungry\, bring a friend\, and don’t miss it!
URL:https://visitevergladescity.com/event/gca-spring-fling-at-margood-harbor-park-2026/
LOCATION:MarGood Harbor Park\, Pear Tree Ave\, Goodland\, FL\, 34140\, United States
CATEGORIES:Community,Culture
ATTACH;FMTTYPE=image/webp:https://visitevergladescity.com/wp-content/uploads/2026/04/Goodland-Florida-Spring-Fling-2026-copy-1.webp
END:VEVENT
BEGIN:VEVENT
DTSTART;TZID=America/New_York:20260315T080000
DTEND;TZID=America/New_York:20260315T160000
DTSTAMP:20260423T074253
CREATED:20260128T062312Z
LAST-MODIFIED:20260306T044846Z
UID:10004185-1773561600-1773590400@visitevergladescity.com
SUMMARY:14th Annual Harbor Arts & Music Festival
DESCRIPTION:Come to the 14th Annual Harbor Arts & Music Festival on March 14 & 15 at MarGood Harbor Park. Showcasing top-tier artists and diverse cuisines\, enjoy captivating raffle prizes and live performances by Florida’s top musicians. Don’t miss this blend of great food\, juried art show\, and live music! \nMore Info: taraogallery@gmail.com
URL:https://visitevergladescity.com/event/14th-annual-harbor-arts-music-festival/2026-03-15/
LOCATION:MarGood Harbor Park\, Pear Tree Ave\, Goodland\, FL\, 34140\, United States
CATEGORIES:Culture
ATTACH;FMTTYPE=image/jpeg:https://visitevergladescity.com/wp-content/uploads/2026/01/FB_IMG_1769578582690.jpg
END:VEVENT
BEGIN:VEVENT
DTSTART;TZID=America/New_York:20260314T100000
DTEND;TZID=America/New_York:20260314T160000
DTSTAMP:20260423T074253
CREATED:20260128T062312Z
LAST-MODIFIED:20260306T044846Z
UID:10004184-1773482400-1773504000@visitevergladescity.com
SUMMARY:14th Annual Harbor Arts & Music Festival
DESCRIPTION:Come to the 14th Annual Harbor Arts & Music Festival on March 14 & 15 at MarGood Harbor Park. Showcasing top-tier artists and diverse cuisines\, enjoy captivating raffle prizes and live performances by Florida’s top musicians. Don’t miss this blend of great food\, juried art show\, and live music! \nMore Info: taraogallery@gmail.com
URL:https://visitevergladescity.com/event/14th-annual-harbor-arts-music-festival/2026-03-14/
LOCATION:MarGood Harbor Park\, Pear Tree Ave\, Goodland\, FL\, 34140\, United States
CATEGORIES:Culture
ATTACH;FMTTYPE=image/jpeg:https://visitevergladescity.com/wp-content/uploads/2026/01/FB_IMG_1769578582690.jpg
END:VEVENT
BEGIN:VEVENT
DTSTART;TZID=America/New_York:20260308T080000
DTEND;TZID=America/New_York:20260308T110000
DTSTAMP:20260423T074253
CREATED:20260128T060027Z
LAST-MODIFIED:20260128T060356Z
UID:10004180-1772956800-1772967600@visitevergladescity.com
SUMMARY:GCA Pancake Breakfast
DESCRIPTION:Join us in Goodland for ALL YOU CAN EAT delicious pancakes\, sausage\, coffee and orange juice served up by some of the sweetest Goodlanders in the village! \n$8 for Adults | $3 for Children \nGoodland Community Center 417 Mango Avenue\, Goodland.
URL:https://visitevergladescity.com/event/gca-pancake-breakfast-2/2026-03-08/
LOCATION:Goodland Community Center\, 417 Mango Avenue\, Goodland\, FL\, 34140\, United States
CATEGORIES:Community,Culture
ATTACH;FMTTYPE=image/jpeg:https://visitevergladescity.com/wp-content/uploads/2026/01/FB_IMG_1769578736078.jpg
END:VEVENT
BEGIN:VEVENT
DTSTART;TZID=America/New_York:20260307T080000
DTEND;TZID=America/New_York:20260307T110000
DTSTAMP:20260423T074253
CREATED:20260128T060027Z
LAST-MODIFIED:20260128T060356Z
UID:10004179-1772870400-1772881200@visitevergladescity.com
SUMMARY:GCA Pancake Breakfast
DESCRIPTION:Join us in Goodland for ALL YOU CAN EAT delicious pancakes\, sausage\, coffee and orange juice served up by some of the sweetest Goodlanders in the village! \n$8 for Adults | $3 for Children \nGoodland Community Center 417 Mango Avenue\, Goodland.
URL:https://visitevergladescity.com/event/gca-pancake-breakfast-2/2026-03-07/
LOCATION:Goodland Community Center\, 417 Mango Avenue\, Goodland\, FL\, 34140\, United States
CATEGORIES:Community,Culture
ATTACH;FMTTYPE=image/jpeg:https://visitevergladescity.com/wp-content/uploads/2026/01/FB_IMG_1769578736078.jpg
END:VEVENT
BEGIN:VEVENT
DTSTART;TZID=America/New_York:20260215T080000
DTEND;TZID=America/New_York:20260215T110000
DTSTAMP:20260423T074253
CREATED:20260128T060027Z
LAST-MODIFIED:20260128T060356Z
UID:10004178-1771142400-1771153200@visitevergladescity.com
SUMMARY:GCA Pancake Breakfast
DESCRIPTION:Join us in Goodland for ALL YOU CAN EAT delicious pancakes\, sausage\, coffee and orange juice served up by some of the sweetest Goodlanders in the village! \n$8 for Adults | $3 for Children \nGoodland Community Center 417 Mango Avenue\, Goodland.
URL:https://visitevergladescity.com/event/gca-pancake-breakfast-2/2026-02-15/
LOCATION:Goodland Community Center\, 417 Mango Avenue\, Goodland\, FL\, 34140\, United States
CATEGORIES:Community,Culture
ATTACH;FMTTYPE=image/jpeg:https://visitevergladescity.com/wp-content/uploads/2026/01/FB_IMG_1769578736078.jpg
END:VEVENT
BEGIN:VEVENT
DTSTART;TZID=America/New_York:20260214T080000
DTEND;TZID=America/New_York:20260214T110000
DTSTAMP:20260423T074253
CREATED:20260128T060027Z
LAST-MODIFIED:20260128T060356Z
UID:10004181-1771056000-1771066800@visitevergladescity.com
SUMMARY:GCA Pancake Breakfast
DESCRIPTION:Join us in Goodland for ALL YOU CAN EAT delicious pancakes\, sausage\, coffee and orange juice served up by some of the sweetest Goodlanders in the village! \n$8 for Adults | $3 for Children \nGoodland Community Center 417 Mango Avenue\, Goodland.
URL:https://visitevergladescity.com/event/gca-pancake-breakfast-2/2026-02-14/
LOCATION:Goodland Community Center\, 417 Mango Avenue\, Goodland\, FL\, 34140\, United States
CATEGORIES:Community,Culture
ATTACH;FMTTYPE=image/jpeg:https://visitevergladescity.com/wp-content/uploads/2026/01/FB_IMG_1769578736078.jpg
END:VEVENT
BEGIN:VEVENT
DTSTART;TZID=America/New_York:20251216T180000
DTEND;TZID=America/New_York:20251216T200000
DTSTAMP:20260423T074253
CREATED:20251217T094550Z
LAST-MODIFIED:20251217T094550Z
UID:10003960-1765908000-1765915200@visitevergladescity.com
SUMMARY:Christmas Golf Cart Parade & Tree Lighting in Goodland
DESCRIPTION:Kick off the holiday season in true Goodland style with a festive Christmas Golf Cart Parade & Tree Lighting at Margood Harbor Park Pavilion. Decorated golf carts will roll by\, spreading cheer as neighbors and visitors gather for an evening of lights\, music\, and community fun. \nAfter the parade\, enjoy the official tree lighting\, holiday caroling\, and a cozy hometown atmosphere that makes Goodland special. Golf cart owners are encouraged to join the decorating contest\, and everyone is invited to bring cookies to share. This family-friendly celebration is a perfect way to slow down\, connect\, and enjoy the magic of the season by the water. \nHosted by the Goodland Civic Association.
URL:https://visitevergladescity.com/event/christmas-golf-cart-parade-tree-lighting-in-goodland/
ATTACH;FMTTYPE=image/jpeg:https://visitevergladescity.com/wp-content/uploads/2025/12/Christmas-Tree-Lighting-Goodland-2025-scaled.jpg
END:VEVENT
BEGIN:VEVENT
DTSTART;TZID=America/New_York:20251116T100000
DTEND;TZID=America/New_York:20251116T160000
DTSTAMP:20260423T074253
CREATED:20251010T201217Z
LAST-MODIFIED:20251010T201640Z
UID:10003928-1763287200-1763308800@visitevergladescity.com
SUMMARY:16th Annual Goodland Civic Association Holiday Bazaar
DESCRIPTION:The Goodland Civic Association will host its 16th Annual Holiday Bazaar\, Saturday\, November 15 and Sunday\, November 16 from 10am-4pm\, at MarGood Harbor Park in the historic fishing Village of Goodland. \nThis two day Pre-Holiday Celebration will feature booths filled with Fine Art & Handmade Crafts; Painting | Photography | Ceramics | Mixed Media | Shell Craft | Jewelry | Holiday Crafts | Bath & Body Products | Kids Craft Kits | Goodland merchandise\, Goodlandopoly\, cookbooks and more! A team of volunteer golf-cart shuttle drivers will ferry folks between Village venues. \nThe venue\, MarGood Harbor Park\, holds well-documented historic and environmental significance. Today native landscaping and lovely walkways wrap around a charming harbor-front. The park also features a museum/interpretive center\, 2 open-air pavilions\, and kayak launch. \nStay for the show and stay for the day and explore our marinas\, restaurants and bars! \nAnd remember: if it’s in Goodland\, you know it’s gonna be good!
URL:https://visitevergladescity.com/event/16th-annual-goodland-civic-association-holiday-bazaar/2025-11-16/
LOCATION:MarGood Harbor Park\, Pear Tree Ave\, Goodland\, FL\, 34140\, United States
CATEGORIES:Culture
END:VEVENT
BEGIN:VEVENT
DTSTART;TZID=America/New_York:20251115T100000
DTEND;TZID=America/New_York:20251115T160000
DTSTAMP:20260423T074253
CREATED:20251010T201217Z
LAST-MODIFIED:20251010T201640Z
UID:10003927-1763200800-1763222400@visitevergladescity.com
SUMMARY:16th Annual Goodland Civic Association Holiday Bazaar
DESCRIPTION:The Goodland Civic Association will host its 16th Annual Holiday Bazaar\, Saturday\, November 15 and Sunday\, November 16 from 10am-4pm\, at MarGood Harbor Park in the historic fishing Village of Goodland. \nThis two day Pre-Holiday Celebration will feature booths filled with Fine Art & Handmade Crafts; Painting | Photography | Ceramics | Mixed Media | Shell Craft | Jewelry | Holiday Crafts | Bath & Body Products | Kids Craft Kits | Goodland merchandise\, Goodlandopoly\, cookbooks and more! A team of volunteer golf-cart shuttle drivers will ferry folks between Village venues. \nThe venue\, MarGood Harbor Park\, holds well-documented historic and environmental significance. Today native landscaping and lovely walkways wrap around a charming harbor-front. The park also features a museum/interpretive center\, 2 open-air pavilions\, and kayak launch. \nStay for the show and stay for the day and explore our marinas\, restaurants and bars! \nAnd remember: if it’s in Goodland\, you know it’s gonna be good!
URL:https://visitevergladescity.com/event/16th-annual-goodland-civic-association-holiday-bazaar/2025-11-15/
LOCATION:MarGood Harbor Park\, Pear Tree Ave\, Goodland\, FL\, 34140\, United States
CATEGORIES:Culture
END:VEVENT
BEGIN:VEVENT
DTSTART;TZID=America/New_York:20250214T080000
DTEND;TZID=America/New_York:20250214T110000
DTSTAMP:20260423T074253
CREATED:20260128T060027Z
LAST-MODIFIED:20260128T060356Z
UID:10004177-1739520000-1739530800@visitevergladescity.com
SUMMARY:GCA Pancake Breakfast
DESCRIPTION:Join us in Goodland for ALL YOU CAN EAT delicious pancakes\, sausage\, coffee and orange juice served up by some of the sweetest Goodlanders in the village! \n$8 for Adults | $3 for Children \nGoodland Community Center 417 Mango Avenue\, Goodland.
URL:https://visitevergladescity.com/event/gca-pancake-breakfast-2/2025-02-14/
LOCATION:Goodland Community Center\, 417 Mango Avenue\, Goodland\, FL\, 34140\, United States
CATEGORIES:Community,Culture
ATTACH;FMTTYPE=image/jpeg:https://visitevergladescity.com/wp-content/uploads/2026/01/FB_IMG_1769578736078.jpg
END:VEVENT
BEGIN:VEVENT
DTSTART;TZID=America/New_York:20240317T080000
DTEND;TZID=America/New_York:20240317T110000
DTSTAMP:20260423T074253
CREATED:20240304T212800Z
LAST-MODIFIED:20240304T212902Z
UID:10001550-1710662400-1710673200@visitevergladescity.com
SUMMARY:All You Can Eat Pancake Breakfast!
DESCRIPTION:Join us in Goodland for the last pancake breakfast of the season! Saturday\, March 16th and Sunday\, March 17th\, 8:00am – 11:00amEnjoy ALL YOU CAN EAT delicious pancakes\, sausage\, coffee and orange juice served up by some of the sweetest Goodlanders in the village!\n$5 for Adults | $3 for Children\n$1 for Eggs \nWe will be offering fun raffle prizes and selling Goodland merchandise. \nGoodland Community Center\n417 Mango Avenue\, Goodland\, FL 34140 \nAnd\, remember… if it’s in Goodland\, you know it’s gonna be Good!
URL:https://visitevergladescity.com/event/all-you-can-eat-pancake-breakfast-march-17/
LOCATION:Goodland Community Center\, 417 Mango Avenue\, Goodland\, FL\, 34140\, United States
CATEGORIES:Culture
ATTACH;FMTTYPE=image/jpeg:https://visitevergladescity.com/wp-content/uploads/2024/03/All-you-can-eat-pancakes-goodland.jpg
END:VEVENT
BEGIN:VEVENT
DTSTART;TZID=America/New_York:20240316T080000
DTEND;TZID=America/New_York:20240316T110000
DTSTAMP:20260423T074253
CREATED:20240304T212514Z
LAST-MODIFIED:20240304T212939Z
UID:10001549-1710576000-1710586800@visitevergladescity.com
SUMMARY:All You Can Eat Pancake Breakfast!
DESCRIPTION:Join us in Goodland for the last pancake breakfast of the season! Saturday\, March 16th and Sunday\, March 17th\, 8:00am – 11:00am \nEnjoy ALL YOU CAN EAT delicious pancakes\, sausage\, coffee and orange juice served up by some of the sweetest Goodlanders in the village!\n$5 for Adults | $3 for Children\n$1 for Eggs \nWe will be offering fun raffle prizes and selling Goodland merchandise. \nGoodland Community Center\n417 Mango Avenue\, Goodland\, FL 34140 \nAnd\, remember… if it’s in Goodland\, you know it’s gonna be Good!
URL:https://visitevergladescity.com/event/all-you-can-eat-pancake-breakfast-march-16/
LOCATION:Goodland Community Center\, 417 Mango Avenue\, Goodland\, FL\, 34140\, United States
CATEGORIES:Culture
ATTACH;FMTTYPE=image/jpeg:https://visitevergladescity.com/wp-content/uploads/2024/03/All-you-can-eat-pancakes-goodland.jpg
END:VEVENT
END:VCALENDAR