BEGIN:VCALENDAR
VERSION:2.0
PRODID:-//Visit Everglades City - ECPv6.15.20//NONSGML v1.0//EN
CALSCALE:GREGORIAN
METHOD:PUBLISH
X-ORIGINAL-URL:https://visitevergladescity.com
X-WR-CALDESC:Events for Visit Everglades City
REFRESH-INTERVAL;VALUE=DURATION:PT1H
X-Robots-Tag:noindex
X-PUBLISHED-TTL:PT1H
BEGIN:VTIMEZONE
TZID:America/New_York
BEGIN:DAYLIGHT
TZOFFSETFROM:-0500
TZOFFSETTO:-0400
TZNAME:EDT
DTSTART:20220313T070000
END:DAYLIGHT
BEGIN:STANDARD
TZOFFSETFROM:-0400
TZOFFSETTO:-0500
TZNAME:EST
DTSTART:20221106T060000
END:STANDARD
BEGIN:DAYLIGHT
TZOFFSETFROM:-0500
TZOFFSETTO:-0400
TZNAME:EDT
DTSTART:20230312T070000
END:DAYLIGHT
BEGIN:STANDARD
TZOFFSETFROM:-0400
TZOFFSETTO:-0500
TZNAME:EST
DTSTART:20231105T060000
END:STANDARD
BEGIN:DAYLIGHT
TZOFFSETFROM:-0500
TZOFFSETTO:-0400
TZNAME:EDT
DTSTART:20240310T070000
END:DAYLIGHT
BEGIN:STANDARD
TZOFFSETFROM:-0400
TZOFFSETTO:-0500
TZNAME:EST
DTSTART:20241103T060000
END:STANDARD
BEGIN:DAYLIGHT
TZOFFSETFROM:-0500
TZOFFSETTO:-0400
TZNAME:EDT
DTSTART:20250309T070000
END:DAYLIGHT
BEGIN:STANDARD
TZOFFSETFROM:-0400
TZOFFSETTO:-0500
TZNAME:EST
DTSTART:20251102T060000
END:STANDARD
BEGIN:DAYLIGHT
TZOFFSETFROM:-0500
TZOFFSETTO:-0400
TZNAME:EDT
DTSTART:20260308T070000
END:DAYLIGHT
BEGIN:STANDARD
TZOFFSETFROM:-0400
TZOFFSETTO:-0500
TZNAME:EST
DTSTART:20261101T060000
END:STANDARD
END:VTIMEZONE
BEGIN:VEVENT
DTSTART;TZID=America/New_York:20250619T140000
DTEND;TZID=America/New_York:20250619T150000
DTSTAMP:20260422T092130
CREATED:20240213T201710Z
LAST-MODIFIED:20250801T201628Z
UID:10000373-1750341600-1750345200@visitevergladescity.com
SUMMARY:Third Thursday Talk at the Museum of the Everglades
DESCRIPTION:The Third Thursday Talks hosted by the Museum of the Everglades are geared towards teaching and preserving the history of the area. \nGet all the details at colliermuseums.com.
URL:https://visitevergladescity.com/event/third-thursday-talk-at-the-museum-of-the-everglades-3-2/2025-06-19/
LOCATION:Museum of the Everglades\, 105 Broadway Ave W\, Everglades City\, FL\, 34139\, United States
CATEGORIES:Culture
ATTACH;FMTTYPE=image/png:https://visitevergladescity.com/wp-content/uploads/2023/10/Museum-of-the-Everglades-color-min.png
END:VEVENT
BEGIN:VEVENT
DTSTART;TZID=America/New_York:20250515T140000
DTEND;TZID=America/New_York:20250515T150000
DTSTAMP:20260422T092130
CREATED:20240213T201710Z
LAST-MODIFIED:20250801T201628Z
UID:10000372-1747317600-1747321200@visitevergladescity.com
SUMMARY:Third Thursday Talk at the Museum of the Everglades
DESCRIPTION:The Third Thursday Talks hosted by the Museum of the Everglades are geared towards teaching and preserving the history of the area. \nGet all the details at colliermuseums.com.
URL:https://visitevergladescity.com/event/third-thursday-talk-at-the-museum-of-the-everglades-3-2/2025-05-15/
LOCATION:Museum of the Everglades\, 105 Broadway Ave W\, Everglades City\, FL\, 34139\, United States
CATEGORIES:Culture
ATTACH;FMTTYPE=image/png:https://visitevergladescity.com/wp-content/uploads/2023/10/Museum-of-the-Everglades-color-min.png
END:VEVENT
BEGIN:VEVENT
DTSTART;TZID=America/New_York:20250417T140000
DTEND;TZID=America/New_York:20250417T150000
DTSTAMP:20260422T092130
CREATED:20240213T201710Z
LAST-MODIFIED:20250801T201628Z
UID:10000371-1744898400-1744902000@visitevergladescity.com
SUMMARY:Third Thursday Talk at the Museum of the Everglades
DESCRIPTION:The Third Thursday Talks hosted by the Museum of the Everglades are geared towards teaching and preserving the history of the area. \nGet all the details at colliermuseums.com.
URL:https://visitevergladescity.com/event/third-thursday-talk-at-the-museum-of-the-everglades-3-2/2025-04-17/
LOCATION:Museum of the Everglades\, 105 Broadway Ave W\, Everglades City\, FL\, 34139\, United States
CATEGORIES:Culture
ATTACH;FMTTYPE=image/png:https://visitevergladescity.com/wp-content/uploads/2023/10/Museum-of-the-Everglades-color-min.png
END:VEVENT
BEGIN:VEVENT
DTSTART;TZID=America/New_York:20250320T140000
DTEND;TZID=America/New_York:20250320T150000
DTSTAMP:20260422T092130
CREATED:20240213T201710Z
LAST-MODIFIED:20250801T201628Z
UID:10000370-1742479200-1742482800@visitevergladescity.com
SUMMARY:Third Thursday Talk at the Museum of the Everglades
DESCRIPTION:The Third Thursday Talks hosted by the Museum of the Everglades are geared towards teaching and preserving the history of the area. \nGet all the details at colliermuseums.com.
URL:https://visitevergladescity.com/event/third-thursday-talk-at-the-museum-of-the-everglades-3-2/2025-03-20/
LOCATION:Museum of the Everglades\, 105 Broadway Ave W\, Everglades City\, FL\, 34139\, United States
CATEGORIES:Culture
ATTACH;FMTTYPE=image/png:https://visitevergladescity.com/wp-content/uploads/2023/10/Museum-of-the-Everglades-color-min.png
END:VEVENT
BEGIN:VEVENT
DTSTART;TZID=America/New_York:20250220T140000
DTEND;TZID=America/New_York:20250220T150000
DTSTAMP:20260422T092130
CREATED:20240213T201710Z
LAST-MODIFIED:20250801T201628Z
UID:10000369-1740060000-1740063600@visitevergladescity.com
SUMMARY:Third Thursday Talk at the Museum of the Everglades
DESCRIPTION:The Third Thursday Talks hosted by the Museum of the Everglades are geared towards teaching and preserving the history of the area. \nGet all the details at colliermuseums.com.
URL:https://visitevergladescity.com/event/third-thursday-talk-at-the-museum-of-the-everglades-3-2/2025-02-20/
LOCATION:Museum of the Everglades\, 105 Broadway Ave W\, Everglades City\, FL\, 34139\, United States
CATEGORIES:Culture
ATTACH;FMTTYPE=image/png:https://visitevergladescity.com/wp-content/uploads/2023/10/Museum-of-the-Everglades-color-min.png
END:VEVENT
BEGIN:VEVENT
DTSTART;TZID=America/New_York:20250116T140000
DTEND;TZID=America/New_York:20250116T150000
DTSTAMP:20260422T092130
CREATED:20240213T201710Z
LAST-MODIFIED:20250801T201628Z
UID:10000368-1737036000-1737039600@visitevergladescity.com
SUMMARY:Third Thursday Talk at the Museum of the Everglades
DESCRIPTION:The Third Thursday Talks hosted by the Museum of the Everglades are geared towards teaching and preserving the history of the area. \nGet all the details at colliermuseums.com.
URL:https://visitevergladescity.com/event/third-thursday-talk-at-the-museum-of-the-everglades-3-2/2025-01-16/
LOCATION:Museum of the Everglades\, 105 Broadway Ave W\, Everglades City\, FL\, 34139\, United States
CATEGORIES:Culture
ATTACH;FMTTYPE=image/png:https://visitevergladescity.com/wp-content/uploads/2023/10/Museum-of-the-Everglades-color-min.png
END:VEVENT
BEGIN:VEVENT
DTSTART;TZID=America/New_York:20241219T140000
DTEND;TZID=America/New_York:20241219T150000
DTSTAMP:20260422T092130
CREATED:20240213T201710Z
LAST-MODIFIED:20250801T201628Z
UID:10000367-1734616800-1734620400@visitevergladescity.com
SUMMARY:Third Thursday Talk at the Museum of the Everglades
DESCRIPTION:The Third Thursday Talks hosted by the Museum of the Everglades are geared towards teaching and preserving the history of the area. \nGet all the details at colliermuseums.com.
URL:https://visitevergladescity.com/event/third-thursday-talk-at-the-museum-of-the-everglades-3-2/2024-12-19/
LOCATION:Museum of the Everglades\, 105 Broadway Ave W\, Everglades City\, FL\, 34139\, United States
CATEGORIES:Culture
ATTACH;FMTTYPE=image/png:https://visitevergladescity.com/wp-content/uploads/2023/10/Museum-of-the-Everglades-color-min.png
END:VEVENT
BEGIN:VEVENT
DTSTART;TZID=America/New_York:20241121T140000
DTEND;TZID=America/New_York:20241121T150000
DTSTAMP:20260422T092130
CREATED:20240213T201710Z
LAST-MODIFIED:20250801T201628Z
UID:10000366-1732197600-1732201200@visitevergladescity.com
SUMMARY:Third Thursday Talk at the Museum of the Everglades
DESCRIPTION:The Third Thursday Talks hosted by the Museum of the Everglades are geared towards teaching and preserving the history of the area. \nGet all the details at colliermuseums.com.
URL:https://visitevergladescity.com/event/third-thursday-talk-at-the-museum-of-the-everglades-3-2/2024-11-21/
LOCATION:Museum of the Everglades\, 105 Broadway Ave W\, Everglades City\, FL\, 34139\, United States
CATEGORIES:Culture
ATTACH;FMTTYPE=image/png:https://visitevergladescity.com/wp-content/uploads/2023/10/Museum-of-the-Everglades-color-min.png
END:VEVENT
BEGIN:VEVENT
DTSTART;TZID=America/New_York:20241026T170000
DTEND;TZID=America/New_York:20241026T190000
DTSTAMP:20260422T092130
CREATED:20240911T203409Z
LAST-MODIFIED:20240930T140808Z
UID:10002334-1729962000-1729969200@visitevergladescity.com
SUMMARY:Snakes in the Museum
DESCRIPTION:Everglades City Halloween Trunk or Treat  Join us after hours at Museum of the Everglades as we make hissssssstory with Everglades City’s annual Halloween Trunk-or-Treat celebration at McLeod Park. Check out the “Python Hunters” exhibit and wind your way through the gallery to pick up treats. Avoid the sneaky snakes and you just might win a prize! Fun for kids of all ages guaranteed.
URL:https://visitevergladescity.com/event/snakes-in-the-museum/
LOCATION:Museum of the Everglades\, 105 Broadway Ave W\, Everglades City\, FL\, 34139\, United States
CATEGORIES:Culture,ECity
ATTACH;FMTTYPE=image/webp:https://visitevergladescity.com/wp-content/uploads/2024/09/10.26.24-Snakes-in-the-Museum.webp
END:VEVENT
BEGIN:VEVENT
DTSTART;TZID=America/New_York:20241017T140000
DTEND;TZID=America/New_York:20241017T150000
DTSTAMP:20260422T092130
CREATED:20240213T201710Z
LAST-MODIFIED:20250801T201628Z
UID:10000365-1729173600-1729177200@visitevergladescity.com
SUMMARY:Third Thursday Talk at the Museum of the Everglades
DESCRIPTION:The Third Thursday Talks hosted by the Museum of the Everglades are geared towards teaching and preserving the history of the area. \nGet all the details at colliermuseums.com.
URL:https://visitevergladescity.com/event/third-thursday-talk-at-the-museum-of-the-everglades-3-2/2024-10-17/
LOCATION:Museum of the Everglades\, 105 Broadway Ave W\, Everglades City\, FL\, 34139\, United States
CATEGORIES:Culture
ATTACH;FMTTYPE=image/png:https://visitevergladescity.com/wp-content/uploads/2023/10/Museum-of-the-Everglades-color-min.png
END:VEVENT
BEGIN:VEVENT
DTSTART;TZID=America/New_York:20240919T140000
DTEND;TZID=America/New_York:20240919T150000
DTSTAMP:20260422T092130
CREATED:20240213T201710Z
LAST-MODIFIED:20250801T201628Z
UID:10000364-1726754400-1726758000@visitevergladescity.com
SUMMARY:Third Thursday Talk at the Museum of the Everglades
DESCRIPTION:The Third Thursday Talks hosted by the Museum of the Everglades are geared towards teaching and preserving the history of the area. \nGet all the details at colliermuseums.com.
URL:https://visitevergladescity.com/event/third-thursday-talk-at-the-museum-of-the-everglades-3-2/2024-09-19/
LOCATION:Museum of the Everglades\, 105 Broadway Ave W\, Everglades City\, FL\, 34139\, United States
CATEGORIES:Culture
ATTACH;FMTTYPE=image/png:https://visitevergladescity.com/wp-content/uploads/2023/10/Museum-of-the-Everglades-color-min.png
END:VEVENT
BEGIN:VEVENT
DTSTART;TZID=America/New_York:20240815T140000
DTEND;TZID=America/New_York:20240815T150000
DTSTAMP:20260422T092130
CREATED:20240213T201710Z
LAST-MODIFIED:20250801T201628Z
UID:10000363-1723730400-1723734000@visitevergladescity.com
SUMMARY:Third Thursday Talk at the Museum of the Everglades
DESCRIPTION:The Third Thursday Talks hosted by the Museum of the Everglades are geared towards teaching and preserving the history of the area. \nGet all the details at colliermuseums.com.
URL:https://visitevergladescity.com/event/third-thursday-talk-at-the-museum-of-the-everglades-3-2/2024-08-15/
LOCATION:Museum of the Everglades\, 105 Broadway Ave W\, Everglades City\, FL\, 34139\, United States
CATEGORIES:Culture
ATTACH;FMTTYPE=image/png:https://visitevergladescity.com/wp-content/uploads/2023/10/Museum-of-the-Everglades-color-min.png
END:VEVENT
BEGIN:VEVENT
DTSTART;TZID=America/New_York:20240718T140000
DTEND;TZID=America/New_York:20240718T150000
DTSTAMP:20260422T092130
CREATED:20240213T201710Z
LAST-MODIFIED:20250801T201628Z
UID:10000362-1721311200-1721314800@visitevergladescity.com
SUMMARY:Third Thursday Talk at the Museum of the Everglades
DESCRIPTION:The Third Thursday Talks hosted by the Museum of the Everglades are geared towards teaching and preserving the history of the area. \nGet all the details at colliermuseums.com.
URL:https://visitevergladescity.com/event/third-thursday-talk-at-the-museum-of-the-everglades-3-2/2024-07-18/
LOCATION:Museum of the Everglades\, 105 Broadway Ave W\, Everglades City\, FL\, 34139\, United States
CATEGORIES:Culture
ATTACH;FMTTYPE=image/png:https://visitevergladescity.com/wp-content/uploads/2023/10/Museum-of-the-Everglades-color-min.png
END:VEVENT
BEGIN:VEVENT
DTSTART;TZID=America/New_York:20240620T140000
DTEND;TZID=America/New_York:20240620T150000
DTSTAMP:20260422T092130
CREATED:20240213T201710Z
LAST-MODIFIED:20250801T201628Z
UID:10000361-1718892000-1718895600@visitevergladescity.com
SUMMARY:Third Thursday Talk at the Museum of the Everglades
DESCRIPTION:The Third Thursday Talks hosted by the Museum of the Everglades are geared towards teaching and preserving the history of the area. \nGet all the details at colliermuseums.com.
URL:https://visitevergladescity.com/event/third-thursday-talk-at-the-museum-of-the-everglades-3-2/2024-06-20/
LOCATION:Museum of the Everglades\, 105 Broadway Ave W\, Everglades City\, FL\, 34139\, United States
CATEGORIES:Culture
ATTACH;FMTTYPE=image/png:https://visitevergladescity.com/wp-content/uploads/2023/10/Museum-of-the-Everglades-color-min.png
END:VEVENT
BEGIN:VEVENT
DTSTART;TZID=America/New_York:20240517T170000
DTEND;TZID=America/New_York:20240517T190000
DTSTAMP:20260422T092130
CREATED:20240405T195300Z
LAST-MODIFIED:20240405T195300Z
UID:10001885-1715965200-1715972400@visitevergladescity.com
SUMMARY:Museum Event
DESCRIPTION:With the new Student Exhibit at the Museum that will Honor Veterans there will be an award ceremony\, which will be held from 5pm to 7pm\, will include the distribution of cash prizes to students of all ages across a variety of categories
URL:https://visitevergladescity.com/event/museum-event/
LOCATION:Museum of the Everglades\, 105 Broadway Ave W\, Everglades City\, FL\, 34139\, United States
CATEGORIES:Culture
ATTACH;FMTTYPE=image/png:https://visitevergladescity.com/wp-content/uploads/2023/10/Museum-of-the-Everglades-color-min.png
END:VEVENT
BEGIN:VEVENT
DTSTART;TZID=America/New_York:20240516T140000
DTEND;TZID=America/New_York:20240516T150000
DTSTAMP:20260422T092130
CREATED:20240213T201710Z
LAST-MODIFIED:20250801T201628Z
UID:10000360-1715868000-1715871600@visitevergladescity.com
SUMMARY:Third Thursday Talk at the Museum of the Everglades
DESCRIPTION:The Third Thursday Talks hosted by the Museum of the Everglades are geared towards teaching and preserving the history of the area. \nGet all the details at colliermuseums.com.
URL:https://visitevergladescity.com/event/third-thursday-talk-at-the-museum-of-the-everglades-3-2/2024-05-16/
LOCATION:Museum of the Everglades\, 105 Broadway Ave W\, Everglades City\, FL\, 34139\, United States
CATEGORIES:Culture
ATTACH;FMTTYPE=image/png:https://visitevergladescity.com/wp-content/uploads/2023/10/Museum-of-the-Everglades-color-min.png
END:VEVENT
BEGIN:VEVENT
DTSTART;TZID=America/New_York:20240418T140000
DTEND;TZID=America/New_York:20240418T150000
DTSTAMP:20260422T092130
CREATED:20240213T201710Z
LAST-MODIFIED:20250801T201628Z
UID:10000359-1713448800-1713452400@visitevergladescity.com
SUMMARY:Third Thursday Talk at the Museum of the Everglades
DESCRIPTION:The Third Thursday Talks hosted by the Museum of the Everglades are geared towards teaching and preserving the history of the area. \nGet all the details at colliermuseums.com.
URL:https://visitevergladescity.com/event/third-thursday-talk-at-the-museum-of-the-everglades-3-2/2024-04-18/
LOCATION:Museum of the Everglades\, 105 Broadway Ave W\, Everglades City\, FL\, 34139\, United States
CATEGORIES:Culture
ATTACH;FMTTYPE=image/png:https://visitevergladescity.com/wp-content/uploads/2023/10/Museum-of-the-Everglades-color-min.png
END:VEVENT
BEGIN:VEVENT
DTSTART;TZID=America/New_York:20240321T140000
DTEND;TZID=America/New_York:20240321T150000
DTSTAMP:20260422T092130
CREATED:20240213T201710Z
LAST-MODIFIED:20250801T201628Z
UID:10000358-1711029600-1711033200@visitevergladescity.com
SUMMARY:Third Thursday Talk at the Museum of the Everglades
DESCRIPTION:The Third Thursday Talks hosted by the Museum of the Everglades are geared towards teaching and preserving the history of the area. \nGet all the details at colliermuseums.com.
URL:https://visitevergladescity.com/event/third-thursday-talk-at-the-museum-of-the-everglades-3-2/2024-03-21/
LOCATION:Museum of the Everglades\, 105 Broadway Ave W\, Everglades City\, FL\, 34139\, United States
CATEGORIES:Culture
ATTACH;FMTTYPE=image/png:https://visitevergladescity.com/wp-content/uploads/2023/10/Museum-of-the-Everglades-color-min.png
END:VEVENT
BEGIN:VEVENT
DTSTART;TZID=America/New_York:20240215T140000
DTEND;TZID=America/New_York:20240215T150000
DTSTAMP:20260422T092130
CREATED:20240213T201710Z
LAST-MODIFIED:20250801T201628Z
UID:10000357-1708005600-1708009200@visitevergladescity.com
SUMMARY:Third Thursday Talk at the Museum of the Everglades
DESCRIPTION:The Third Thursday Talks hosted by the Museum of the Everglades are geared towards teaching and preserving the history of the area. \nGet all the details at colliermuseums.com.
URL:https://visitevergladescity.com/event/third-thursday-talk-at-the-museum-of-the-everglades-3-2/2024-02-15/
LOCATION:Museum of the Everglades\, 105 Broadway Ave W\, Everglades City\, FL\, 34139\, United States
CATEGORIES:Culture
ATTACH;FMTTYPE=image/png:https://visitevergladescity.com/wp-content/uploads/2023/10/Museum-of-the-Everglades-color-min.png
END:VEVENT
BEGIN:VEVENT
DTSTART;TZID=America/New_York:20231221T140000
DTEND;TZID=America/New_York:20231221T150000
DTSTAMP:20260422T092130
CREATED:20231003T165507Z
LAST-MODIFIED:20231121T202158Z
UID:10000138-1703167200-1703170800@visitevergladescity.com
SUMMARY:Third Thursday Talk at the Museum of the Everglades
DESCRIPTION:The Third Thursday Talks hosted by the Museum of the Everglades are geared towards teaching and preserving the history of the area. \nGet all the details at colliermuseums.com.
URL:https://visitevergladescity.com/event/third-thursday-talk-at-the-museum-of-the-everglades-3/
LOCATION:Museum of the Everglades\, 105 Broadway Ave W\, Everglades City\, FL\, 34139\, United States
CATEGORIES:Culture
ATTACH;FMTTYPE=image/png:https://visitevergladescity.com/wp-content/uploads/2023/10/Museum-of-the-Everglades-color-min.png
END:VEVENT
BEGIN:VEVENT
DTSTART;TZID=America/New_York:20231116T140000
DTEND;TZID=America/New_York:20231116T150000
DTSTAMP:20260422T092130
CREATED:20231003T165416Z
LAST-MODIFIED:20231101T001423Z
UID:10000137-1700143200-1700146800@visitevergladescity.com
SUMMARY:Third Thursday Talk at the Museum of the Everglades
DESCRIPTION:The Third Thursday Talks hosted by the Museum of the Everglades are geared towards teaching and preserving the history of the area. \nGet all the details at colliermuseums.com/events.
URL:https://visitevergladescity.com/event/third-thursday-talk-at-the-museum-of-the-everglades-2/
LOCATION:Museum of the Everglades\, 105 Broadway Ave W\, Everglades City\, FL\, 34139\, United States
CATEGORIES:Culture
ATTACH;FMTTYPE=image/png:https://visitevergladescity.com/wp-content/uploads/2023/10/Museum-of-the-Everglades-color-min.png
END:VEVENT
BEGIN:VEVENT
DTSTART;TZID=America/New_York:20231019T140000
DTEND;TZID=America/New_York:20231019T150000
DTSTAMP:20260422T092130
CREATED:20231003T163742Z
LAST-MODIFIED:20231013T191911Z
UID:10000049-1697724000-1697727600@visitevergladescity.com
SUMMARY:Third Thursday Talk at the Museum of the Everglades
DESCRIPTION:The Third Thursday Talks hosted by the Museum of the Everglades are geared towards teaching and preserving the history of the area. \nGet all the details at colliermuseums.com/events.
URL:https://visitevergladescity.com/event/third-thursday-talk-at-the-museum-of-the-everglades/
LOCATION:Museum of the Everglades\, 105 Broadway Ave W\, Everglades City\, FL\, 34139\, United States
CATEGORIES:Culture
ATTACH;FMTTYPE=:
END:VEVENT
END:VCALENDAR