BEGIN:VCALENDAR
VERSION:2.0
PRODID:-//Visit Everglades City - ECPv6.15.20//NONSGML v1.0//EN
CALSCALE:GREGORIAN
METHOD:PUBLISH
X-ORIGINAL-URL:https://visitevergladescity.com
X-WR-CALDESC:Events for Visit Everglades City
REFRESH-INTERVAL;VALUE=DURATION:PT1H
X-Robots-Tag:noindex
X-PUBLISHED-TTL:PT1H
BEGIN:VTIMEZONE
TZID:America/New_York
BEGIN:DAYLIGHT
TZOFFSETFROM:-0500
TZOFFSETTO:-0400
TZNAME:EDT
DTSTART:20240310T070000
END:DAYLIGHT
BEGIN:STANDARD
TZOFFSETFROM:-0400
TZOFFSETTO:-0500
TZNAME:EST
DTSTART:20241103T060000
END:STANDARD
BEGIN:DAYLIGHT
TZOFFSETFROM:-0500
TZOFFSETTO:-0400
TZNAME:EDT
DTSTART:20250309T070000
END:DAYLIGHT
BEGIN:STANDARD
TZOFFSETFROM:-0400
TZOFFSETTO:-0500
TZNAME:EST
DTSTART:20251102T060000
END:STANDARD
BEGIN:DAYLIGHT
TZOFFSETFROM:-0500
TZOFFSETTO:-0400
TZNAME:EDT
DTSTART:20260308T070000
END:DAYLIGHT
BEGIN:STANDARD
TZOFFSETFROM:-0400
TZOFFSETTO:-0500
TZNAME:EST
DTSTART:20261101T060000
END:STANDARD
END:VTIMEZONE
BEGIN:VEVENT
DTSTART;TZID=America/New_York:20251213T080000
DTEND;TZID=America/New_York:20251213T170000
DTSTAMP:20260423T185927
CREATED:20251016T213752Z
LAST-MODIFIED:20251016T213752Z
UID:10003935-1765612800-1765645200@visitevergladescity.com
SUMMARY:Boater Class: Boat America (BA) (Registration Required)
DESCRIPTION:This is a boating certificate class that offers an in-depth boating safety course for all types of mariners. All graduates who complete the class and pass the exam receive the Florida Boating Safety ID Card. This 8-hour (one-day) course will focus on: boater safety best practices\, Florida boating laws\, safety equipment\, navigation\, boating emergencies\, trailering\, and boating sports. An instructional book will be provided. Date/Time: Saturday\, December 13th\, 8 AM to 5 PM. \nAll Classes will be held at the US Coast Guard Auxiliary Station\, 903 Collier Court\, Caxambas Park\, Marco Island\, FL 34145. \nFor more information on Fall/Winter 2025 courses or to sign up on our website: https://wow.uscgaux.info/content.php?unit=070-09-05&category=boating-courses \nFor more information about these and other boating courses offered by the US Coast Guard Auxiliary\, contact Public Education Officer\, (239)384-7416 or cgauxcourses@gmail.com \nFor further information about other USCGAux programs\, including complimentary Vessel Safety Examinations\, or how to join the U.S. Coast Guard Auxiliary\, (239) 394-5911 or  www.USCGAuxMarco.org
URL:https://visitevergladescity.com/event/boater-class-boat-america-ba-registration-required/
CATEGORIES:Community
ATTACH;FMTTYPE=image/webp:https://visitevergladescity.com/wp-content/uploads/2025/01/U.S.-Deptartment-of-Homeland-Security-United-States-Coast-Guard-Auxiliary-Logo.webp
END:VEVENT
BEGIN:VEVENT
DTSTART;TZID=America/New_York:20251209T170000
DTEND;TZID=America/New_York:20251209T193000
DTSTAMP:20260423T185927
CREATED:20251016T171303Z
LAST-MODIFIED:20251016T213820Z
UID:10003933-1765299600-1765308600@visitevergladescity.com
SUMMARY:Boater Class: Navigating Everglades National Park (Registration Required)
DESCRIPTION:Everglades National Park covers 1\,508\,976 acres (2\,357.8 sq miles) throughout Collier\, Monroe\, and Dade counties in Florida. The park is the largest tropical wilderness in the United States. Join our new class\, which provides 20 selected routes and waypoints into the park’s northeastern region from Indian Pass to the Chatham River. Learn about Park Regulations\, historical landmarks\, prime fishing locations\, breathtaking scenery\, and discover the park’s fragile beauty. Top Spot Chart #204 is recommended for use during this class. This unique 2.5-hour course is only offered on Tuesday\, December 9th @5 PM. \nAll Classes will be held at the US Coast Guard Auxiliary Station\, 903 Collier Court\, Caxambas Park\, Marco Island\, FL 34145. \nFor more information on Fall/Winter 2025 courses or to sign up on our website: https://wow.uscgaux.info/content.php?unit=070-09-05&category=boating-courses \nFor more information about these and other boating courses offered by the US Coast Guard Auxiliary\, contact Public Education Officer\, (239)384-7416 or cgauxcourses@gmail.com \nFor further information about other USCGAux programs\, including complimentary Vessel Safety Examinations\, or how to join the U.S. Coast Guard Auxiliary\, (239) 394-5911 or  www.USCGAuxMarco.org
URL:https://visitevergladescity.com/event/boater-class-navigating-everglades-national-park-registration-required/
CATEGORIES:Community
ATTACH;FMTTYPE=image/webp:https://visitevergladescity.com/wp-content/uploads/2025/01/U.S.-Deptartment-of-Homeland-Security-United-States-Coast-Guard-Auxiliary-Logo.webp
END:VEVENT
BEGIN:VEVENT
DTSTART;TZID=America/New_York:20251202T170000
DTEND;TZID=America/New_York:20251202T200000
DTSTAMP:20260423T185927
CREATED:20251016T214216Z
LAST-MODIFIED:20251016T214216Z
UID:10003937-1764694800-1764705600@visitevergladescity.com
SUMMARY:Boater Class: Boater’s Local Knowledge-Backwater Edition (BW) (Registration Required)
DESCRIPTION:This 3-hour advanced course begins where BLK ends\, providing navigation tools and waterways knowledge for boaters wishing to explore the unique backwaters of the 10\,000 Islands. Instructors provide tracks and routes into the 10\,000 Islands using “on the water” photos and video\, Google Earth\, and navigation charts. This course is recommended for intermediate boaters and above. Top Spot Chart #N204 is required for use during this class. Date/Time: Tuesday\, December 2nd @ 5 PM. \nAll Classes will be held at the US Coast Guard Auxiliary Station\, 903 Collier Court\, Caxambas Park\, Marco Island\, FL 34145. \nFor more information on Fall/Winter 2025 courses or to sign up on our website: https://wow.uscgaux.info/content.php?unit=070-09-05&category=boating-courses \nFor more information about these and other boating courses offered by the US Coast Guard Auxiliary\, contact Public Education Officer\, (239)384-7416 or cgauxcourses@gmail.com \nFor further information about other USCGAux programs\, including complimentary Vessel Safety Examinations\, or how to join the U.S. Coast Guard Auxiliary\, (239) 394-5911 or  www.USCGAuxMarco.org
URL:https://visitevergladescity.com/event/boater-class-boaters-local-knowledge-backwater-edition-bw-registration-required/
CATEGORIES:Community
ATTACH;FMTTYPE=image/webp:https://visitevergladescity.com/wp-content/uploads/2025/01/U.S.-Deptartment-of-Homeland-Security-United-States-Coast-Guard-Auxiliary-Logo.webp
END:VEVENT
BEGIN:VEVENT
DTSTART;TZID=America/New_York:20251111T170000
DTEND;TZID=America/New_York:20251111T200000
DTSTAMP:20260423T185927
CREATED:20251016T214032Z
LAST-MODIFIED:20251107T181939Z
UID:10003936-1762880400-1762891200@visitevergladescity.com
SUMMARY:Boater Class: Boater’s Local Knowledge-Marco Island
DESCRIPTION:This 3-hour course provides information on how to navigate waterways in and around Marco Island.  Instructors use “on the water” aerial photos and video\, Google Earth\, and navigation charts\, providing real-time navigation tools for students. This course is recommended for novice and intermediate boaters\, or boaters new to this area. Top Spot Chart #204 is required for use during this class. Date/Time: Tuesday\, November 11th @ 5 PM. \nAll Classes will be held at the US Coast Guard Auxiliary Station\, 903 Collier Court\, Caxambas Park\, Marco Island\, FL 34145. \nFor more information on Fall/Winter 2025 courses or to sign up on our website: https://wow.uscgaux.info/content.php?unit=070-09-05&category=boating-courses \nFor more information about these and other boating courses offered by the US Coast Guard Auxiliary\, contact Public Education Officer\, (239)384-7416 or cgauxcourses@gmail.com \nFor further information about other USCGAux programs\, including complimentary Vessel Safety Examinations\, or how to join the U.S. Coast Guard Auxiliary\, (239) 394-5911 or  www.USCGAuxMarco.org
URL:https://visitevergladescity.com/event/boater-class-boaters-local-knowledge-marco-island-blk-registration-required/
CATEGORIES:Community
ATTACH;FMTTYPE=image/webp:https://visitevergladescity.com/wp-content/uploads/2025/01/U.S.-Deptartment-of-Homeland-Security-United-States-Coast-Guard-Auxiliary-Logo.webp
END:VEVENT
BEGIN:VEVENT
DTSTART;TZID=America/New_York:20251104T170000
DTEND;TZID=America/New_York:20251104T193000
DTSTAMP:20260423T185927
CREATED:20251016T213433Z
LAST-MODIFIED:20251016T213658Z
UID:10003934-1762275600-1762284600@visitevergladescity.com
SUMMARY:Boater Class: Suddenly in Command (SIC) (Registration Required)
DESCRIPTION:This 2.5-hour boating safety primer is designed for those not generally at the helm and will help you be prepared with the basics in case of an emergency. If a captain of a vessel is incapacitated or falls overboard\, it’s a “wake-up call” for your responsibilities. You will learn about your vessel and operating principles when you are “Suddenly in Command”.  Date/Time: Tuesday\, November 4th @ 5 PM. \nAll Classes will be held at the US Coast Guard Auxiliary Station\, 903 Collier Court\, Caxambas Park\, Marco Island\, FL 34145. \nFor more information on Fall/Winter 2025 courses or to sign up on our website: https://wow.uscgaux.info/content.php?unit=070-09-05&category=boating-courses \nFor more information about these and other boating courses offered by the US Coast Guard Auxiliary\, contact Public Education Officer\, (239)384-7416 or cgauxcourses@gmail.com \nFor further information about other USCGAux programs\, including complimentary Vessel Safety Examinations\, or how to join the U.S. Coast Guard Auxiliary\, (239) 394-5911 or  www.USCGAuxMarco.org
URL:https://visitevergladescity.com/event/boater-class-suddenly-in-command-sic-registration-required/
CATEGORIES:Community
ATTACH;FMTTYPE=image/webp:https://visitevergladescity.com/wp-content/uploads/2025/01/U.S.-Deptartment-of-Homeland-Security-United-States-Coast-Guard-Auxiliary-Logo.webp
END:VEVENT
END:VCALENDAR