BEGIN:VCALENDAR
VERSION:2.0
PRODID:-//Visit Everglades City - ECPv6.15.20//NONSGML v1.0//EN
CALSCALE:GREGORIAN
METHOD:PUBLISH
X-WR-CALNAME:Visit Everglades City
X-ORIGINAL-URL:https://visitevergladescity.com
X-WR-CALDESC:Events for Visit Everglades City
REFRESH-INTERVAL;VALUE=DURATION:PT1H
X-Robots-Tag:noindex
X-PUBLISHED-TTL:PT1H
BEGIN:VTIMEZONE
TZID:America/New_York
BEGIN:DAYLIGHT
TZOFFSETFROM:-0500
TZOFFSETTO:-0400
TZNAME:EDT
DTSTART:20250309T070000
END:DAYLIGHT
BEGIN:STANDARD
TZOFFSETFROM:-0400
TZOFFSETTO:-0500
TZNAME:EST
DTSTART:20251102T060000
END:STANDARD
BEGIN:DAYLIGHT
TZOFFSETFROM:-0500
TZOFFSETTO:-0400
TZNAME:EDT
DTSTART:20260308T070000
END:DAYLIGHT
BEGIN:STANDARD
TZOFFSETFROM:-0400
TZOFFSETTO:-0500
TZNAME:EST
DTSTART:20261101T060000
END:STANDARD
BEGIN:DAYLIGHT
TZOFFSETFROM:-0500
TZOFFSETTO:-0400
TZNAME:EDT
DTSTART:20270314T070000
END:DAYLIGHT
BEGIN:STANDARD
TZOFFSETFROM:-0400
TZOFFSETTO:-0500
TZNAME:EST
DTSTART:20271107T060000
END:STANDARD
END:VTIMEZONE
BEGIN:VEVENT
DTSTART;TZID=America/New_York:20260712T100000
DTEND;TZID=America/New_York:20260712T150000
DTSTAMP:20260421T150641
CREATED:20260416T042802Z
LAST-MODIFIED:20260416T042802Z
UID:10004551-1783850400-1783868400@visitevergladescity.com
SUMMARY:Summer Meet & Greet at Big Cypress Gallery
DESCRIPTION:Celebrate 250 years of America with us at the Big Cypress Gallery on Sunday\, July 12\, from 10 am – 3 pm. Meet Clyde Butcher in person and enjoy exclusive summer specials on his art and books—available only at the galleries. This event is free and open to the public. RSVP to be automatically entered into our raffle! \nNew Exhibit Opening\nSpanning decades and crossing state lines\, This Land We Share: Celebrating 250 Years of America brings together photographs from across the United States\, with images on display from every state Clyde Butcher has photographed. From deserts and mountains to forests\, coastlines\, and wetlands\, these works reveal the extraordinary diversity of America’s landscapes—and reflect Clyde’s lifelong devotion to the land. His photographs invite viewers to slow down\, look closely\, and feel the quiet power of these places the same way he does when he stands behind the camera. \nVisit the Big Cypress Gallery\nLocated in the heart of the Big Cypress National Preserve\, the Big Cypress Gallery has been a source of inspiration for many of Clyde’s photographs; come enjoy the natural beauty of the unique landscape. \nQuestions? Call the Big Cypress Gallery 239-695-2428. \nLink to event on our website: clydebutcher.com/events/christmas-in-july-bcg \nLink to RSVP: clydebutcher.com/events/christmas-in-july-bcg
URL:https://visitevergladescity.com/event/summer-meet-greet-at-big-cypress-gallery-2026/
LOCATION:Big Cypress Gallery\, 52388 Tamiami Trail\, Ochopee\, FL\, 34141\, United States
CATEGORIES:Community
ATTACH;FMTTYPE=image/webp:https://visitevergladescity.com/wp-content/uploads/2026/04/Clyde-Butcher-.webp
END:VEVENT
END:VCALENDAR