BEGIN:VCALENDAR
VERSION:2.0
PRODID:-//Visit Everglades City - ECPv6.15.20//NONSGML v1.0//EN
CALSCALE:GREGORIAN
METHOD:PUBLISH
X-ORIGINAL-URL:https://visitevergladescity.com
X-WR-CALDESC:Events for Visit Everglades City
REFRESH-INTERVAL;VALUE=DURATION:PT1H
X-Robots-Tag:noindex
X-PUBLISHED-TTL:PT1H
BEGIN:VTIMEZONE
TZID:America/New_York
BEGIN:DAYLIGHT
TZOFFSETFROM:-0500
TZOFFSETTO:-0400
TZNAME:EDT
DTSTART:20230312T070000
END:DAYLIGHT
BEGIN:STANDARD
TZOFFSETFROM:-0400
TZOFFSETTO:-0500
TZNAME:EST
DTSTART:20231105T060000
END:STANDARD
BEGIN:DAYLIGHT
TZOFFSETFROM:-0500
TZOFFSETTO:-0400
TZNAME:EDT
DTSTART:20240310T070000
END:DAYLIGHT
BEGIN:STANDARD
TZOFFSETFROM:-0400
TZOFFSETTO:-0500
TZNAME:EST
DTSTART:20241103T060000
END:STANDARD
BEGIN:DAYLIGHT
TZOFFSETFROM:-0500
TZOFFSETTO:-0400
TZNAME:EDT
DTSTART:20250309T070000
END:DAYLIGHT
BEGIN:STANDARD
TZOFFSETFROM:-0400
TZOFFSETTO:-0500
TZNAME:EST
DTSTART:20251102T060000
END:STANDARD
END:VTIMEZONE
BEGIN:VEVENT
DTSTART;TZID=America/New_York:20240413T090000
DTEND;TZID=America/New_York:20240413T150000
DTSTAMP:20260421T070627
CREATED:20240409T151803Z
LAST-MODIFIED:20240409T151803Z
UID:10001887-1712998800-1713020400@visitevergladescity.com
SUMMARY:2024 Minto US Open Pickleball Championships Opens
DESCRIPTION:The Minto US OPEN Pickleball Championships is April 13 to April 20 at the Naples Pickleball Center. It’s the ultimate pickleball event\, attracting players of all ages from around the globe. With 59 courts and drawing over 40\,000 attendees annually. \nKiwanis will charge $5.00 per car per day for parking\, supporting the Christmas in July program\, or aiding Collier County students at risk of homelessness. \nVisit for more information: https://www.usopenpickleball.com/event-guide/schedule
URL:https://visitevergladescity.com/event/2024-minto-us-open-pickleball-championships-opens/
LOCATION:East Naples Community Park\, 3500 Thomasson Dr\, Naples\, FL\, 34112\, United States
ATTACH;FMTTYPE=image/webp:https://visitevergladescity.com/wp-content/uploads/2024/04/Minto-Pickleball.webp
END:VEVENT
END:VCALENDAR