BEGIN:VCALENDAR
VERSION:2.0
PRODID:-//Visit Everglades City - ECPv6.15.20//NONSGML v1.0//EN
CALSCALE:GREGORIAN
METHOD:PUBLISH
X-ORIGINAL-URL:https://visitevergladescity.com
X-WR-CALDESC:Events for Visit Everglades City
REFRESH-INTERVAL;VALUE=DURATION:PT1H
X-Robots-Tag:noindex
X-PUBLISHED-TTL:PT1H
BEGIN:VTIMEZONE
TZID:America/New_York
BEGIN:DAYLIGHT
TZOFFSETFROM:-0500
TZOFFSETTO:-0400
TZNAME:EDT
DTSTART:20240310T070000
END:DAYLIGHT
BEGIN:STANDARD
TZOFFSETFROM:-0400
TZOFFSETTO:-0500
TZNAME:EST
DTSTART:20241103T060000
END:STANDARD
BEGIN:DAYLIGHT
TZOFFSETFROM:-0500
TZOFFSETTO:-0400
TZNAME:EDT
DTSTART:20250309T070000
END:DAYLIGHT
BEGIN:STANDARD
TZOFFSETFROM:-0400
TZOFFSETTO:-0500
TZNAME:EST
DTSTART:20251102T060000
END:STANDARD
BEGIN:DAYLIGHT
TZOFFSETFROM:-0500
TZOFFSETTO:-0400
TZNAME:EDT
DTSTART:20260308T070000
END:DAYLIGHT
BEGIN:STANDARD
TZOFFSETFROM:-0400
TZOFFSETTO:-0500
TZNAME:EST
DTSTART:20261101T060000
END:STANDARD
BEGIN:DAYLIGHT
TZOFFSETFROM:-0500
TZOFFSETTO:-0400
TZNAME:EDT
DTSTART:20270314T070000
END:DAYLIGHT
BEGIN:STANDARD
TZOFFSETFROM:-0400
TZOFFSETTO:-0500
TZNAME:EST
DTSTART:20271107T060000
END:STANDARD
END:VTIMEZONE
BEGIN:VEVENT
DTSTART;TZID=America/New_York:20260313T100000
DTEND;TZID=America/New_York:20260313T140000
DTSTAMP:20260424T201254
CREATED:20250326T141036Z
LAST-MODIFIED:20251121T220332Z
UID:10003763-1773396000-1773410400@visitevergladescity.com
SUMMARY:Fresh Market
DESCRIPTION:Find farm-fresh produce on Fridays and Sundays from 10 am to 2 pm next to the Everglades City Post Office.
URL:https://visitevergladescity.com/event/fresh-market/2026-03-13/
LOCATION:Everglades City Post Office\, 601 Collier Ave\, Everglades City\, FL\, 34139\, United States
CATEGORIES:Community
ATTACH;FMTTYPE=image/jpeg:https://visitevergladescity.com/wp-content/uploads/2025/03/Farmers-Market.jpg
END:VEVENT
BEGIN:VEVENT
DTSTART;TZID=America/New_York:20260308T100000
DTEND;TZID=America/New_York:20260308T140000
DTSTAMP:20260424T201254
CREATED:20250326T141036Z
LAST-MODIFIED:20251121T220332Z
UID:10003762-1772964000-1772978400@visitevergladescity.com
SUMMARY:Fresh Market
DESCRIPTION:Find farm-fresh produce on Fridays and Sundays from 10 am to 2 pm next to the Everglades City Post Office.
URL:https://visitevergladescity.com/event/fresh-market/2026-03-08/
LOCATION:Everglades City Post Office\, 601 Collier Ave\, Everglades City\, FL\, 34139\, United States
CATEGORIES:Community
ATTACH;FMTTYPE=image/jpeg:https://visitevergladescity.com/wp-content/uploads/2025/03/Farmers-Market.jpg
END:VEVENT
BEGIN:VEVENT
DTSTART;TZID=America/New_York:20260306T100000
DTEND;TZID=America/New_York:20260306T140000
DTSTAMP:20260424T201254
CREATED:20250326T141036Z
LAST-MODIFIED:20251121T220332Z
UID:10003761-1772791200-1772805600@visitevergladescity.com
SUMMARY:Fresh Market
DESCRIPTION:Find farm-fresh produce on Fridays and Sundays from 10 am to 2 pm next to the Everglades City Post Office.
URL:https://visitevergladescity.com/event/fresh-market/2026-03-06/
LOCATION:Everglades City Post Office\, 601 Collier Ave\, Everglades City\, FL\, 34139\, United States
CATEGORIES:Community
ATTACH;FMTTYPE=image/jpeg:https://visitevergladescity.com/wp-content/uploads/2025/03/Farmers-Market.jpg
END:VEVENT
BEGIN:VEVENT
DTSTART;TZID=America/New_York:20260301T100000
DTEND;TZID=America/New_York:20260301T140000
DTSTAMP:20260424T201254
CREATED:20250326T141036Z
LAST-MODIFIED:20251121T220332Z
UID:10003760-1772359200-1772373600@visitevergladescity.com
SUMMARY:Fresh Market
DESCRIPTION:Find farm-fresh produce on Fridays and Sundays from 10 am to 2 pm next to the Everglades City Post Office.
URL:https://visitevergladescity.com/event/fresh-market/2026-03-01/
LOCATION:Everglades City Post Office\, 601 Collier Ave\, Everglades City\, FL\, 34139\, United States
CATEGORIES:Community
ATTACH;FMTTYPE=image/jpeg:https://visitevergladescity.com/wp-content/uploads/2025/03/Farmers-Market.jpg
END:VEVENT
BEGIN:VEVENT
DTSTART;TZID=America/New_York:20260227T100000
DTEND;TZID=America/New_York:20260227T140000
DTSTAMP:20260424T201254
CREATED:20250326T141036Z
LAST-MODIFIED:20251121T220332Z
UID:10003759-1772186400-1772200800@visitevergladescity.com
SUMMARY:Fresh Market
DESCRIPTION:Find farm-fresh produce on Fridays and Sundays from 10 am to 2 pm next to the Everglades City Post Office.
URL:https://visitevergladescity.com/event/fresh-market/2026-02-27/
LOCATION:Everglades City Post Office\, 601 Collier Ave\, Everglades City\, FL\, 34139\, United States
CATEGORIES:Community
ATTACH;FMTTYPE=image/jpeg:https://visitevergladescity.com/wp-content/uploads/2025/03/Farmers-Market.jpg
END:VEVENT
BEGIN:VEVENT
DTSTART;TZID=America/New_York:20260222T100000
DTEND;TZID=America/New_York:20260222T140000
DTSTAMP:20260424T201254
CREATED:20250326T141036Z
LAST-MODIFIED:20251121T220332Z
UID:10003758-1771754400-1771768800@visitevergladescity.com
SUMMARY:Fresh Market
DESCRIPTION:Find farm-fresh produce on Fridays and Sundays from 10 am to 2 pm next to the Everglades City Post Office.
URL:https://visitevergladescity.com/event/fresh-market/2026-02-22/
LOCATION:Everglades City Post Office\, 601 Collier Ave\, Everglades City\, FL\, 34139\, United States
CATEGORIES:Community
ATTACH;FMTTYPE=image/jpeg:https://visitevergladescity.com/wp-content/uploads/2025/03/Farmers-Market.jpg
END:VEVENT
BEGIN:VEVENT
DTSTART;TZID=America/New_York:20260220T100000
DTEND;TZID=America/New_York:20260220T140000
DTSTAMP:20260424T201254
CREATED:20250326T141036Z
LAST-MODIFIED:20251121T220332Z
UID:10003757-1771581600-1771596000@visitevergladescity.com
SUMMARY:Fresh Market
DESCRIPTION:Find farm-fresh produce on Fridays and Sundays from 10 am to 2 pm next to the Everglades City Post Office.
URL:https://visitevergladescity.com/event/fresh-market/2026-02-20/
LOCATION:Everglades City Post Office\, 601 Collier Ave\, Everglades City\, FL\, 34139\, United States
CATEGORIES:Community
ATTACH;FMTTYPE=image/jpeg:https://visitevergladescity.com/wp-content/uploads/2025/03/Farmers-Market.jpg
END:VEVENT
BEGIN:VEVENT
DTSTART;TZID=America/New_York:20260215T100000
DTEND;TZID=America/New_York:20260215T140000
DTSTAMP:20260424T201254
CREATED:20250326T141036Z
LAST-MODIFIED:20251121T220332Z
UID:10003756-1771149600-1771164000@visitevergladescity.com
SUMMARY:Fresh Market
DESCRIPTION:Find farm-fresh produce on Fridays and Sundays from 10 am to 2 pm next to the Everglades City Post Office.
URL:https://visitevergladescity.com/event/fresh-market/2026-02-15/
LOCATION:Everglades City Post Office\, 601 Collier Ave\, Everglades City\, FL\, 34139\, United States
CATEGORIES:Community
ATTACH;FMTTYPE=image/jpeg:https://visitevergladescity.com/wp-content/uploads/2025/03/Farmers-Market.jpg
END:VEVENT
BEGIN:VEVENT
DTSTART;TZID=America/New_York:20260213T100000
DTEND;TZID=America/New_York:20260213T140000
DTSTAMP:20260424T201254
CREATED:20250326T141036Z
LAST-MODIFIED:20251121T220332Z
UID:10003755-1770976800-1770991200@visitevergladescity.com
SUMMARY:Fresh Market
DESCRIPTION:Find farm-fresh produce on Fridays and Sundays from 10 am to 2 pm next to the Everglades City Post Office.
URL:https://visitevergladescity.com/event/fresh-market/2026-02-13/
LOCATION:Everglades City Post Office\, 601 Collier Ave\, Everglades City\, FL\, 34139\, United States
CATEGORIES:Community
ATTACH;FMTTYPE=image/jpeg:https://visitevergladescity.com/wp-content/uploads/2025/03/Farmers-Market.jpg
END:VEVENT
BEGIN:VEVENT
DTSTART;TZID=America/New_York:20260208T100000
DTEND;TZID=America/New_York:20260208T140000
DTSTAMP:20260424T201254
CREATED:20250326T141036Z
LAST-MODIFIED:20251121T220332Z
UID:10003754-1770544800-1770559200@visitevergladescity.com
SUMMARY:Fresh Market
DESCRIPTION:Find farm-fresh produce on Fridays and Sundays from 10 am to 2 pm next to the Everglades City Post Office.
URL:https://visitevergladescity.com/event/fresh-market/2026-02-08/
LOCATION:Everglades City Post Office\, 601 Collier Ave\, Everglades City\, FL\, 34139\, United States
CATEGORIES:Community
ATTACH;FMTTYPE=image/jpeg:https://visitevergladescity.com/wp-content/uploads/2025/03/Farmers-Market.jpg
END:VEVENT
BEGIN:VEVENT
DTSTART;TZID=America/New_York:20260206T100000
DTEND;TZID=America/New_York:20260206T140000
DTSTAMP:20260424T201254
CREATED:20250326T141036Z
LAST-MODIFIED:20251121T220332Z
UID:10003753-1770372000-1770386400@visitevergladescity.com
SUMMARY:Fresh Market
DESCRIPTION:Find farm-fresh produce on Fridays and Sundays from 10 am to 2 pm next to the Everglades City Post Office.
URL:https://visitevergladescity.com/event/fresh-market/2026-02-06/
LOCATION:Everglades City Post Office\, 601 Collier Ave\, Everglades City\, FL\, 34139\, United States
CATEGORIES:Community
ATTACH;FMTTYPE=image/jpeg:https://visitevergladescity.com/wp-content/uploads/2025/03/Farmers-Market.jpg
END:VEVENT
BEGIN:VEVENT
DTSTART;TZID=America/New_York:20260201T100000
DTEND;TZID=America/New_York:20260201T140000
DTSTAMP:20260424T201254
CREATED:20250326T141036Z
LAST-MODIFIED:20251121T220332Z
UID:10003752-1769940000-1769954400@visitevergladescity.com
SUMMARY:Fresh Market
DESCRIPTION:Find farm-fresh produce on Fridays and Sundays from 10 am to 2 pm next to the Everglades City Post Office.
URL:https://visitevergladescity.com/event/fresh-market/2026-02-01/
LOCATION:Everglades City Post Office\, 601 Collier Ave\, Everglades City\, FL\, 34139\, United States
CATEGORIES:Community
ATTACH;FMTTYPE=image/jpeg:https://visitevergladescity.com/wp-content/uploads/2025/03/Farmers-Market.jpg
END:VEVENT
BEGIN:VEVENT
DTSTART;TZID=America/New_York:20260130T100000
DTEND;TZID=America/New_York:20260130T140000
DTSTAMP:20260424T201254
CREATED:20250326T141036Z
LAST-MODIFIED:20251121T220332Z
UID:10003751-1769767200-1769781600@visitevergladescity.com
SUMMARY:Fresh Market
DESCRIPTION:Find farm-fresh produce on Fridays and Sundays from 10 am to 2 pm next to the Everglades City Post Office.
URL:https://visitevergladescity.com/event/fresh-market/2026-01-30/
LOCATION:Everglades City Post Office\, 601 Collier Ave\, Everglades City\, FL\, 34139\, United States
CATEGORIES:Community
ATTACH;FMTTYPE=image/jpeg:https://visitevergladescity.com/wp-content/uploads/2025/03/Farmers-Market.jpg
END:VEVENT
BEGIN:VEVENT
DTSTART;TZID=America/New_York:20260125T100000
DTEND;TZID=America/New_York:20260125T140000
DTSTAMP:20260424T201254
CREATED:20250326T141036Z
LAST-MODIFIED:20251121T220332Z
UID:10003750-1769335200-1769349600@visitevergladescity.com
SUMMARY:Fresh Market
DESCRIPTION:Find farm-fresh produce on Fridays and Sundays from 10 am to 2 pm next to the Everglades City Post Office.
URL:https://visitevergladescity.com/event/fresh-market/2026-01-25/
LOCATION:Everglades City Post Office\, 601 Collier Ave\, Everglades City\, FL\, 34139\, United States
CATEGORIES:Community
ATTACH;FMTTYPE=image/jpeg:https://visitevergladescity.com/wp-content/uploads/2025/03/Farmers-Market.jpg
END:VEVENT
BEGIN:VEVENT
DTSTART;TZID=America/New_York:20260123T100000
DTEND;TZID=America/New_York:20260123T140000
DTSTAMP:20260424T201254
CREATED:20250326T141036Z
LAST-MODIFIED:20251121T220332Z
UID:10003749-1769162400-1769176800@visitevergladescity.com
SUMMARY:Fresh Market
DESCRIPTION:Find farm-fresh produce on Fridays and Sundays from 10 am to 2 pm next to the Everglades City Post Office.
URL:https://visitevergladescity.com/event/fresh-market/2026-01-23/
LOCATION:Everglades City Post Office\, 601 Collier Ave\, Everglades City\, FL\, 34139\, United States
CATEGORIES:Community
ATTACH;FMTTYPE=image/jpeg:https://visitevergladescity.com/wp-content/uploads/2025/03/Farmers-Market.jpg
END:VEVENT
BEGIN:VEVENT
DTSTART;TZID=America/New_York:20260118T100000
DTEND;TZID=America/New_York:20260118T140000
DTSTAMP:20260424T201254
CREATED:20250326T141036Z
LAST-MODIFIED:20251121T220332Z
UID:10003748-1768730400-1768744800@visitevergladescity.com
SUMMARY:Fresh Market
DESCRIPTION:Find farm-fresh produce on Fridays and Sundays from 10 am to 2 pm next to the Everglades City Post Office.
URL:https://visitevergladescity.com/event/fresh-market/2026-01-18/
LOCATION:Everglades City Post Office\, 601 Collier Ave\, Everglades City\, FL\, 34139\, United States
CATEGORIES:Community
ATTACH;FMTTYPE=image/jpeg:https://visitevergladescity.com/wp-content/uploads/2025/03/Farmers-Market.jpg
END:VEVENT
BEGIN:VEVENT
DTSTART;TZID=America/New_York:20260116T100000
DTEND;TZID=America/New_York:20260116T140000
DTSTAMP:20260424T201254
CREATED:20250326T141036Z
LAST-MODIFIED:20251121T220332Z
UID:10003747-1768557600-1768572000@visitevergladescity.com
SUMMARY:Fresh Market
DESCRIPTION:Find farm-fresh produce on Fridays and Sundays from 10 am to 2 pm next to the Everglades City Post Office.
URL:https://visitevergladescity.com/event/fresh-market/2026-01-16/
LOCATION:Everglades City Post Office\, 601 Collier Ave\, Everglades City\, FL\, 34139\, United States
CATEGORIES:Community
ATTACH;FMTTYPE=image/jpeg:https://visitevergladescity.com/wp-content/uploads/2025/03/Farmers-Market.jpg
END:VEVENT
BEGIN:VEVENT
DTSTART;TZID=America/New_York:20260111T100000
DTEND;TZID=America/New_York:20260111T140000
DTSTAMP:20260424T201254
CREATED:20250326T141036Z
LAST-MODIFIED:20251121T220332Z
UID:10003746-1768125600-1768140000@visitevergladescity.com
SUMMARY:Fresh Market
DESCRIPTION:Find farm-fresh produce on Fridays and Sundays from 10 am to 2 pm next to the Everglades City Post Office.
URL:https://visitevergladescity.com/event/fresh-market/2026-01-11/
LOCATION:Everglades City Post Office\, 601 Collier Ave\, Everglades City\, FL\, 34139\, United States
CATEGORIES:Community
ATTACH;FMTTYPE=image/jpeg:https://visitevergladescity.com/wp-content/uploads/2025/03/Farmers-Market.jpg
END:VEVENT
BEGIN:VEVENT
DTSTART;TZID=America/New_York:20260109T100000
DTEND;TZID=America/New_York:20260109T140000
DTSTAMP:20260424T201254
CREATED:20250326T141036Z
LAST-MODIFIED:20251121T220332Z
UID:10003745-1767952800-1767967200@visitevergladescity.com
SUMMARY:Fresh Market
DESCRIPTION:Find farm-fresh produce on Fridays and Sundays from 10 am to 2 pm next to the Everglades City Post Office.
URL:https://visitevergladescity.com/event/fresh-market/2026-01-09/
LOCATION:Everglades City Post Office\, 601 Collier Ave\, Everglades City\, FL\, 34139\, United States
CATEGORIES:Community
ATTACH;FMTTYPE=image/jpeg:https://visitevergladescity.com/wp-content/uploads/2025/03/Farmers-Market.jpg
END:VEVENT
BEGIN:VEVENT
DTSTART;TZID=America/New_York:20260104T100000
DTEND;TZID=America/New_York:20260104T140000
DTSTAMP:20260424T201254
CREATED:20250326T141036Z
LAST-MODIFIED:20251121T220332Z
UID:10003744-1767520800-1767535200@visitevergladescity.com
SUMMARY:Fresh Market
DESCRIPTION:Find farm-fresh produce on Fridays and Sundays from 10 am to 2 pm next to the Everglades City Post Office.
URL:https://visitevergladescity.com/event/fresh-market/2026-01-04/
LOCATION:Everglades City Post Office\, 601 Collier Ave\, Everglades City\, FL\, 34139\, United States
CATEGORIES:Community
ATTACH;FMTTYPE=image/jpeg:https://visitevergladescity.com/wp-content/uploads/2025/03/Farmers-Market.jpg
END:VEVENT
BEGIN:VEVENT
DTSTART;TZID=America/New_York:20260102T100000
DTEND;TZID=America/New_York:20260102T140000
DTSTAMP:20260424T201254
CREATED:20250326T141036Z
LAST-MODIFIED:20251121T220332Z
UID:10003743-1767348000-1767362400@visitevergladescity.com
SUMMARY:Fresh Market
DESCRIPTION:Find farm-fresh produce on Fridays and Sundays from 10 am to 2 pm next to the Everglades City Post Office.
URL:https://visitevergladescity.com/event/fresh-market/2026-01-02/
LOCATION:Everglades City Post Office\, 601 Collier Ave\, Everglades City\, FL\, 34139\, United States
CATEGORIES:Community
ATTACH;FMTTYPE=image/jpeg:https://visitevergladescity.com/wp-content/uploads/2025/03/Farmers-Market.jpg
END:VEVENT
BEGIN:VEVENT
DTSTART;TZID=America/New_York:20251228T100000
DTEND;TZID=America/New_York:20251228T140000
DTSTAMP:20260424T201254
CREATED:20250326T141036Z
LAST-MODIFIED:20251121T220332Z
UID:10003742-1766916000-1766930400@visitevergladescity.com
SUMMARY:Fresh Market
DESCRIPTION:Find farm-fresh produce on Fridays and Sundays from 10 am to 2 pm next to the Everglades City Post Office.
URL:https://visitevergladescity.com/event/fresh-market/2025-12-28/
LOCATION:Everglades City Post Office\, 601 Collier Ave\, Everglades City\, FL\, 34139\, United States
CATEGORIES:Community
ATTACH;FMTTYPE=image/jpeg:https://visitevergladescity.com/wp-content/uploads/2025/03/Farmers-Market.jpg
END:VEVENT
BEGIN:VEVENT
DTSTART;TZID=America/New_York:20251226T100000
DTEND;TZID=America/New_York:20251226T140000
DTSTAMP:20260424T201254
CREATED:20250326T141036Z
LAST-MODIFIED:20251121T220332Z
UID:10003741-1766743200-1766757600@visitevergladescity.com
SUMMARY:Fresh Market
DESCRIPTION:Find farm-fresh produce on Fridays and Sundays from 10 am to 2 pm next to the Everglades City Post Office.
URL:https://visitevergladescity.com/event/fresh-market/2025-12-26/
LOCATION:Everglades City Post Office\, 601 Collier Ave\, Everglades City\, FL\, 34139\, United States
CATEGORIES:Community
ATTACH;FMTTYPE=image/jpeg:https://visitevergladescity.com/wp-content/uploads/2025/03/Farmers-Market.jpg
END:VEVENT
BEGIN:VEVENT
DTSTART;TZID=America/New_York:20251221T100000
DTEND;TZID=America/New_York:20251221T140000
DTSTAMP:20260424T201254
CREATED:20250326T141036Z
LAST-MODIFIED:20251121T220332Z
UID:10003740-1766311200-1766325600@visitevergladescity.com
SUMMARY:Fresh Market
DESCRIPTION:Find farm-fresh produce on Fridays and Sundays from 10 am to 2 pm next to the Everglades City Post Office.
URL:https://visitevergladescity.com/event/fresh-market/2025-12-21/
LOCATION:Everglades City Post Office\, 601 Collier Ave\, Everglades City\, FL\, 34139\, United States
CATEGORIES:Community
ATTACH;FMTTYPE=image/jpeg:https://visitevergladescity.com/wp-content/uploads/2025/03/Farmers-Market.jpg
END:VEVENT
BEGIN:VEVENT
DTSTART;TZID=America/New_York:20251219T100000
DTEND;TZID=America/New_York:20251219T140000
DTSTAMP:20260424T201254
CREATED:20250326T141036Z
LAST-MODIFIED:20251121T220332Z
UID:10003739-1766138400-1766152800@visitevergladescity.com
SUMMARY:Fresh Market
DESCRIPTION:Find farm-fresh produce on Fridays and Sundays from 10 am to 2 pm next to the Everglades City Post Office.
URL:https://visitevergladescity.com/event/fresh-market/2025-12-19/
LOCATION:Everglades City Post Office\, 601 Collier Ave\, Everglades City\, FL\, 34139\, United States
CATEGORIES:Community
ATTACH;FMTTYPE=image/jpeg:https://visitevergladescity.com/wp-content/uploads/2025/03/Farmers-Market.jpg
END:VEVENT
BEGIN:VEVENT
DTSTART;TZID=America/New_York:20251214T100000
DTEND;TZID=America/New_York:20251214T140000
DTSTAMP:20260424T201254
CREATED:20250326T141036Z
LAST-MODIFIED:20251121T220332Z
UID:10003738-1765706400-1765720800@visitevergladescity.com
SUMMARY:Fresh Market
DESCRIPTION:Find farm-fresh produce on Fridays and Sundays from 10 am to 2 pm next to the Everglades City Post Office.
URL:https://visitevergladescity.com/event/fresh-market/2025-12-14/
LOCATION:Everglades City Post Office\, 601 Collier Ave\, Everglades City\, FL\, 34139\, United States
CATEGORIES:Community
ATTACH;FMTTYPE=image/jpeg:https://visitevergladescity.com/wp-content/uploads/2025/03/Farmers-Market.jpg
END:VEVENT
BEGIN:VEVENT
DTSTART;TZID=America/New_York:20251212T100000
DTEND;TZID=America/New_York:20251212T140000
DTSTAMP:20260424T201254
CREATED:20250326T141036Z
LAST-MODIFIED:20251121T220332Z
UID:10003737-1765533600-1765548000@visitevergladescity.com
SUMMARY:Fresh Market
DESCRIPTION:Find farm-fresh produce on Fridays and Sundays from 10 am to 2 pm next to the Everglades City Post Office.
URL:https://visitevergladescity.com/event/fresh-market/2025-12-12/
LOCATION:Everglades City Post Office\, 601 Collier Ave\, Everglades City\, FL\, 34139\, United States
CATEGORIES:Community
ATTACH;FMTTYPE=image/jpeg:https://visitevergladescity.com/wp-content/uploads/2025/03/Farmers-Market.jpg
END:VEVENT
BEGIN:VEVENT
DTSTART;TZID=America/New_York:20251207T100000
DTEND;TZID=America/New_York:20251207T140000
DTSTAMP:20260424T201254
CREATED:20250326T141036Z
LAST-MODIFIED:20251121T220332Z
UID:10003736-1765101600-1765116000@visitevergladescity.com
SUMMARY:Fresh Market
DESCRIPTION:Find farm-fresh produce on Fridays and Sundays from 10 am to 2 pm next to the Everglades City Post Office.
URL:https://visitevergladescity.com/event/fresh-market/2025-12-07/
LOCATION:Everglades City Post Office\, 601 Collier Ave\, Everglades City\, FL\, 34139\, United States
CATEGORIES:Community
ATTACH;FMTTYPE=image/jpeg:https://visitevergladescity.com/wp-content/uploads/2025/03/Farmers-Market.jpg
END:VEVENT
BEGIN:VEVENT
DTSTART;TZID=America/New_York:20251205T100000
DTEND;TZID=America/New_York:20251205T140000
DTSTAMP:20260424T201254
CREATED:20250326T141036Z
LAST-MODIFIED:20251121T220332Z
UID:10003735-1764928800-1764943200@visitevergladescity.com
SUMMARY:Fresh Market
DESCRIPTION:Find farm-fresh produce on Fridays and Sundays from 10 am to 2 pm next to the Everglades City Post Office.
URL:https://visitevergladescity.com/event/fresh-market/2025-12-05/
LOCATION:Everglades City Post Office\, 601 Collier Ave\, Everglades City\, FL\, 34139\, United States
CATEGORIES:Community
ATTACH;FMTTYPE=image/jpeg:https://visitevergladescity.com/wp-content/uploads/2025/03/Farmers-Market.jpg
END:VEVENT
BEGIN:VEVENT
DTSTART;TZID=America/New_York:20251130T100000
DTEND;TZID=America/New_York:20251130T140000
DTSTAMP:20260424T201254
CREATED:20250326T141036Z
LAST-MODIFIED:20251121T220332Z
UID:10003734-1764496800-1764511200@visitevergladescity.com
SUMMARY:Fresh Market
DESCRIPTION:Find farm-fresh produce on Fridays and Sundays from 10 am to 2 pm next to the Everglades City Post Office.
URL:https://visitevergladescity.com/event/fresh-market/2025-11-30/
LOCATION:Everglades City Post Office\, 601 Collier Ave\, Everglades City\, FL\, 34139\, United States
CATEGORIES:Community
ATTACH;FMTTYPE=image/jpeg:https://visitevergladescity.com/wp-content/uploads/2025/03/Farmers-Market.jpg
END:VEVENT
END:VCALENDAR