BEGIN:VCALENDAR
VERSION:2.0
PRODID:-//Visit Everglades City - ECPv6.15.20//NONSGML v1.0//EN
CALSCALE:GREGORIAN
METHOD:PUBLISH
X-ORIGINAL-URL:https://visitevergladescity.com
X-WR-CALDESC:Events for Visit Everglades City
REFRESH-INTERVAL;VALUE=DURATION:PT1H
X-Robots-Tag:noindex
X-PUBLISHED-TTL:PT1H
BEGIN:VTIMEZONE
TZID:America/New_York
BEGIN:DAYLIGHT
TZOFFSETFROM:-0500
TZOFFSETTO:-0400
TZNAME:EDT
DTSTART:20230312T070000
END:DAYLIGHT
BEGIN:STANDARD
TZOFFSETFROM:-0400
TZOFFSETTO:-0500
TZNAME:EST
DTSTART:20231105T060000
END:STANDARD
BEGIN:DAYLIGHT
TZOFFSETFROM:-0500
TZOFFSETTO:-0400
TZNAME:EDT
DTSTART:20240310T070000
END:DAYLIGHT
BEGIN:STANDARD
TZOFFSETFROM:-0400
TZOFFSETTO:-0500
TZNAME:EST
DTSTART:20241103T060000
END:STANDARD
BEGIN:DAYLIGHT
TZOFFSETFROM:-0500
TZOFFSETTO:-0400
TZNAME:EDT
DTSTART:20250309T070000
END:DAYLIGHT
BEGIN:STANDARD
TZOFFSETFROM:-0400
TZOFFSETTO:-0500
TZNAME:EST
DTSTART:20251102T060000
END:STANDARD
BEGIN:DAYLIGHT
TZOFFSETFROM:-0500
TZOFFSETTO:-0400
TZNAME:EDT
DTSTART:20260308T070000
END:DAYLIGHT
BEGIN:STANDARD
TZOFFSETFROM:-0400
TZOFFSETTO:-0500
TZNAME:EST
DTSTART:20261101T060000
END:STANDARD
END:VTIMEZONE
BEGIN:VEVENT
DTSTART;TZID=America/New_York:20250222T100000
DTEND;TZID=America/New_York:20250222T170000
DTSTAMP:20260422T091922
CREATED:20241119T202506Z
LAST-MODIFIED:20241119T202506Z
UID:10002983-1740218400-1740243600@visitevergladescity.com
SUMMARY:75th Anniversary Wild Hog BBQ
DESCRIPTION:Wild Hog BBQ\, a one-day event. \nAdvance tickets: $20 adults\, $10 kids 10 and under. \nAt the gate: $25 adults\, $12 kids 10 and under. \nTicket includes entry\, wildlife show\, live bands\, swamp buggy rides\, Miccosoukee culture\, traditions and dance! Enjoy local vendors\, activities\, raffles\, and delicious food. \nInfo: https://evergladesconservationsportsmanclub.com/wildhogbbq-1
URL:https://visitevergladescity.com/event/75th-anniversary-wild-hog-bbq/
LOCATION:Everglades Conservation And Sportsman Club\, 50940 Loop Rd\, Ochopee\, FL\, 34141\, United States
CATEGORIES:Culture
ATTACH;FMTTYPE=image/webp:https://visitevergladescity.com/wp-content/uploads/2024/11/Wild-Hog-BBQ-2025-web.webp
END:VEVENT
BEGIN:VEVENT
DTSTART;TZID=America/New_York:20240224T100000
DTEND;TZID=America/New_York:20240224T170000
DTSTAMP:20260422T091922
CREATED:20231208T220116Z
LAST-MODIFIED:20240213T203448Z
UID:10001129-1708768800-1708794000@visitevergladescity.com
SUMMARY:74th Anniversary Wild Hog BBQ
DESCRIPTION:Wild Hog BBQ is a One Day Event. Our next BBQ will be on Saturday\, February 24\, 2024 \nPre Sale Tickets are sold in advance $20 adults\, $10 kids (10 years and younger) and can be purchased via Venmo @Ecsc-WildHog or through any of our members \nTickets can be purchased at the gate $25 Adults/$12 kids \nYour ticket includes entrance to the event\, wild life show\, live bands\, free swamp buggy rides\, Miccosoukee culture\, tradition\, and dance. \nOther entertainment includes access to local vendors\, including Miccosoukee famous fry and pumpkin bread\, skeet shoot\, archery\, BB gun shoot\, grease pole\, face painting\, wood carvers\, lots of fun activities for the kids\, raffles including a gun\, 50/50\, and various items\, lots of tasty food options\, and more! \nFood to be sold separately throughout the event. \nDon’t forget to bring your lounge chairs\, coolers packed with all your favorites\, and CASH! \nWe look forward to seeing you all out there for a spectacular weekend!
URL:https://visitevergladescity.com/event/74th-anniversary-wild-hog-bbq/
LOCATION:Everglades Conservation And Sportsman Club\, 50940 Loop Rd\, Ochopee\, FL\, 34141\, United States
CATEGORIES:Culture
ATTACH;FMTTYPE=image/webp:https://visitevergladescity.com/wp-content/uploads/2023/12/wild-hog-BBQ.webp
END:VEVENT
END:VCALENDAR