BEGIN:VCALENDAR
VERSION:2.0
PRODID:-//Visit Everglades City - ECPv6.15.20//NONSGML v1.0//EN
CALSCALE:GREGORIAN
METHOD:PUBLISH
X-ORIGINAL-URL:https://visitevergladescity.com
X-WR-CALDESC:Events for Visit Everglades City
REFRESH-INTERVAL;VALUE=DURATION:PT1H
X-Robots-Tag:noindex
X-PUBLISHED-TTL:PT1H
BEGIN:VTIMEZONE
TZID:America/New_York
BEGIN:DAYLIGHT
TZOFFSETFROM:-0500
TZOFFSETTO:-0400
TZNAME:EDT
DTSTART:20230312T070000
END:DAYLIGHT
BEGIN:STANDARD
TZOFFSETFROM:-0400
TZOFFSETTO:-0500
TZNAME:EST
DTSTART:20231105T060000
END:STANDARD
BEGIN:DAYLIGHT
TZOFFSETFROM:-0500
TZOFFSETTO:-0400
TZNAME:EDT
DTSTART:20240310T070000
END:DAYLIGHT
BEGIN:STANDARD
TZOFFSETFROM:-0400
TZOFFSETTO:-0500
TZNAME:EST
DTSTART:20241103T060000
END:STANDARD
BEGIN:DAYLIGHT
TZOFFSETFROM:-0500
TZOFFSETTO:-0400
TZNAME:EDT
DTSTART:20250309T070000
END:DAYLIGHT
BEGIN:STANDARD
TZOFFSETFROM:-0400
TZOFFSETTO:-0500
TZNAME:EST
DTSTART:20251102T060000
END:STANDARD
BEGIN:DAYLIGHT
TZOFFSETFROM:-0500
TZOFFSETTO:-0400
TZNAME:EDT
DTSTART:20260308T070000
END:DAYLIGHT
BEGIN:STANDARD
TZOFFSETFROM:-0400
TZOFFSETTO:-0500
TZNAME:EST
DTSTART:20261101T060000
END:STANDARD
END:VTIMEZONE
BEGIN:VEVENT
DTSTART;TZID=America/New_York:20251025T063000
DTEND;TZID=America/New_York:20251025T170000
DTSTAMP:20260422T005145
CREATED:20251010T150402Z
LAST-MODIFIED:20251010T150402Z
UID:10003923-1761373800-1761411600@visitevergladescity.com
SUMMARY:Nate Edwards 4th Annual Fishing Tournament
DESCRIPTION:Weigh-In and Winners Ceremony\nSaturday\, October 25th\nEverglades Fishing Co.\n201 Collier Ave.\, Everglades City\, FL \nLine up in the Barron River – 6:30 am For National Anthem and a Safe Shot Gun Start\nLeave -chosen Port at Safe 1st Light\nWeigh-In: 2 pm – 4:30 pm\nWinners Ceremony: 5:00 pm – 5:30 pm\nLight food and drinks will be provided as we await the results. \nEverglades Fishing Company (EFC) has once again offered their central location for our “Weigh In” this year (bring photo of fish on the supplied ruler with team lanyard displayed).
URL:https://visitevergladescity.com/event/nate-edwards-4th-annual-fishing-tournament-2/
LOCATION:Everglades Fishing Company\, 201 Collier Ave\, Everglades City\, FL\, 34139\, United States
CATEGORIES:Fishing,Fundraiser
ATTACH;FMTTYPE=image/jpeg:https://visitevergladescity.com/wp-content/uploads/2024/03/2024-Nate-Edwards-Annual-Fishing-Tournament-Header.jpg
ORGANIZER;CN="Nate Edwards Annual Fishing Tournament":MAILTO:Nateedwardsfishingtournament@gmail.com
END:VEVENT
BEGIN:VEVENT
DTSTART;TZID=America/New_York:20241109T070000
DTEND;TZID=America/New_York:20241109T163000
DTSTAMP:20260422T005145
CREATED:20240613T175330Z
LAST-MODIFIED:20240613T175330Z
UID:10002236-1731135600-1731169800@visitevergladescity.com
SUMMARY:7th Annual Hook’em in the Glades: Tournament
DESCRIPTION:The 7th Annual Hook’em in the Glades fishing fundraiser supporting Everglades City Schools is scheduled for November 8-9\, 2024! Teams will fish the 10\,000 islands for a chance to catch the biggest Snook\, Redfish\, and Seatrout while supporting our school. Find out more: https://hookemintheglades.com
URL:https://visitevergladescity.com/event/7th-annual-hookem-in-the-glades-tournament/
LOCATION:Everglades Fishing Company\, 201 Collier Ave\, Everglades City\, FL\, 34139\, United States
CATEGORIES:Fishing,Fundraiser,Tournament
ATTACH;FMTTYPE=image/jpeg:https://visitevergladescity.com/wp-content/uploads/2023/10/Hookem-in-the-Glades-2023-Logo-min.jpg
END:VEVENT
BEGIN:VEVENT
DTSTART;TZID=America/New_York:20241026T080000
DTEND;TZID=America/New_York:20241026T170000
DTSTAMP:20260422T005145
CREATED:20240304T224805Z
LAST-MODIFIED:20240812T175410Z
UID:10001185-1729929600-1729962000@visitevergladescity.com
SUMMARY:Nate Edwards 3rd Annual Fishing Tournament
DESCRIPTION:Weigh-In and Winners Ceremony\nSaturday\, October 26th\nEverglades Fishing Co.\n201 Collier Ave.\, Everglades City\, FL\nWeigh-In: 2 pm – 4:30 pm\nWinners Ceremony: 5:00 pm – 5:30 pm\nLight food and drinks will be provided as we await the results. \nEverglades Fishing Company (EFC) has once again offered their central location for our “Weigh In” this year (bring photo of fish on the supplied ruler with team lanyard displayed).
URL:https://visitevergladescity.com/event/nate-edwards-3rd-annual-fishing-tournament-2/
LOCATION:Everglades Fishing Company\, 201 Collier Ave\, Everglades City\, FL\, 34139\, United States
CATEGORIES:Fishing,Fundraiser
ATTACH;FMTTYPE=image/jpeg:https://visitevergladescity.com/wp-content/uploads/2024/03/2024-Nate-Edwards-Annual-Fishing-Tournament-Header.jpg
ORGANIZER;CN="Nate Edwards Annual Fishing Tournament":MAILTO:Nateedwardsfishingtournament@gmail.com
END:VEVENT
BEGIN:VEVENT
DTSTART;TZID=America/New_York:20240831T180000
DTEND;TZID=America/New_York:20240831T220000
DTSTAMP:20260422T005145
CREATED:20240812T144617Z
LAST-MODIFIED:20240812T144617Z
UID:10002266-1725127200-1725141600@visitevergladescity.com
SUMMARY:Annual Everglades Fishing Company Block Party
DESCRIPTION:Join the fun at Everglades Fishing Company’s Annual Block Party on August 31\, from 6 pm to 10 pm. Enjoy live music\, food\, and drinks in the store\, and in the parking lot. Everyone is welcome\, so bring your neighbors and get ready to celebrate!
URL:https://visitevergladescity.com/event/annual-everglades-fishing-company-block-party/
LOCATION:Everglades Fishing Company\, 201 Collier Ave\, Everglades City\, FL\, 34139\, United States
CATEGORIES:Culture
ATTACH;FMTTYPE=image/webp:https://visitevergladescity.com/wp-content/uploads/2024/08/Everglades-Fishing-Company-Annual-Block-Party-Facebook-image-1.webp
END:VEVENT
END:VCALENDAR