BEGIN:VCALENDAR
VERSION:2.0
PRODID:-//Visit Everglades City - ECPv6.15.20//NONSGML v1.0//EN
CALSCALE:GREGORIAN
METHOD:PUBLISH
X-ORIGINAL-URL:https://visitevergladescity.com
X-WR-CALDESC:Events for Visit Everglades City
REFRESH-INTERVAL;VALUE=DURATION:PT1H
X-Robots-Tag:noindex
X-PUBLISHED-TTL:PT1H
BEGIN:VTIMEZONE
TZID:America/New_York
BEGIN:DAYLIGHT
TZOFFSETFROM:-0500
TZOFFSETTO:-0400
TZNAME:EDT
DTSTART:20220313T070000
END:DAYLIGHT
BEGIN:STANDARD
TZOFFSETFROM:-0400
TZOFFSETTO:-0500
TZNAME:EST
DTSTART:20221106T060000
END:STANDARD
BEGIN:DAYLIGHT
TZOFFSETFROM:-0500
TZOFFSETTO:-0400
TZNAME:EDT
DTSTART:20230312T070000
END:DAYLIGHT
BEGIN:STANDARD
TZOFFSETFROM:-0400
TZOFFSETTO:-0500
TZNAME:EST
DTSTART:20231105T060000
END:STANDARD
BEGIN:DAYLIGHT
TZOFFSETFROM:-0500
TZOFFSETTO:-0400
TZNAME:EDT
DTSTART:20240310T070000
END:DAYLIGHT
BEGIN:STANDARD
TZOFFSETFROM:-0400
TZOFFSETTO:-0500
TZNAME:EST
DTSTART:20241103T060000
END:STANDARD
BEGIN:DAYLIGHT
TZOFFSETFROM:-0500
TZOFFSETTO:-0400
TZNAME:EDT
DTSTART:20250309T070000
END:DAYLIGHT
BEGIN:STANDARD
TZOFFSETFROM:-0400
TZOFFSETTO:-0500
TZNAME:EST
DTSTART:20251102T060000
END:STANDARD
BEGIN:DAYLIGHT
TZOFFSETFROM:-0500
TZOFFSETTO:-0400
TZNAME:EDT
DTSTART:20260308T070000
END:DAYLIGHT
BEGIN:STANDARD
TZOFFSETFROM:-0400
TZOFFSETTO:-0500
TZNAME:EST
DTSTART:20261101T060000
END:STANDARD
BEGIN:DAYLIGHT
TZOFFSETFROM:-0500
TZOFFSETTO:-0400
TZNAME:EDT
DTSTART:20270314T070000
END:DAYLIGHT
BEGIN:STANDARD
TZOFFSETFROM:-0400
TZOFFSETTO:-0500
TZNAME:EST
DTSTART:20271107T060000
END:STANDARD
END:VTIMEZONE
BEGIN:VEVENT
DTSTART;TZID=America/New_York:20260221T100000
DTEND;TZID=America/New_York:20260221T113000
DTSTAMP:20260423T011056
CREATED:20260219T224010Z
LAST-MODIFIED:20260219T224010Z
UID:10004541-1771668000-1771673400@visitevergladescity.com
SUMMARY:Ribbon Cutting Celebrates Boardwalk Reopening\, Fakahatchee Strand
DESCRIPTION:The full boardwalk system at Fakahatchee Strand Preserve State Park is officially reopening end-to-end for the first time in years. \nSaturday\, February 21\n10:00–11:30 AM\nFakahatchee Strand Preserve State Park \nThe ceremony is hosted by the Florida Department of Environmental Protection Division of Recreation and Parks in partnership with Friends of Fakahatchee. \nThis reopening includes the newer boardwalk section that opened in February 2024 along with the reconstructed original boardwalk completed in November 2025. For the first time since hurricane damage disrupted access\, visitors can once again walk the entire system through the heart of the strand. \nFakahatchee protects one of the largest preserved cypress strand swamps in North America. This landscape supports: \n\nRare native orchids\, including the ghost orchid\nFlorida panther habitat\nBromeliads and air plants\nOld-growth bald cypress ecosystems\n\nThe elevated boardwalk makes this fragile habitat accessible while protecting sensitive wetlands beneath it. \nIf you’ve been waiting to walk it again — or have never experienced it end-to-end — this is the time.
URL:https://visitevergladescity.com/event/ribbon-cutting-celebrates-boardwalk-reopening-fakahatchee-strand/
LOCATION:Fakahatchee Strand Preserve State Park\, 137 Coast Line Dr\, Copeland\, FL\, 34137\, United States
CATEGORIES:Community
ATTACH;FMTTYPE=image/webp:https://visitevergladescity.com/wp-content/uploads/2024/03/Fakahatchee-Strand-Preserve-State-Park-Big-Cypress-Bend-Boardwalk-Chairs.webp
END:VEVENT
BEGIN:VEVENT
DTSTART;TZID=America/New_York:20240508T074500
DTEND;TZID=America/New_York:20240508T103000
DTSTAMP:20260423T011056
CREATED:20231113T160055Z
LAST-MODIFIED:20231113T160055Z
UID:10000161-1715154300-1715164200@visitevergladescity.com
SUMMARY:Bio Blitz
DESCRIPTION:Park Volunteer Coordinator\, Alex Gobel\, would like to invite all interested persons to visit the beautiful Fakahatchee Strand to participate in the 2023-24 Fakahatchee Strand Bio Blitz! The Bio Blitz takes place on a series of seven different dates. Those interested in volunteering may participate in as many\, or as few\, Blitzes as they would like. \nThe Bio Blitz is an important activity which assists the park staff with understanding the wildlife trends within the park\, and subsequently aids in the planning and management of the park. During the two-hour session\, volunteers are stationed along Janes Scenic Drive\, and record their wildlife observations. \nThis interesting opportunity occurs one Wednesday per month\, beginning November 2023\, through May 2024. Each month\, on the designated Wednesday\, volunteers meet at the Park Office at 7:45AM and then proceed to Blitz from 8:30-10:30AM. After the Bio Blitz concludes\, you are encouraged to remain and enjoy the park at your leisure. \nMore Info:\nAlex.gobel@floridadep.gov\n(239) 961-1925
URL:https://visitevergladescity.com/event/bio-blitz-7/
LOCATION:Fakahatchee Strand Preserve State Park\, 137 Coast Line Dr\, Copeland\, FL\, 34137\, United States
CATEGORIES:Volunteer
ATTACH;FMTTYPE=image/jpeg:https://visitevergladescity.com/wp-content/uploads/2023/10/BioBlitz-min.jpg
END:VEVENT
BEGIN:VEVENT
DTSTART;TZID=America/New_York:20240410T074500
DTEND;TZID=America/New_York:20240410T103000
DTSTAMP:20260423T011056
CREATED:20231113T155909Z
LAST-MODIFIED:20231113T155909Z
UID:10000160-1712735100-1712745000@visitevergladescity.com
SUMMARY:Bio Blitz
DESCRIPTION:Park Volunteer Coordinator\, Alex Gobel\, would like to invite all interested persons to visit the beautiful Fakahatchee Strand to participate in the 2023-24 Fakahatchee Strand Bio Blitz! The Bio Blitz takes place on a series of seven different dates. Those interested in volunteering may participate in as many\, or as few\, Blitzes as they would like. \nThe Bio Blitz is an important activity which assists the park staff with understanding the wildlife trends within the park\, and subsequently aids in the planning and management of the park. During the two-hour session\, volunteers are stationed along Janes Scenic Drive\, and record their wildlife observations. \nThis interesting opportunity occurs one Wednesday per month\, beginning November 2023\, through May 2024. Each month\, on the designated Wednesday\, volunteers meet at the Park Office at 7:45AM and then proceed to Blitz from 8:30-10:30AM. After the Bio Blitz concludes\, you are encouraged to remain and enjoy the park at your leisure. \nThe upcoming Bio Blitz series will take place on the following Wednesdays:\n• April 10th\n• May 8th \nMore Info:\nAlex.gobel@floridadep.gov\n(239) 961-1925
URL:https://visitevergladescity.com/event/bio-blitz-6/
LOCATION:Fakahatchee Strand Preserve State Park\, 137 Coast Line Dr\, Copeland\, FL\, 34137\, United States
CATEGORIES:Volunteer
ATTACH;FMTTYPE=image/jpeg:https://visitevergladescity.com/wp-content/uploads/2023/10/BioBlitz-min.jpg
END:VEVENT
BEGIN:VEVENT
DTSTART;TZID=America/New_York:20240313T074500
DTEND;TZID=America/New_York:20240313T103000
DTSTAMP:20260423T011056
CREATED:20231113T155708Z
LAST-MODIFIED:20231113T155740Z
UID:10000159-1710315900-1710325800@visitevergladescity.com
SUMMARY:Bio Blitz
DESCRIPTION:Park Volunteer Coordinator\, Alex Gobel\, would like to invite all interested persons to visit the beautiful Fakahatchee Strand to participate in the 2023-24 Fakahatchee Strand Bio Blitz! The Bio Blitz takes place on a series of seven different dates. Those interested in volunteering may participate in as many\, or as few\, Blitzes as they would like. \nThe Bio Blitz is an important activity which assists the park staff with understanding the wildlife trends within the park\, and subsequently aids in the planning and management of the park. During the two-hour session\, volunteers are stationed along Janes Scenic Drive\, and record their wildlife observations. \nThis interesting opportunity occurs one Wednesday per month\, beginning November 2023\, through May 2024. Each month\, on the designated Wednesday\, volunteers meet at the Park Office at 7:45AM and then proceed to Blitz from 8:30-10:30AM. After the Bio Blitz concludes\, you are encouraged to remain and enjoy the park at your leisure. \nThe upcoming Bio Blitz series will take place on the following Wednesdays:\n• March 13th\n• April 10th\n• May 8th \nMore Info:\nAlex.gobel@floridadep.gov\n(239) 961-1925
URL:https://visitevergladescity.com/event/bio-blitz-5/
LOCATION:Fakahatchee Strand Preserve State Park\, 137 Coast Line Dr\, Copeland\, FL\, 34137\, United States
CATEGORIES:Volunteer
ATTACH;FMTTYPE=image/jpeg:https://visitevergladescity.com/wp-content/uploads/2023/10/BioBlitz-min.jpg
END:VEVENT
BEGIN:VEVENT
DTSTART;TZID=America/New_York:20240207T074500
DTEND;TZID=America/New_York:20240207T103000
DTSTAMP:20260423T011056
CREATED:20231113T155545Z
LAST-MODIFIED:20231113T155545Z
UID:10000158-1707291900-1707301800@visitevergladescity.com
SUMMARY:Bio Blitz
DESCRIPTION:Park Volunteer Coordinator\, Alex Gobel\, would like to invite all interested persons to visit the beautiful Fakahatchee Strand to participate in the 2023-24 Fakahatchee Strand Bio Blitz! The Bio Blitz takes place on a series of seven different dates. Those interested in volunteering may participate in as many\, or as few\, Blitzes as they would like. \nThe Bio Blitz is an important activity which assists the park staff with understanding the wildlife trends within the park\, and subsequently aids in the planning and management of the park. During the two-hour session\, volunteers are stationed along Janes Scenic Drive\, and record their wildlife observations. \nThis interesting opportunity occurs one Wednesday per month\, beginning November 2023\, through May 2024. Each month\, on the designated Wednesday\, volunteers meet at the Park Office at 7:45AM and then proceed to Blitz from 8:30-10:30AM. After the Bio Blitz concludes\, you are encouraged to remain and enjoy the park at your leisure. \nThe upcoming Bio Blitz series will take place on the following Wednesdays:\n• February 7th\n• March 13th\n• April 10th\n• May 8th \nMore Info:\nAlex.gobel@floridadep.gov\n(239) 961-1925
URL:https://visitevergladescity.com/event/bio-blitz-4/
LOCATION:Fakahatchee Strand Preserve State Park\, 137 Coast Line Dr\, Copeland\, FL\, 34137\, United States
CATEGORIES:Volunteer
ATTACH;FMTTYPE=image/jpeg:https://visitevergladescity.com/wp-content/uploads/2023/10/BioBlitz-min.jpg
END:VEVENT
BEGIN:VEVENT
DTSTART;TZID=America/New_York:20240110T074500
DTEND;TZID=America/New_York:20240110T103000
DTSTAMP:20260423T011056
CREATED:20231113T155131Z
LAST-MODIFIED:20231113T155131Z
UID:10000157-1704872700-1704882600@visitevergladescity.com
SUMMARY:Bio Blitz
DESCRIPTION:Park Volunteer Coordinator\, Alex Gobel\, would like to invite all interested persons to visit the beautiful Fakahatchee Strand to participate in the 2023-24 Fakahatchee Strand Bio Blitz! The Bio Blitz takes place on a series of seven different dates. Those interested in volunteering may participate in as many\, or as few\, Blitzes as they would like. \nThe Bio Blitz is an important activity which assists the park staff with understanding the wildlife trends within the park\, and subsequently aids in the planning and management of the park. During the two-hour session\, volunteers are stationed along Janes Scenic Drive\, and record their wildlife observations. \nThis interesting opportunity occurs one Wednesday per month\, beginning November 2023\, through May 2024. Each month\, on the designated Wednesday\, volunteers meet at the Park Office at 7:45AM and then proceed to Blitz from 8:30-10:30AM. After the Bio Blitz concludes\, you are encouraged to remain and enjoy the park at your leisure. \nThe upcoming Bio Blitz series will take place on the following Wednesdays:\n• January 10th\n• February 7th\n• March 13th\n• April 10th\n• May 8th \nMore Info:\nAlex.gobel@floridadep.gov\n(239) 961-1925
URL:https://visitevergladescity.com/event/bio-blitz-3/
LOCATION:Fakahatchee Strand Preserve State Park\, 137 Coast Line Dr\, Copeland\, FL\, 34137\, United States
CATEGORIES:Volunteer
ATTACH;FMTTYPE=image/jpeg:https://visitevergladescity.com/wp-content/uploads/2023/10/BioBlitz-min.jpg
END:VEVENT
BEGIN:VEVENT
DTSTART;TZID=America/New_York:20231213T074500
DTEND;TZID=America/New_York:20231213T103000
DTSTAMP:20260423T011056
CREATED:20231113T154928Z
LAST-MODIFIED:20231113T155038Z
UID:10000156-1702453500-1702463400@visitevergladescity.com
SUMMARY:Bio Blitz
DESCRIPTION:Park Volunteer Coordinator\, Alex Gobel\, would like to invite all interested persons to visit the beautiful Fakahatchee Strand to participate in the 2023-24 Fakahatchee Strand Bio Blitz! The Bio Blitz takes place on a series of seven different dates. Those interested in volunteering may participate in as many\, or as few\, Blitzes as they would like. \nThe Bio Blitz is an important activity which assists the park staff with understanding the wildlife trends within the park\, and subsequently aids in the planning and management of the park. During the two-hour session\, volunteers are stationed along Janes Scenic Drive\, and record their wildlife observations. \nThis interesting opportunity occurs one Wednesday per month\, beginning November 2023\, through May 2024. Each month\, on the designated Wednesday\, volunteers meet at the Park Office at 7:45AM and then proceed to Blitz from 8:30-10:30AM. After the Bio Blitz concludes\, you are encouraged to remain and enjoy the park at your leisure. \nThe upcoming Bio Blitz series will take place on the following Wednesdays:\n• • December 13th\n• January 10th\n• February 7th\n• March 13th\n• April 10th\n• May 8th \nMore Info:\nAlex.gobel@floridadep.gov\n(239) 961-1925
URL:https://visitevergladescity.com/event/bio-blitz-2/
LOCATION:Fakahatchee Strand Preserve State Park\, 137 Coast Line Dr\, Copeland\, FL\, 34137\, United States
CATEGORIES:Volunteer
ATTACH;FMTTYPE=image/jpeg:https://visitevergladescity.com/wp-content/uploads/2023/10/BioBlitz-min.jpg
END:VEVENT
BEGIN:VEVENT
DTSTART;TZID=America/New_York:20231115T074500
DTEND;TZID=America/New_York:20231115T103000
DTSTAMP:20260423T011056
CREATED:20231024T182039Z
LAST-MODIFIED:20231101T134210Z
UID:10000151-1700034300-1700044200@visitevergladescity.com
SUMMARY:Bio Blitz
DESCRIPTION:Park Volunteer Coordinator\, Alex Gobel\, would like to invite all interested persons to visit the beautiful Fakahatchee Strand to participate in the 2023-24 Fakahatchee Strand Bio Blitz! The Bio Blitz takes place on a series of seven different dates. Those interested in volunteering may participate in as many\, or as few\, Blitzes as they would like. \nThe Bio Blitz is an important activity which assists the park staff with understanding the wildlife trends within the park\, and subsequently aids in the planning and management of the park. During the two-hour session\, volunteers are stationed along Janes Scenic Drive\, and record their wildlife observations. \nThis interesting opportunity occurs one Wednesday per month\, beginning November 2023\, through May 2024. Each month\, on the designated Wednesday\, volunteers meet at the Park Office at 7:45AM and then proceed to Blitz from 8:30-10:30AM. After the Bio Blitz concludes\, you are encouraged to remain and enjoy the park at your leisure. \nThe upcoming Bio Blitz series will take place on the following Wednesdays:\n• November 15th.\n• December 13th.\n• January 10th.\n• February 7th.\n• March 13th.\n• April 10th.\n• May 8th. \nMore Info:\nAlex.gobel@floridadep.gov\n(239) 961-1925
URL:https://visitevergladescity.com/event/bio-blitz/
LOCATION:Fakahatchee Strand Preserve State Park\, 137 Coast Line Dr\, Copeland\, FL\, 34137\, United States
CATEGORIES:Volunteer
ATTACH;FMTTYPE=image/jpeg:https://visitevergladescity.com/wp-content/uploads/2023/10/BioBlitz-min.jpg
END:VEVENT
END:VCALENDAR