BEGIN:VCALENDAR
VERSION:2.0
PRODID:-//Visit Everglades City - ECPv6.15.20//NONSGML v1.0//EN
CALSCALE:GREGORIAN
METHOD:PUBLISH
X-ORIGINAL-URL:https://visitevergladescity.com
X-WR-CALDESC:Events for Visit Everglades City
REFRESH-INTERVAL;VALUE=DURATION:PT1H
X-Robots-Tag:noindex
X-PUBLISHED-TTL:PT1H
BEGIN:VTIMEZONE
TZID:America/New_York
BEGIN:DAYLIGHT
TZOFFSETFROM:-0500
TZOFFSETTO:-0400
TZNAME:EDT
DTSTART:20220313T070000
END:DAYLIGHT
BEGIN:STANDARD
TZOFFSETFROM:-0400
TZOFFSETTO:-0500
TZNAME:EST
DTSTART:20221106T060000
END:STANDARD
BEGIN:DAYLIGHT
TZOFFSETFROM:-0500
TZOFFSETTO:-0400
TZNAME:EDT
DTSTART:20230312T070000
END:DAYLIGHT
BEGIN:STANDARD
TZOFFSETFROM:-0400
TZOFFSETTO:-0500
TZNAME:EST
DTSTART:20231105T060000
END:STANDARD
BEGIN:DAYLIGHT
TZOFFSETFROM:-0500
TZOFFSETTO:-0400
TZNAME:EDT
DTSTART:20240310T070000
END:DAYLIGHT
BEGIN:STANDARD
TZOFFSETFROM:-0400
TZOFFSETTO:-0500
TZNAME:EST
DTSTART:20241103T060000
END:STANDARD
BEGIN:DAYLIGHT
TZOFFSETFROM:-0500
TZOFFSETTO:-0400
TZNAME:EDT
DTSTART:20250309T070000
END:DAYLIGHT
BEGIN:STANDARD
TZOFFSETFROM:-0400
TZOFFSETTO:-0500
TZNAME:EST
DTSTART:20251102T060000
END:STANDARD
END:VTIMEZONE
BEGIN:VEVENT
DTSTART;TZID=America/New_York:20241108T173000
DTEND;TZID=America/New_York:20241108T193000
DTSTAMP:20260421T053911
CREATED:20240613T175052Z
LAST-MODIFIED:20240613T175052Z
UID:10002235-1731087000-1731094200@visitevergladescity.com
SUMMARY:7th Annual Hook’em in the Glades: Captain's Meeting
DESCRIPTION:The 7th Annual Hook’em in the Glades fishing fundraiser supporting Everglades City Schools is scheduled for November 8-9\, 2024! Teams will fish the 10\,000 islands for a chance to catch the biggest Snook\, Redfish\, and Seatrout while supporting our school. Find out more: https://hookemintheglades.com
URL:https://visitevergladescity.com/event/7th-annual-hookem-in-the-glades-captains-meeting/
LOCATION:Gator Hole Bar\, 875 S. Copeland Ave. S\, Everglades City\, FL\, 34139\, United States
CATEGORIES:Fishing,Fundraiser,Tournament
ATTACH;FMTTYPE=image/jpeg:https://visitevergladescity.com/wp-content/uploads/2023/10/Hookem-in-the-Glades-2023-Logo-min.jpg
END:VEVENT
BEGIN:VEVENT
DTSTART;TZID=America/New_York:20240519T180000
DTEND;TZID=America/New_York:20240519T200000
DTSTAMP:20260421T053911
CREATED:20240422T190906Z
LAST-MODIFIED:20240422T190906Z
UID:10001892-1716141600-1716148800@visitevergladescity.com
SUMMARY:The Amazing Micro Wrestlers
DESCRIPTION:The Amazing Micro Wrestlers will be putting on a show at the Gator Hole Bar. They are a talented group and are known for their great performances. Tickets are available now and can be purchased through their website. Ringside seats are guaranteed\, but other seats are first come\, first served\, so bring a lawn chair if you don’t have a reserved seat.
URL:https://visitevergladescity.com/event/the-amazing-micro-wrestlers/
LOCATION:Gator Hole Bar\, 875 S. Copeland Ave. S\, Everglades City\, FL\, 34139\, United States
CATEGORIES:Culture
ATTACH;FMTTYPE=image/webp:https://visitevergladescity.com/wp-content/uploads/2024/04/Micro-Wrestling-Flyer.webp
END:VEVENT
BEGIN:VEVENT
DTSTART;TZID=America/New_York:20230827T120000
DTEND;TZID=America/New_York:20230827T220000
DTSTAMP:20260421T053911
CREATED:20231113T090259Z
LAST-MODIFIED:20231113T090404Z
UID:10000047-1693137600-1693173600@visitevergladescity.com
SUMMARY:Hook'em in the Glades Fishing Fundraiser
DESCRIPTION:Download: Click Image \n6th Annual Hook’em in the Glades fishing fundraiser is November 3-\, 2023.  Captain’s dinner and boat check-in will be at Camellia Street Grill. The funds from this event go to support the Everglades City School Athletic department and student groups. \n\nParticipate\n\nCaptain’s dinner and boat check-in will be at Camellia Street Grill\n\nSchedule\n00:00 Pending
URL:https://visitevergladescity.com/event/hookem-in-the-glades-fishing-fundraiser/
LOCATION:Gator Hole Bar\, 875 S. Copeland Ave. S\, Everglades City\, FL\, 34139\, United States
CATEGORIES:Culture,Fishing
ATTACH;FMTTYPE=image/jpeg:https://visitevergladescity.com/wp-content/uploads/2023/07/Sunday-Python-Festival-Flyer-scaled.jpg
ORGANIZER;CN="Gator Hole Bar":MAILTO:gladeshaven875@gmail.com
END:VEVENT
BEGIN:VEVENT
DTSTART;TZID=America/New_York:20230827T120000
DTEND;TZID=America/New_York:20230827T220000
DTSTAMP:20260421T053911
CREATED:20230728T200837Z
LAST-MODIFIED:20231113T090412Z
UID:10000044-1693137600-1693173600@visitevergladescity.com
SUMMARY:Python Festival at Gator Hole Bar
DESCRIPTION:Download: Click Image \nMark your calendars for the upcoming Python Festival\, set to take place at the Gator Hole Bar and Glades Haven General Store on Sunday\, August 27\, 2023. Prepare yourself for a day filled with contests\, food\, and live music at the Day of The Snake celebration. \nThe festivities will commence at 12 noon\, so be sure not to miss out on the excitement! Secure your lunch tickets early for only $20\, conveniently available for purchase in advance at Glades Haven General Store. Join us once again as we create unforgettable memories at the Python Festival! \n\nParticipate\n\nBring your exotic live python to show off (Only legal snakes allowed).\nPlease refrain from bringing aggressive animals to the event.\nDress your best and participate in the Best Dressed Python Hunter competition for kids (1-18)\, ladies\, and men. The prize is a python shirt.\nAt 2 pm\, join the Burmese Python Competition. All deceased snakes must be properly bagged. There will be division judging for the competition.\n\nSchedule\n12:00 Even Open \n2:00 Burmese Python Competition
URL:https://visitevergladescity.com/event/python-festival/
LOCATION:Gator Hole Bar\, 875 S. Copeland Ave. S\, Everglades City\, FL\, 34139\, United States
CATEGORIES:Culture
ATTACH;FMTTYPE=image/jpeg:https://visitevergladescity.com/wp-content/uploads/2023/07/Sunday-Python-Festival-Flyer-scaled.jpg
ORGANIZER;CN="Gator Hole Bar":MAILTO:gladeshaven875@gmail.com
END:VEVENT
END:VCALENDAR