BEGIN:VCALENDAR
VERSION:2.0
PRODID:-//Visit Everglades City - ECPv6.15.20//NONSGML v1.0//EN
CALSCALE:GREGORIAN
METHOD:PUBLISH
X-WR-CALNAME:Visit Everglades City
X-ORIGINAL-URL:https://visitevergladescity.com
X-WR-CALDESC:Events for Visit Everglades City
REFRESH-INTERVAL;VALUE=DURATION:PT1H
X-Robots-Tag:noindex
X-PUBLISHED-TTL:PT1H
BEGIN:VTIMEZONE
TZID:America/New_York
BEGIN:DAYLIGHT
TZOFFSETFROM:-0500
TZOFFSETTO:-0400
TZNAME:EDT
DTSTART:20290311T070000
END:DAYLIGHT
BEGIN:STANDARD
TZOFFSETFROM:-0400
TZOFFSETTO:-0500
TZNAME:EST
DTSTART:20291104T060000
END:STANDARD
BEGIN:DAYLIGHT
TZOFFSETFROM:-0500
TZOFFSETTO:-0400
TZNAME:EDT
DTSTART:20300310T070000
END:DAYLIGHT
BEGIN:STANDARD
TZOFFSETFROM:-0400
TZOFFSETTO:-0500
TZNAME:EST
DTSTART:20301103T060000
END:STANDARD
BEGIN:DAYLIGHT
TZOFFSETFROM:-0500
TZOFFSETTO:-0400
TZNAME:EDT
DTSTART:20310309T070000
END:DAYLIGHT
BEGIN:STANDARD
TZOFFSETFROM:-0400
TZOFFSETTO:-0500
TZNAME:EST
DTSTART:20311102T060000
END:STANDARD
BEGIN:DAYLIGHT
TZOFFSETFROM:-0500
TZOFFSETTO:-0400
TZNAME:EDT
DTSTART:20320314T070000
END:DAYLIGHT
BEGIN:STANDARD
TZOFFSETFROM:-0400
TZOFFSETTO:-0500
TZNAME:EST
DTSTART:20321107T060000
END:STANDARD
END:VTIMEZONE
BEGIN:VEVENT
DTSTART;TZID=America/New_York:20300117T083000
DTEND;TZID=America/New_York:20300117T100000
DTSTAMP:20260421T090254
CREATED:20260203T103505Z
LAST-MODIFIED:20260203T103907Z
UID:10004524-1894869000-1894874400@visitevergladescity.com
SUMMARY:Ladies’ Coffee at HavAnnA Cafe
DESCRIPTION:Ladies Coffee is a laid-back weekly gathering for women who enjoy good conversation\, familiar faces\, and the discovery of new friendships over breakfast and coffee. There’s no agenda\, no dues\, and no pressure — just an open seat at the table and a welcoming group. \nEach week\, the group rotates between four local favorites: \n\nCity Seafood\nDulce’s\nHavAnna Café\nIsland Café\n\nThursdays at 8:30 AM
URL:https://visitevergladescity.com/event/ladies-coffee-at-havanna-cafe-3-2/2030-01-17/
LOCATION:HavAnnA Cafe\, 191 Smallwood Dr\, Chokoloskee\, FL\, 34138\, United States
CATEGORIES:Clubs
ATTACH;FMTTYPE=image/jpeg:https://visitevergladescity.com/wp-content/uploads/2023/12/Ladies-Coffee-1000x700-min.jpg
END:VEVENT
BEGIN:VEVENT
DTSTART;TZID=America/New_York:20300214T083000
DTEND;TZID=America/New_York:20300214T100000
DTSTAMP:20260421T090254
CREATED:20260203T103505Z
LAST-MODIFIED:20260203T103907Z
UID:10004525-1897288200-1897293600@visitevergladescity.com
SUMMARY:Ladies’ Coffee at HavAnnA Cafe
DESCRIPTION:Ladies Coffee is a laid-back weekly gathering for women who enjoy good conversation\, familiar faces\, and the discovery of new friendships over breakfast and coffee. There’s no agenda\, no dues\, and no pressure — just an open seat at the table and a welcoming group. \nEach week\, the group rotates between four local favorites: \n\nCity Seafood\nDulce’s\nHavAnna Café\nIsland Café\n\nThursdays at 8:30 AM
URL:https://visitevergladescity.com/event/ladies-coffee-at-havanna-cafe-3-2/2030-02-14/
LOCATION:HavAnnA Cafe\, 191 Smallwood Dr\, Chokoloskee\, FL\, 34138\, United States
CATEGORIES:Clubs
ATTACH;FMTTYPE=image/jpeg:https://visitevergladescity.com/wp-content/uploads/2023/12/Ladies-Coffee-1000x700-min.jpg
END:VEVENT
BEGIN:VEVENT
DTSTART;TZID=America/New_York:20300314T083000
DTEND;TZID=America/New_York:20300314T100000
DTSTAMP:20260421T090254
CREATED:20260203T103505Z
LAST-MODIFIED:20260203T103907Z
UID:10004526-1899707400-1899712800@visitevergladescity.com
SUMMARY:Ladies’ Coffee at HavAnnA Cafe
DESCRIPTION:Ladies Coffee is a laid-back weekly gathering for women who enjoy good conversation\, familiar faces\, and the discovery of new friendships over breakfast and coffee. There’s no agenda\, no dues\, and no pressure — just an open seat at the table and a welcoming group. \nEach week\, the group rotates between four local favorites: \n\nCity Seafood\nDulce’s\nHavAnna Café\nIsland Café\n\nThursdays at 8:30 AM
URL:https://visitevergladescity.com/event/ladies-coffee-at-havanna-cafe-3-2/2030-03-14/
LOCATION:HavAnnA Cafe\, 191 Smallwood Dr\, Chokoloskee\, FL\, 34138\, United States
CATEGORIES:Clubs
ATTACH;FMTTYPE=image/jpeg:https://visitevergladescity.com/wp-content/uploads/2023/12/Ladies-Coffee-1000x700-min.jpg
END:VEVENT
BEGIN:VEVENT
DTSTART;TZID=America/New_York:20300411T083000
DTEND;TZID=America/New_York:20300411T100000
DTSTAMP:20260421T090254
CREATED:20260203T103505Z
LAST-MODIFIED:20260203T103907Z
UID:10004527-1902126600-1902132000@visitevergladescity.com
SUMMARY:Ladies’ Coffee at HavAnnA Cafe
DESCRIPTION:Ladies Coffee is a laid-back weekly gathering for women who enjoy good conversation\, familiar faces\, and the discovery of new friendships over breakfast and coffee. There’s no agenda\, no dues\, and no pressure — just an open seat at the table and a welcoming group. \nEach week\, the group rotates between four local favorites: \n\nCity Seafood\nDulce’s\nHavAnna Café\nIsland Café\n\nThursdays at 8:30 AM
URL:https://visitevergladescity.com/event/ladies-coffee-at-havanna-cafe-3-2/2030-04-11/
LOCATION:HavAnnA Cafe\, 191 Smallwood Dr\, Chokoloskee\, FL\, 34138\, United States
CATEGORIES:Clubs
ATTACH;FMTTYPE=image/jpeg:https://visitevergladescity.com/wp-content/uploads/2023/12/Ladies-Coffee-1000x700-min.jpg
END:VEVENT
BEGIN:VEVENT
DTSTART;TZID=America/New_York:20300509T083000
DTEND;TZID=America/New_York:20300509T100000
DTSTAMP:20260421T090254
CREATED:20260203T103505Z
LAST-MODIFIED:20260203T103907Z
UID:10004528-1904545800-1904551200@visitevergladescity.com
SUMMARY:Ladies’ Coffee at HavAnnA Cafe
DESCRIPTION:Ladies Coffee is a laid-back weekly gathering for women who enjoy good conversation\, familiar faces\, and the discovery of new friendships over breakfast and coffee. There’s no agenda\, no dues\, and no pressure — just an open seat at the table and a welcoming group. \nEach week\, the group rotates between four local favorites: \n\nCity Seafood\nDulce’s\nHavAnna Café\nIsland Café\n\nThursdays at 8:30 AM
URL:https://visitevergladescity.com/event/ladies-coffee-at-havanna-cafe-3-2/2030-05-09/
LOCATION:HavAnnA Cafe\, 191 Smallwood Dr\, Chokoloskee\, FL\, 34138\, United States
CATEGORIES:Clubs
ATTACH;FMTTYPE=image/jpeg:https://visitevergladescity.com/wp-content/uploads/2023/12/Ladies-Coffee-1000x700-min.jpg
END:VEVENT
BEGIN:VEVENT
DTSTART;TZID=America/New_York:20300606T083000
DTEND;TZID=America/New_York:20300606T100000
DTSTAMP:20260421T090254
CREATED:20260203T103505Z
LAST-MODIFIED:20260203T103907Z
UID:10004529-1906965000-1906970400@visitevergladescity.com
SUMMARY:Ladies’ Coffee at HavAnnA Cafe
DESCRIPTION:Ladies Coffee is a laid-back weekly gathering for women who enjoy good conversation\, familiar faces\, and the discovery of new friendships over breakfast and coffee. There’s no agenda\, no dues\, and no pressure — just an open seat at the table and a welcoming group. \nEach week\, the group rotates between four local favorites: \n\nCity Seafood\nDulce’s\nHavAnna Café\nIsland Café\n\nThursdays at 8:30 AM
URL:https://visitevergladescity.com/event/ladies-coffee-at-havanna-cafe-3-2/2030-06-06/
LOCATION:HavAnnA Cafe\, 191 Smallwood Dr\, Chokoloskee\, FL\, 34138\, United States
CATEGORIES:Clubs
ATTACH;FMTTYPE=image/jpeg:https://visitevergladescity.com/wp-content/uploads/2023/12/Ladies-Coffee-1000x700-min.jpg
END:VEVENT
BEGIN:VEVENT
DTSTART;TZID=America/New_York:20300704T083000
DTEND;TZID=America/New_York:20300704T100000
DTSTAMP:20260421T090254
CREATED:20260203T103505Z
LAST-MODIFIED:20260203T103907Z
UID:10004530-1909384200-1909389600@visitevergladescity.com
SUMMARY:Ladies’ Coffee at HavAnnA Cafe
DESCRIPTION:Ladies Coffee is a laid-back weekly gathering for women who enjoy good conversation\, familiar faces\, and the discovery of new friendships over breakfast and coffee. There’s no agenda\, no dues\, and no pressure — just an open seat at the table and a welcoming group. \nEach week\, the group rotates between four local favorites: \n\nCity Seafood\nDulce’s\nHavAnna Café\nIsland Café\n\nThursdays at 8:30 AM
URL:https://visitevergladescity.com/event/ladies-coffee-at-havanna-cafe-3-2/2030-07-04/
LOCATION:HavAnnA Cafe\, 191 Smallwood Dr\, Chokoloskee\, FL\, 34138\, United States
CATEGORIES:Clubs
ATTACH;FMTTYPE=image/jpeg:https://visitevergladescity.com/wp-content/uploads/2023/12/Ladies-Coffee-1000x700-min.jpg
END:VEVENT
BEGIN:VEVENT
DTSTART;TZID=America/New_York:20300801T083000
DTEND;TZID=America/New_York:20300801T100000
DTSTAMP:20260421T090254
CREATED:20260203T103505Z
LAST-MODIFIED:20260203T103907Z
UID:10004531-1911803400-1911808800@visitevergladescity.com
SUMMARY:Ladies’ Coffee at HavAnnA Cafe
DESCRIPTION:Ladies Coffee is a laid-back weekly gathering for women who enjoy good conversation\, familiar faces\, and the discovery of new friendships over breakfast and coffee. There’s no agenda\, no dues\, and no pressure — just an open seat at the table and a welcoming group. \nEach week\, the group rotates between four local favorites: \n\nCity Seafood\nDulce’s\nHavAnna Café\nIsland Café\n\nThursdays at 8:30 AM
URL:https://visitevergladescity.com/event/ladies-coffee-at-havanna-cafe-3-2/2030-08-01/
LOCATION:HavAnnA Cafe\, 191 Smallwood Dr\, Chokoloskee\, FL\, 34138\, United States
CATEGORIES:Clubs
ATTACH;FMTTYPE=image/jpeg:https://visitevergladescity.com/wp-content/uploads/2023/12/Ladies-Coffee-1000x700-min.jpg
END:VEVENT
BEGIN:VEVENT
DTSTART;TZID=America/New_York:20300829T083000
DTEND;TZID=America/New_York:20300829T100000
DTSTAMP:20260421T090254
CREATED:20260203T103505Z
LAST-MODIFIED:20260203T103907Z
UID:10004532-1914222600-1914228000@visitevergladescity.com
SUMMARY:Ladies’ Coffee at HavAnnA Cafe
DESCRIPTION:Ladies Coffee is a laid-back weekly gathering for women who enjoy good conversation\, familiar faces\, and the discovery of new friendships over breakfast and coffee. There’s no agenda\, no dues\, and no pressure — just an open seat at the table and a welcoming group. \nEach week\, the group rotates between four local favorites: \n\nCity Seafood\nDulce’s\nHavAnna Café\nIsland Café\n\nThursdays at 8:30 AM
URL:https://visitevergladescity.com/event/ladies-coffee-at-havanna-cafe-3-2/2030-08-29/
LOCATION:HavAnnA Cafe\, 191 Smallwood Dr\, Chokoloskee\, FL\, 34138\, United States
CATEGORIES:Clubs
ATTACH;FMTTYPE=image/jpeg:https://visitevergladescity.com/wp-content/uploads/2023/12/Ladies-Coffee-1000x700-min.jpg
END:VEVENT
BEGIN:VEVENT
DTSTART;TZID=America/New_York:20300926T083000
DTEND;TZID=America/New_York:20300926T100000
DTSTAMP:20260421T090254
CREATED:20260203T103505Z
LAST-MODIFIED:20260203T103907Z
UID:10004533-1916641800-1916647200@visitevergladescity.com
SUMMARY:Ladies’ Coffee at HavAnnA Cafe
DESCRIPTION:Ladies Coffee is a laid-back weekly gathering for women who enjoy good conversation\, familiar faces\, and the discovery of new friendships over breakfast and coffee. There’s no agenda\, no dues\, and no pressure — just an open seat at the table and a welcoming group. \nEach week\, the group rotates between four local favorites: \n\nCity Seafood\nDulce’s\nHavAnna Café\nIsland Café\n\nThursdays at 8:30 AM
URL:https://visitevergladescity.com/event/ladies-coffee-at-havanna-cafe-3-2/2030-09-26/
LOCATION:HavAnnA Cafe\, 191 Smallwood Dr\, Chokoloskee\, FL\, 34138\, United States
CATEGORIES:Clubs
ATTACH;FMTTYPE=image/jpeg:https://visitevergladescity.com/wp-content/uploads/2023/12/Ladies-Coffee-1000x700-min.jpg
END:VEVENT
BEGIN:VEVENT
DTSTART;TZID=America/New_York:20301024T083000
DTEND;TZID=America/New_York:20301024T100000
DTSTAMP:20260421T090254
CREATED:20260203T103505Z
LAST-MODIFIED:20260203T103907Z
UID:10004534-1919061000-1919066400@visitevergladescity.com
SUMMARY:Ladies’ Coffee at HavAnnA Cafe
DESCRIPTION:Ladies Coffee is a laid-back weekly gathering for women who enjoy good conversation\, familiar faces\, and the discovery of new friendships over breakfast and coffee. There’s no agenda\, no dues\, and no pressure — just an open seat at the table and a welcoming group. \nEach week\, the group rotates between four local favorites: \n\nCity Seafood\nDulce’s\nHavAnna Café\nIsland Café\n\nThursdays at 8:30 AM
URL:https://visitevergladescity.com/event/ladies-coffee-at-havanna-cafe-3-2/2030-10-24/
LOCATION:HavAnnA Cafe\, 191 Smallwood Dr\, Chokoloskee\, FL\, 34138\, United States
CATEGORIES:Clubs
ATTACH;FMTTYPE=image/jpeg:https://visitevergladescity.com/wp-content/uploads/2023/12/Ladies-Coffee-1000x700-min.jpg
END:VEVENT
BEGIN:VEVENT
DTSTART;TZID=America/New_York:20301121T083000
DTEND;TZID=America/New_York:20301121T100000
DTSTAMP:20260421T090254
CREATED:20260203T103505Z
LAST-MODIFIED:20260203T103907Z
UID:10004535-1921480200-1921485600@visitevergladescity.com
SUMMARY:Ladies’ Coffee at HavAnnA Cafe
DESCRIPTION:Ladies Coffee is a laid-back weekly gathering for women who enjoy good conversation\, familiar faces\, and the discovery of new friendships over breakfast and coffee. There’s no agenda\, no dues\, and no pressure — just an open seat at the table and a welcoming group. \nEach week\, the group rotates between four local favorites: \n\nCity Seafood\nDulce’s\nHavAnna Café\nIsland Café\n\nThursdays at 8:30 AM
URL:https://visitevergladescity.com/event/ladies-coffee-at-havanna-cafe-3-2/2030-11-21/
LOCATION:HavAnnA Cafe\, 191 Smallwood Dr\, Chokoloskee\, FL\, 34138\, United States
CATEGORIES:Clubs
ATTACH;FMTTYPE=image/jpeg:https://visitevergladescity.com/wp-content/uploads/2023/12/Ladies-Coffee-1000x700-min.jpg
END:VEVENT
BEGIN:VEVENT
DTSTART;TZID=America/New_York:20301219T083000
DTEND;TZID=America/New_York:20301219T100000
DTSTAMP:20260421T090254
CREATED:20260203T103505Z
LAST-MODIFIED:20260203T103907Z
UID:10004536-1923899400-1923904800@visitevergladescity.com
SUMMARY:Ladies’ Coffee at HavAnnA Cafe
DESCRIPTION:Ladies Coffee is a laid-back weekly gathering for women who enjoy good conversation\, familiar faces\, and the discovery of new friendships over breakfast and coffee. There’s no agenda\, no dues\, and no pressure — just an open seat at the table and a welcoming group. \nEach week\, the group rotates between four local favorites: \n\nCity Seafood\nDulce’s\nHavAnna Café\nIsland Café\n\nThursdays at 8:30 AM
URL:https://visitevergladescity.com/event/ladies-coffee-at-havanna-cafe-3-2/2030-12-19/
LOCATION:HavAnnA Cafe\, 191 Smallwood Dr\, Chokoloskee\, FL\, 34138\, United States
CATEGORIES:Clubs
ATTACH;FMTTYPE=image/jpeg:https://visitevergladescity.com/wp-content/uploads/2023/12/Ladies-Coffee-1000x700-min.jpg
END:VEVENT
BEGIN:VEVENT
DTSTART;TZID=America/New_York:20310116T083000
DTEND;TZID=America/New_York:20310116T100000
DTSTAMP:20260421T090254
CREATED:20260203T103505Z
LAST-MODIFIED:20260203T103907Z
UID:10004537-1926318600-1926324000@visitevergladescity.com
SUMMARY:Ladies’ Coffee at HavAnnA Cafe
DESCRIPTION:Ladies Coffee is a laid-back weekly gathering for women who enjoy good conversation\, familiar faces\, and the discovery of new friendships over breakfast and coffee. There’s no agenda\, no dues\, and no pressure — just an open seat at the table and a welcoming group. \nEach week\, the group rotates between four local favorites: \n\nCity Seafood\nDulce’s\nHavAnna Café\nIsland Café\n\nThursdays at 8:30 AM
URL:https://visitevergladescity.com/event/ladies-coffee-at-havanna-cafe-3-2/2031-01-16/
LOCATION:HavAnnA Cafe\, 191 Smallwood Dr\, Chokoloskee\, FL\, 34138\, United States
CATEGORIES:Clubs
ATTACH;FMTTYPE=image/jpeg:https://visitevergladescity.com/wp-content/uploads/2023/12/Ladies-Coffee-1000x700-min.jpg
END:VEVENT
END:VCALENDAR