BEGIN:VCALENDAR
VERSION:2.0
PRODID:-//Visit Everglades City - ECPv6.15.20//NONSGML v1.0//EN
CALSCALE:GREGORIAN
METHOD:PUBLISH
X-ORIGINAL-URL:https://visitevergladescity.com
X-WR-CALDESC:Events for Visit Everglades City
REFRESH-INTERVAL;VALUE=DURATION:PT1H
X-Robots-Tag:noindex
X-PUBLISHED-TTL:PT1H
BEGIN:VTIMEZONE
TZID:America/New_York
BEGIN:DAYLIGHT
TZOFFSETFROM:-0500
TZOFFSETTO:-0400
TZNAME:EDT
DTSTART:20240310T070000
END:DAYLIGHT
BEGIN:STANDARD
TZOFFSETFROM:-0400
TZOFFSETTO:-0500
TZNAME:EST
DTSTART:20241103T060000
END:STANDARD
BEGIN:DAYLIGHT
TZOFFSETFROM:-0500
TZOFFSETTO:-0400
TZNAME:EDT
DTSTART:20250309T070000
END:DAYLIGHT
BEGIN:STANDARD
TZOFFSETFROM:-0400
TZOFFSETTO:-0500
TZNAME:EST
DTSTART:20251102T060000
END:STANDARD
BEGIN:DAYLIGHT
TZOFFSETFROM:-0500
TZOFFSETTO:-0400
TZNAME:EDT
DTSTART:20260308T070000
END:DAYLIGHT
BEGIN:STANDARD
TZOFFSETFROM:-0400
TZOFFSETTO:-0500
TZNAME:EST
DTSTART:20261101T060000
END:STANDARD
BEGIN:DAYLIGHT
TZOFFSETFROM:-0500
TZOFFSETTO:-0400
TZNAME:EDT
DTSTART:20270314T070000
END:DAYLIGHT
BEGIN:STANDARD
TZOFFSETFROM:-0400
TZOFFSETTO:-0500
TZNAME:EST
DTSTART:20271107T060000
END:STANDARD
END:VTIMEZONE
BEGIN:VEVENT
DTSTART;TZID=America/New_York:20260325T090000
DTEND;TZID=America/New_York:20260325T110000
DTSTAMP:20260420T205342
CREATED:20250210T143639Z
LAST-MODIFIED:20250213T153136Z
UID:10003607-1774429200-1774436400@visitevergladescity.com
SUMMARY:Holy Family Church Outreach Program
DESCRIPTION:Volunteers from SVDP San Marco Conference will have office hours from 9 to 11 am at the Holy Family Church to help those that need financial assistance on the 4th Wednesday of the month. \nPlease make your appointment for the interview in advance by calling (239) 259-4591 or (239) 259-4593. You can also request an appointment via email using the following email address: svdpsanmarco@gmail.com \nWhen contacting us\, please leave your name\, phone number\, and the kind of assistance you are requesting.  Those who have appointments will be contacted prior to the interview.
URL:https://visitevergladescity.com/event/holy-family-church-outreach-program/2026-03-25/
LOCATION:Holy Family Catholic Church\, 200 Datura St E\, Everglades City\, FL\, 34139\, United States
CATEGORIES:Community
ATTACH;FMTTYPE=image/webp:https://visitevergladescity.com/wp-content/uploads/2025/02/Society-of-St-Vincent-de-Paul-San-Marco-Logo.webp
END:VEVENT
BEGIN:VEVENT
DTSTART;TZID=America/New_York:20260225T090000
DTEND;TZID=America/New_York:20260225T110000
DTSTAMP:20260420T205342
CREATED:20250210T143639Z
LAST-MODIFIED:20250213T153136Z
UID:10003606-1772010000-1772017200@visitevergladescity.com
SUMMARY:Holy Family Church Outreach Program
DESCRIPTION:Volunteers from SVDP San Marco Conference will have office hours from 9 to 11 am at the Holy Family Church to help those that need financial assistance on the 4th Wednesday of the month. \nPlease make your appointment for the interview in advance by calling (239) 259-4591 or (239) 259-4593. You can also request an appointment via email using the following email address: svdpsanmarco@gmail.com \nWhen contacting us\, please leave your name\, phone number\, and the kind of assistance you are requesting.  Those who have appointments will be contacted prior to the interview.
URL:https://visitevergladescity.com/event/holy-family-church-outreach-program/2026-02-25/
LOCATION:Holy Family Catholic Church\, 200 Datura St E\, Everglades City\, FL\, 34139\, United States
CATEGORIES:Community
ATTACH;FMTTYPE=image/webp:https://visitevergladescity.com/wp-content/uploads/2025/02/Society-of-St-Vincent-de-Paul-San-Marco-Logo.webp
END:VEVENT
BEGIN:VEVENT
DTSTART;TZID=America/New_York:20260128T090000
DTEND;TZID=America/New_York:20260128T110000
DTSTAMP:20260420T205342
CREATED:20250210T143639Z
LAST-MODIFIED:20250213T153136Z
UID:10003605-1769590800-1769598000@visitevergladescity.com
SUMMARY:Holy Family Church Outreach Program
DESCRIPTION:Volunteers from SVDP San Marco Conference will have office hours from 9 to 11 am at the Holy Family Church to help those that need financial assistance on the 4th Wednesday of the month. \nPlease make your appointment for the interview in advance by calling (239) 259-4591 or (239) 259-4593. You can also request an appointment via email using the following email address: svdpsanmarco@gmail.com \nWhen contacting us\, please leave your name\, phone number\, and the kind of assistance you are requesting.  Those who have appointments will be contacted prior to the interview.
URL:https://visitevergladescity.com/event/holy-family-church-outreach-program/2026-01-28/
LOCATION:Holy Family Catholic Church\, 200 Datura St E\, Everglades City\, FL\, 34139\, United States
CATEGORIES:Community
ATTACH;FMTTYPE=image/webp:https://visitevergladescity.com/wp-content/uploads/2025/02/Society-of-St-Vincent-de-Paul-San-Marco-Logo.webp
END:VEVENT
BEGIN:VEVENT
DTSTART;TZID=America/New_York:20251224T090000
DTEND;TZID=America/New_York:20251224T110000
DTSTAMP:20260420T205342
CREATED:20250210T143639Z
LAST-MODIFIED:20250213T153136Z
UID:10003604-1766566800-1766574000@visitevergladescity.com
SUMMARY:Holy Family Church Outreach Program
DESCRIPTION:Volunteers from SVDP San Marco Conference will have office hours from 9 to 11 am at the Holy Family Church to help those that need financial assistance on the 4th Wednesday of the month. \nPlease make your appointment for the interview in advance by calling (239) 259-4591 or (239) 259-4593. You can also request an appointment via email using the following email address: svdpsanmarco@gmail.com \nWhen contacting us\, please leave your name\, phone number\, and the kind of assistance you are requesting.  Those who have appointments will be contacted prior to the interview.
URL:https://visitevergladescity.com/event/holy-family-church-outreach-program/2025-12-24/
LOCATION:Holy Family Catholic Church\, 200 Datura St E\, Everglades City\, FL\, 34139\, United States
CATEGORIES:Community
ATTACH;FMTTYPE=image/webp:https://visitevergladescity.com/wp-content/uploads/2025/02/Society-of-St-Vincent-de-Paul-San-Marco-Logo.webp
END:VEVENT
BEGIN:VEVENT
DTSTART;TZID=America/New_York:20251126T090000
DTEND;TZID=America/New_York:20251126T110000
DTSTAMP:20260420T205342
CREATED:20250210T143639Z
LAST-MODIFIED:20250213T153136Z
UID:10003603-1764147600-1764154800@visitevergladescity.com
SUMMARY:Holy Family Church Outreach Program
DESCRIPTION:Volunteers from SVDP San Marco Conference will have office hours from 9 to 11 am at the Holy Family Church to help those that need financial assistance on the 4th Wednesday of the month. \nPlease make your appointment for the interview in advance by calling (239) 259-4591 or (239) 259-4593. You can also request an appointment via email using the following email address: svdpsanmarco@gmail.com \nWhen contacting us\, please leave your name\, phone number\, and the kind of assistance you are requesting.  Those who have appointments will be contacted prior to the interview.
URL:https://visitevergladescity.com/event/holy-family-church-outreach-program/2025-11-26/
LOCATION:Holy Family Catholic Church\, 200 Datura St E\, Everglades City\, FL\, 34139\, United States
CATEGORIES:Community
ATTACH;FMTTYPE=image/webp:https://visitevergladescity.com/wp-content/uploads/2025/02/Society-of-St-Vincent-de-Paul-San-Marco-Logo.webp
END:VEVENT
BEGIN:VEVENT
DTSTART;TZID=America/New_York:20251022T090000
DTEND;TZID=America/New_York:20251022T110000
DTSTAMP:20260420T205342
CREATED:20250210T143639Z
LAST-MODIFIED:20250213T153136Z
UID:10003602-1761123600-1761130800@visitevergladescity.com
SUMMARY:Holy Family Church Outreach Program
DESCRIPTION:Volunteers from SVDP San Marco Conference will have office hours from 9 to 11 am at the Holy Family Church to help those that need financial assistance on the 4th Wednesday of the month. \nPlease make your appointment for the interview in advance by calling (239) 259-4591 or (239) 259-4593. You can also request an appointment via email using the following email address: svdpsanmarco@gmail.com \nWhen contacting us\, please leave your name\, phone number\, and the kind of assistance you are requesting.  Those who have appointments will be contacted prior to the interview.
URL:https://visitevergladescity.com/event/holy-family-church-outreach-program/2025-10-22/
LOCATION:Holy Family Catholic Church\, 200 Datura St E\, Everglades City\, FL\, 34139\, United States
CATEGORIES:Community
ATTACH;FMTTYPE=image/webp:https://visitevergladescity.com/wp-content/uploads/2025/02/Society-of-St-Vincent-de-Paul-San-Marco-Logo.webp
END:VEVENT
BEGIN:VEVENT
DTSTART;TZID=America/New_York:20250924T090000
DTEND;TZID=America/New_York:20250924T110000
DTSTAMP:20260420T205342
CREATED:20250210T143639Z
LAST-MODIFIED:20250213T153136Z
UID:10003601-1758704400-1758711600@visitevergladescity.com
SUMMARY:Holy Family Church Outreach Program
DESCRIPTION:Volunteers from SVDP San Marco Conference will have office hours from 9 to 11 am at the Holy Family Church to help those that need financial assistance on the 4th Wednesday of the month. \nPlease make your appointment for the interview in advance by calling (239) 259-4591 or (239) 259-4593. You can also request an appointment via email using the following email address: svdpsanmarco@gmail.com \nWhen contacting us\, please leave your name\, phone number\, and the kind of assistance you are requesting.  Those who have appointments will be contacted prior to the interview.
URL:https://visitevergladescity.com/event/holy-family-church-outreach-program/2025-09-24/
LOCATION:Holy Family Catholic Church\, 200 Datura St E\, Everglades City\, FL\, 34139\, United States
CATEGORIES:Community
ATTACH;FMTTYPE=image/webp:https://visitevergladescity.com/wp-content/uploads/2025/02/Society-of-St-Vincent-de-Paul-San-Marco-Logo.webp
END:VEVENT
BEGIN:VEVENT
DTSTART;TZID=America/New_York:20250827T090000
DTEND;TZID=America/New_York:20250827T110000
DTSTAMP:20260420T205342
CREATED:20250210T143639Z
LAST-MODIFIED:20250213T153136Z
UID:10003600-1756285200-1756292400@visitevergladescity.com
SUMMARY:Holy Family Church Outreach Program
DESCRIPTION:Volunteers from SVDP San Marco Conference will have office hours from 9 to 11 am at the Holy Family Church to help those that need financial assistance on the 4th Wednesday of the month. \nPlease make your appointment for the interview in advance by calling (239) 259-4591 or (239) 259-4593. You can also request an appointment via email using the following email address: svdpsanmarco@gmail.com \nWhen contacting us\, please leave your name\, phone number\, and the kind of assistance you are requesting.  Those who have appointments will be contacted prior to the interview.
URL:https://visitevergladescity.com/event/holy-family-church-outreach-program/2025-08-27/
LOCATION:Holy Family Catholic Church\, 200 Datura St E\, Everglades City\, FL\, 34139\, United States
CATEGORIES:Community
ATTACH;FMTTYPE=image/webp:https://visitevergladescity.com/wp-content/uploads/2025/02/Society-of-St-Vincent-de-Paul-San-Marco-Logo.webp
END:VEVENT
BEGIN:VEVENT
DTSTART;TZID=America/New_York:20250723T090000
DTEND;TZID=America/New_York:20250723T110000
DTSTAMP:20260420T205342
CREATED:20250210T143639Z
LAST-MODIFIED:20250213T153136Z
UID:10003599-1753261200-1753268400@visitevergladescity.com
SUMMARY:Holy Family Church Outreach Program
DESCRIPTION:Volunteers from SVDP San Marco Conference will have office hours from 9 to 11 am at the Holy Family Church to help those that need financial assistance on the 4th Wednesday of the month. \nPlease make your appointment for the interview in advance by calling (239) 259-4591 or (239) 259-4593. You can also request an appointment via email using the following email address: svdpsanmarco@gmail.com \nWhen contacting us\, please leave your name\, phone number\, and the kind of assistance you are requesting.  Those who have appointments will be contacted prior to the interview.
URL:https://visitevergladescity.com/event/holy-family-church-outreach-program/2025-07-23/
LOCATION:Holy Family Catholic Church\, 200 Datura St E\, Everglades City\, FL\, 34139\, United States
CATEGORIES:Community
ATTACH;FMTTYPE=image/webp:https://visitevergladescity.com/wp-content/uploads/2025/02/Society-of-St-Vincent-de-Paul-San-Marco-Logo.webp
END:VEVENT
BEGIN:VEVENT
DTSTART;TZID=America/New_York:20250625T090000
DTEND;TZID=America/New_York:20250625T110000
DTSTAMP:20260420T205342
CREATED:20250210T143639Z
LAST-MODIFIED:20250213T153136Z
UID:10003598-1750842000-1750849200@visitevergladescity.com
SUMMARY:Holy Family Church Outreach Program
DESCRIPTION:Volunteers from SVDP San Marco Conference will have office hours from 9 to 11 am at the Holy Family Church to help those that need financial assistance on the 4th Wednesday of the month. \nPlease make your appointment for the interview in advance by calling (239) 259-4591 or (239) 259-4593. You can also request an appointment via email using the following email address: svdpsanmarco@gmail.com \nWhen contacting us\, please leave your name\, phone number\, and the kind of assistance you are requesting.  Those who have appointments will be contacted prior to the interview.
URL:https://visitevergladescity.com/event/holy-family-church-outreach-program/2025-06-25/
LOCATION:Holy Family Catholic Church\, 200 Datura St E\, Everglades City\, FL\, 34139\, United States
CATEGORIES:Community
ATTACH;FMTTYPE=image/webp:https://visitevergladescity.com/wp-content/uploads/2025/02/Society-of-St-Vincent-de-Paul-San-Marco-Logo.webp
END:VEVENT
BEGIN:VEVENT
DTSTART;TZID=America/New_York:20250528T090000
DTEND;TZID=America/New_York:20250528T110000
DTSTAMP:20260420T205342
CREATED:20250210T143639Z
LAST-MODIFIED:20250213T153136Z
UID:10003597-1748422800-1748430000@visitevergladescity.com
SUMMARY:Holy Family Church Outreach Program
DESCRIPTION:Volunteers from SVDP San Marco Conference will have office hours from 9 to 11 am at the Holy Family Church to help those that need financial assistance on the 4th Wednesday of the month. \nPlease make your appointment for the interview in advance by calling (239) 259-4591 or (239) 259-4593. You can also request an appointment via email using the following email address: svdpsanmarco@gmail.com \nWhen contacting us\, please leave your name\, phone number\, and the kind of assistance you are requesting.  Those who have appointments will be contacted prior to the interview.
URL:https://visitevergladescity.com/event/holy-family-church-outreach-program/2025-05-28/
LOCATION:Holy Family Catholic Church\, 200 Datura St E\, Everglades City\, FL\, 34139\, United States
CATEGORIES:Community
ATTACH;FMTTYPE=image/webp:https://visitevergladescity.com/wp-content/uploads/2025/02/Society-of-St-Vincent-de-Paul-San-Marco-Logo.webp
END:VEVENT
BEGIN:VEVENT
DTSTART;TZID=America/New_York:20250423T090000
DTEND;TZID=America/New_York:20250423T110000
DTSTAMP:20260420T205342
CREATED:20250210T143639Z
LAST-MODIFIED:20250213T153136Z
UID:10003596-1745398800-1745406000@visitevergladescity.com
SUMMARY:Holy Family Church Outreach Program
DESCRIPTION:Volunteers from SVDP San Marco Conference will have office hours from 9 to 11 am at the Holy Family Church to help those that need financial assistance on the 4th Wednesday of the month. \nPlease make your appointment for the interview in advance by calling (239) 259-4591 or (239) 259-4593. You can also request an appointment via email using the following email address: svdpsanmarco@gmail.com \nWhen contacting us\, please leave your name\, phone number\, and the kind of assistance you are requesting.  Those who have appointments will be contacted prior to the interview.
URL:https://visitevergladescity.com/event/holy-family-church-outreach-program/2025-04-23/
LOCATION:Holy Family Catholic Church\, 200 Datura St E\, Everglades City\, FL\, 34139\, United States
CATEGORIES:Community
ATTACH;FMTTYPE=image/webp:https://visitevergladescity.com/wp-content/uploads/2025/02/Society-of-St-Vincent-de-Paul-San-Marco-Logo.webp
END:VEVENT
BEGIN:VEVENT
DTSTART;TZID=America/New_York:20250326T090000
DTEND;TZID=America/New_York:20250326T110000
DTSTAMP:20260420T205342
CREATED:20250210T143639Z
LAST-MODIFIED:20250213T153136Z
UID:10003595-1742979600-1742986800@visitevergladescity.com
SUMMARY:Holy Family Church Outreach Program
DESCRIPTION:Volunteers from SVDP San Marco Conference will have office hours from 9 to 11 am at the Holy Family Church to help those that need financial assistance on the 4th Wednesday of the month. \nPlease make your appointment for the interview in advance by calling (239) 259-4591 or (239) 259-4593. You can also request an appointment via email using the following email address: svdpsanmarco@gmail.com \nWhen contacting us\, please leave your name\, phone number\, and the kind of assistance you are requesting.  Those who have appointments will be contacted prior to the interview.
URL:https://visitevergladescity.com/event/holy-family-church-outreach-program/2025-03-26/
LOCATION:Holy Family Catholic Church\, 200 Datura St E\, Everglades City\, FL\, 34139\, United States
CATEGORIES:Community
ATTACH;FMTTYPE=image/webp:https://visitevergladescity.com/wp-content/uploads/2025/02/Society-of-St-Vincent-de-Paul-San-Marco-Logo.webp
END:VEVENT
BEGIN:VEVENT
DTSTART;TZID=America/New_York:20250226T090000
DTEND;TZID=America/New_York:20250226T110000
DTSTAMP:20260420T205342
CREATED:20250210T143639Z
LAST-MODIFIED:20250213T153136Z
UID:10003594-1740560400-1740567600@visitevergladescity.com
SUMMARY:Holy Family Church Outreach Program
DESCRIPTION:Volunteers from SVDP San Marco Conference will have office hours from 9 to 11 am at the Holy Family Church to help those that need financial assistance on the 4th Wednesday of the month. \nPlease make your appointment for the interview in advance by calling (239) 259-4591 or (239) 259-4593. You can also request an appointment via email using the following email address: svdpsanmarco@gmail.com \nWhen contacting us\, please leave your name\, phone number\, and the kind of assistance you are requesting.  Those who have appointments will be contacted prior to the interview.
URL:https://visitevergladescity.com/event/holy-family-church-outreach-program/2025-02-26/
LOCATION:Holy Family Catholic Church\, 200 Datura St E\, Everglades City\, FL\, 34139\, United States
CATEGORIES:Community
ATTACH;FMTTYPE=image/webp:https://visitevergladescity.com/wp-content/uploads/2025/02/Society-of-St-Vincent-de-Paul-San-Marco-Logo.webp
END:VEVENT
END:VCALENDAR