BEGIN:VCALENDAR
VERSION:2.0
PRODID:-//Visit Everglades City - ECPv6.15.20//NONSGML v1.0//EN
CALSCALE:GREGORIAN
METHOD:PUBLISH
X-ORIGINAL-URL:https://visitevergladescity.com
X-WR-CALDESC:Events for Visit Everglades City
REFRESH-INTERVAL;VALUE=DURATION:PT1H
X-Robots-Tag:noindex
X-PUBLISHED-TTL:PT1H
BEGIN:VTIMEZONE
TZID:America/New_York
BEGIN:DAYLIGHT
TZOFFSETFROM:-0500
TZOFFSETTO:-0400
TZNAME:EDT
DTSTART:20280312T070000
END:DAYLIGHT
BEGIN:STANDARD
TZOFFSETFROM:-0400
TZOFFSETTO:-0500
TZNAME:EST
DTSTART:20281105T060000
END:STANDARD
BEGIN:DAYLIGHT
TZOFFSETFROM:-0500
TZOFFSETTO:-0400
TZNAME:EDT
DTSTART:20290311T070000
END:DAYLIGHT
BEGIN:STANDARD
TZOFFSETFROM:-0400
TZOFFSETTO:-0500
TZNAME:EST
DTSTART:20291104T060000
END:STANDARD
BEGIN:DAYLIGHT
TZOFFSETFROM:-0500
TZOFFSETTO:-0400
TZNAME:EDT
DTSTART:20300310T070000
END:DAYLIGHT
BEGIN:STANDARD
TZOFFSETFROM:-0400
TZOFFSETTO:-0500
TZNAME:EST
DTSTART:20301103T060000
END:STANDARD
BEGIN:DAYLIGHT
TZOFFSETFROM:-0500
TZOFFSETTO:-0400
TZNAME:EDT
DTSTART:20310309T070000
END:DAYLIGHT
BEGIN:STANDARD
TZOFFSETFROM:-0400
TZOFFSETTO:-0500
TZNAME:EST
DTSTART:20311102T060000
END:STANDARD
BEGIN:DAYLIGHT
TZOFFSETFROM:-0500
TZOFFSETTO:-0400
TZNAME:EDT
DTSTART:20320314T070000
END:DAYLIGHT
BEGIN:STANDARD
TZOFFSETFROM:-0400
TZOFFSETTO:-0500
TZNAME:EST
DTSTART:20321107T060000
END:STANDARD
END:VTIMEZONE
BEGIN:VEVENT
DTSTART;TZID=America/New_York:20291227T083000
DTEND;TZID=America/New_York:20291227T100000
DTSTAMP:20260422T140914
CREATED:20260203T103726Z
LAST-MODIFIED:20260203T103751Z
UID:10004459-1893054600-1893060000@visitevergladescity.com
SUMMARY:Ladies’ Coffee at Island Cafe
DESCRIPTION:Ladies Coffee is a laid-back weekly gathering for women who enjoy good conversation\, familiar faces\, and the discovery of new friendships over breakfast and coffee. There’s no agenda\, no dues\, and no pressure — just an open seat at the table and a welcoming group. \nEach week\, the group rotates between four local favorites: \n\nCity Seafood\nDulce’s\nHavAnna Café\nIsland Café\n\nThursdays at 8:30 AM
URL:https://visitevergladescity.com/event/ladies-coffee-at-island-cafe-2-2/2029-12-27/
LOCATION:Island Cafe\, 305 Collier Ave\, Everglades City\, FL\, 34139\, United States
CATEGORIES:Clubs
ATTACH;FMTTYPE=image/jpeg:https://visitevergladescity.com/wp-content/uploads/2023/12/Ladies-Coffee-1000x700-min.jpg
END:VEVENT
BEGIN:VEVENT
DTSTART;TZID=America/New_York:20300124T083000
DTEND;TZID=America/New_York:20300124T100000
DTSTAMP:20260422T140914
CREATED:20260203T103726Z
LAST-MODIFIED:20260203T103751Z
UID:10004460-1895473800-1895479200@visitevergladescity.com
SUMMARY:Ladies’ Coffee at Island Cafe
DESCRIPTION:Ladies Coffee is a laid-back weekly gathering for women who enjoy good conversation\, familiar faces\, and the discovery of new friendships over breakfast and coffee. There’s no agenda\, no dues\, and no pressure — just an open seat at the table and a welcoming group. \nEach week\, the group rotates between four local favorites: \n\nCity Seafood\nDulce’s\nHavAnna Café\nIsland Café\n\nThursdays at 8:30 AM
URL:https://visitevergladescity.com/event/ladies-coffee-at-island-cafe-2-2/2030-01-24/
LOCATION:Island Cafe\, 305 Collier Ave\, Everglades City\, FL\, 34139\, United States
CATEGORIES:Clubs
ATTACH;FMTTYPE=image/jpeg:https://visitevergladescity.com/wp-content/uploads/2023/12/Ladies-Coffee-1000x700-min.jpg
END:VEVENT
BEGIN:VEVENT
DTSTART;TZID=America/New_York:20300221T083000
DTEND;TZID=America/New_York:20300221T100000
DTSTAMP:20260422T140914
CREATED:20260203T103726Z
LAST-MODIFIED:20260203T103751Z
UID:10004461-1897893000-1897898400@visitevergladescity.com
SUMMARY:Ladies’ Coffee at Island Cafe
DESCRIPTION:Ladies Coffee is a laid-back weekly gathering for women who enjoy good conversation\, familiar faces\, and the discovery of new friendships over breakfast and coffee. There’s no agenda\, no dues\, and no pressure — just an open seat at the table and a welcoming group. \nEach week\, the group rotates between four local favorites: \n\nCity Seafood\nDulce’s\nHavAnna Café\nIsland Café\n\nThursdays at 8:30 AM
URL:https://visitevergladescity.com/event/ladies-coffee-at-island-cafe-2-2/2030-02-21/
LOCATION:Island Cafe\, 305 Collier Ave\, Everglades City\, FL\, 34139\, United States
CATEGORIES:Clubs
ATTACH;FMTTYPE=image/jpeg:https://visitevergladescity.com/wp-content/uploads/2023/12/Ladies-Coffee-1000x700-min.jpg
END:VEVENT
BEGIN:VEVENT
DTSTART;TZID=America/New_York:20300321T083000
DTEND;TZID=America/New_York:20300321T100000
DTSTAMP:20260422T140914
CREATED:20260203T103726Z
LAST-MODIFIED:20260203T103751Z
UID:10004462-1900312200-1900317600@visitevergladescity.com
SUMMARY:Ladies’ Coffee at Island Cafe
DESCRIPTION:Ladies Coffee is a laid-back weekly gathering for women who enjoy good conversation\, familiar faces\, and the discovery of new friendships over breakfast and coffee. There’s no agenda\, no dues\, and no pressure — just an open seat at the table and a welcoming group. \nEach week\, the group rotates between four local favorites: \n\nCity Seafood\nDulce’s\nHavAnna Café\nIsland Café\n\nThursdays at 8:30 AM
URL:https://visitevergladescity.com/event/ladies-coffee-at-island-cafe-2-2/2030-03-21/
LOCATION:Island Cafe\, 305 Collier Ave\, Everglades City\, FL\, 34139\, United States
CATEGORIES:Clubs
ATTACH;FMTTYPE=image/jpeg:https://visitevergladescity.com/wp-content/uploads/2023/12/Ladies-Coffee-1000x700-min.jpg
END:VEVENT
BEGIN:VEVENT
DTSTART;TZID=America/New_York:20300418T083000
DTEND;TZID=America/New_York:20300418T100000
DTSTAMP:20260422T140914
CREATED:20260203T103726Z
LAST-MODIFIED:20260203T103751Z
UID:10004463-1902731400-1902736800@visitevergladescity.com
SUMMARY:Ladies’ Coffee at Island Cafe
DESCRIPTION:Ladies Coffee is a laid-back weekly gathering for women who enjoy good conversation\, familiar faces\, and the discovery of new friendships over breakfast and coffee. There’s no agenda\, no dues\, and no pressure — just an open seat at the table and a welcoming group. \nEach week\, the group rotates between four local favorites: \n\nCity Seafood\nDulce’s\nHavAnna Café\nIsland Café\n\nThursdays at 8:30 AM
URL:https://visitevergladescity.com/event/ladies-coffee-at-island-cafe-2-2/2030-04-18/
LOCATION:Island Cafe\, 305 Collier Ave\, Everglades City\, FL\, 34139\, United States
CATEGORIES:Clubs
ATTACH;FMTTYPE=image/jpeg:https://visitevergladescity.com/wp-content/uploads/2023/12/Ladies-Coffee-1000x700-min.jpg
END:VEVENT
BEGIN:VEVENT
DTSTART;TZID=America/New_York:20300516T083000
DTEND;TZID=America/New_York:20300516T100000
DTSTAMP:20260422T140914
CREATED:20260203T103726Z
LAST-MODIFIED:20260203T103751Z
UID:10004464-1905150600-1905156000@visitevergladescity.com
SUMMARY:Ladies’ Coffee at Island Cafe
DESCRIPTION:Ladies Coffee is a laid-back weekly gathering for women who enjoy good conversation\, familiar faces\, and the discovery of new friendships over breakfast and coffee. There’s no agenda\, no dues\, and no pressure — just an open seat at the table and a welcoming group. \nEach week\, the group rotates between four local favorites: \n\nCity Seafood\nDulce’s\nHavAnna Café\nIsland Café\n\nThursdays at 8:30 AM
URL:https://visitevergladescity.com/event/ladies-coffee-at-island-cafe-2-2/2030-05-16/
LOCATION:Island Cafe\, 305 Collier Ave\, Everglades City\, FL\, 34139\, United States
CATEGORIES:Clubs
ATTACH;FMTTYPE=image/jpeg:https://visitevergladescity.com/wp-content/uploads/2023/12/Ladies-Coffee-1000x700-min.jpg
END:VEVENT
BEGIN:VEVENT
DTSTART;TZID=America/New_York:20300613T083000
DTEND;TZID=America/New_York:20300613T100000
DTSTAMP:20260422T140914
CREATED:20260203T103726Z
LAST-MODIFIED:20260203T103751Z
UID:10004465-1907569800-1907575200@visitevergladescity.com
SUMMARY:Ladies’ Coffee at Island Cafe
DESCRIPTION:Ladies Coffee is a laid-back weekly gathering for women who enjoy good conversation\, familiar faces\, and the discovery of new friendships over breakfast and coffee. There’s no agenda\, no dues\, and no pressure — just an open seat at the table and a welcoming group. \nEach week\, the group rotates between four local favorites: \n\nCity Seafood\nDulce’s\nHavAnna Café\nIsland Café\n\nThursdays at 8:30 AM
URL:https://visitevergladescity.com/event/ladies-coffee-at-island-cafe-2-2/2030-06-13/
LOCATION:Island Cafe\, 305 Collier Ave\, Everglades City\, FL\, 34139\, United States
CATEGORIES:Clubs
ATTACH;FMTTYPE=image/jpeg:https://visitevergladescity.com/wp-content/uploads/2023/12/Ladies-Coffee-1000x700-min.jpg
END:VEVENT
BEGIN:VEVENT
DTSTART;TZID=America/New_York:20300711T083000
DTEND;TZID=America/New_York:20300711T100000
DTSTAMP:20260422T140914
CREATED:20260203T103726Z
LAST-MODIFIED:20260203T103751Z
UID:10004466-1909989000-1909994400@visitevergladescity.com
SUMMARY:Ladies’ Coffee at Island Cafe
DESCRIPTION:Ladies Coffee is a laid-back weekly gathering for women who enjoy good conversation\, familiar faces\, and the discovery of new friendships over breakfast and coffee. There’s no agenda\, no dues\, and no pressure — just an open seat at the table and a welcoming group. \nEach week\, the group rotates between four local favorites: \n\nCity Seafood\nDulce’s\nHavAnna Café\nIsland Café\n\nThursdays at 8:30 AM
URL:https://visitevergladescity.com/event/ladies-coffee-at-island-cafe-2-2/2030-07-11/
LOCATION:Island Cafe\, 305 Collier Ave\, Everglades City\, FL\, 34139\, United States
CATEGORIES:Clubs
ATTACH;FMTTYPE=image/jpeg:https://visitevergladescity.com/wp-content/uploads/2023/12/Ladies-Coffee-1000x700-min.jpg
END:VEVENT
BEGIN:VEVENT
DTSTART;TZID=America/New_York:20300808T083000
DTEND;TZID=America/New_York:20300808T100000
DTSTAMP:20260422T140914
CREATED:20260203T103726Z
LAST-MODIFIED:20260203T103751Z
UID:10004467-1912408200-1912413600@visitevergladescity.com
SUMMARY:Ladies’ Coffee at Island Cafe
DESCRIPTION:Ladies Coffee is a laid-back weekly gathering for women who enjoy good conversation\, familiar faces\, and the discovery of new friendships over breakfast and coffee. There’s no agenda\, no dues\, and no pressure — just an open seat at the table and a welcoming group. \nEach week\, the group rotates between four local favorites: \n\nCity Seafood\nDulce’s\nHavAnna Café\nIsland Café\n\nThursdays at 8:30 AM
URL:https://visitevergladescity.com/event/ladies-coffee-at-island-cafe-2-2/2030-08-08/
LOCATION:Island Cafe\, 305 Collier Ave\, Everglades City\, FL\, 34139\, United States
CATEGORIES:Clubs
ATTACH;FMTTYPE=image/jpeg:https://visitevergladescity.com/wp-content/uploads/2023/12/Ladies-Coffee-1000x700-min.jpg
END:VEVENT
BEGIN:VEVENT
DTSTART;TZID=America/New_York:20300905T083000
DTEND;TZID=America/New_York:20300905T100000
DTSTAMP:20260422T140914
CREATED:20260203T103726Z
LAST-MODIFIED:20260203T103751Z
UID:10004468-1914827400-1914832800@visitevergladescity.com
SUMMARY:Ladies’ Coffee at Island Cafe
DESCRIPTION:Ladies Coffee is a laid-back weekly gathering for women who enjoy good conversation\, familiar faces\, and the discovery of new friendships over breakfast and coffee. There’s no agenda\, no dues\, and no pressure — just an open seat at the table and a welcoming group. \nEach week\, the group rotates between four local favorites: \n\nCity Seafood\nDulce’s\nHavAnna Café\nIsland Café\n\nThursdays at 8:30 AM
URL:https://visitevergladescity.com/event/ladies-coffee-at-island-cafe-2-2/2030-09-05/
LOCATION:Island Cafe\, 305 Collier Ave\, Everglades City\, FL\, 34139\, United States
CATEGORIES:Clubs
ATTACH;FMTTYPE=image/jpeg:https://visitevergladescity.com/wp-content/uploads/2023/12/Ladies-Coffee-1000x700-min.jpg
END:VEVENT
BEGIN:VEVENT
DTSTART;TZID=America/New_York:20301003T083000
DTEND;TZID=America/New_York:20301003T100000
DTSTAMP:20260422T140914
CREATED:20260203T103726Z
LAST-MODIFIED:20260203T103751Z
UID:10004469-1917246600-1917252000@visitevergladescity.com
SUMMARY:Ladies’ Coffee at Island Cafe
DESCRIPTION:Ladies Coffee is a laid-back weekly gathering for women who enjoy good conversation\, familiar faces\, and the discovery of new friendships over breakfast and coffee. There’s no agenda\, no dues\, and no pressure — just an open seat at the table and a welcoming group. \nEach week\, the group rotates between four local favorites: \n\nCity Seafood\nDulce’s\nHavAnna Café\nIsland Café\n\nThursdays at 8:30 AM
URL:https://visitevergladescity.com/event/ladies-coffee-at-island-cafe-2-2/2030-10-03/
LOCATION:Island Cafe\, 305 Collier Ave\, Everglades City\, FL\, 34139\, United States
CATEGORIES:Clubs
ATTACH;FMTTYPE=image/jpeg:https://visitevergladescity.com/wp-content/uploads/2023/12/Ladies-Coffee-1000x700-min.jpg
END:VEVENT
BEGIN:VEVENT
DTSTART;TZID=America/New_York:20301031T083000
DTEND;TZID=America/New_York:20301031T100000
DTSTAMP:20260422T140914
CREATED:20260203T103726Z
LAST-MODIFIED:20260203T103751Z
UID:10004470-1919665800-1919671200@visitevergladescity.com
SUMMARY:Ladies’ Coffee at Island Cafe
DESCRIPTION:Ladies Coffee is a laid-back weekly gathering for women who enjoy good conversation\, familiar faces\, and the discovery of new friendships over breakfast and coffee. There’s no agenda\, no dues\, and no pressure — just an open seat at the table and a welcoming group. \nEach week\, the group rotates between four local favorites: \n\nCity Seafood\nDulce’s\nHavAnna Café\nIsland Café\n\nThursdays at 8:30 AM
URL:https://visitevergladescity.com/event/ladies-coffee-at-island-cafe-2-2/2030-10-31/
LOCATION:Island Cafe\, 305 Collier Ave\, Everglades City\, FL\, 34139\, United States
CATEGORIES:Clubs
ATTACH;FMTTYPE=image/jpeg:https://visitevergladescity.com/wp-content/uploads/2023/12/Ladies-Coffee-1000x700-min.jpg
END:VEVENT
BEGIN:VEVENT
DTSTART;TZID=America/New_York:20301128T083000
DTEND;TZID=America/New_York:20301128T100000
DTSTAMP:20260422T140914
CREATED:20260203T103726Z
LAST-MODIFIED:20260203T103751Z
UID:10004471-1922085000-1922090400@visitevergladescity.com
SUMMARY:Ladies’ Coffee at Island Cafe
DESCRIPTION:Ladies Coffee is a laid-back weekly gathering for women who enjoy good conversation\, familiar faces\, and the discovery of new friendships over breakfast and coffee. There’s no agenda\, no dues\, and no pressure — just an open seat at the table and a welcoming group. \nEach week\, the group rotates between four local favorites: \n\nCity Seafood\nDulce’s\nHavAnna Café\nIsland Café\n\nThursdays at 8:30 AM
URL:https://visitevergladescity.com/event/ladies-coffee-at-island-cafe-2-2/2030-11-28/
LOCATION:Island Cafe\, 305 Collier Ave\, Everglades City\, FL\, 34139\, United States
CATEGORIES:Clubs
ATTACH;FMTTYPE=image/jpeg:https://visitevergladescity.com/wp-content/uploads/2023/12/Ladies-Coffee-1000x700-min.jpg
END:VEVENT
BEGIN:VEVENT
DTSTART;TZID=America/New_York:20301226T083000
DTEND;TZID=America/New_York:20301226T100000
DTSTAMP:20260422T140914
CREATED:20260203T103726Z
LAST-MODIFIED:20260203T103751Z
UID:10004472-1924504200-1924509600@visitevergladescity.com
SUMMARY:Ladies’ Coffee at Island Cafe
DESCRIPTION:Ladies Coffee is a laid-back weekly gathering for women who enjoy good conversation\, familiar faces\, and the discovery of new friendships over breakfast and coffee. There’s no agenda\, no dues\, and no pressure — just an open seat at the table and a welcoming group. \nEach week\, the group rotates between four local favorites: \n\nCity Seafood\nDulce’s\nHavAnna Café\nIsland Café\n\nThursdays at 8:30 AM
URL:https://visitevergladescity.com/event/ladies-coffee-at-island-cafe-2-2/2030-12-26/
LOCATION:Island Cafe\, 305 Collier Ave\, Everglades City\, FL\, 34139\, United States
CATEGORIES:Clubs
ATTACH;FMTTYPE=image/jpeg:https://visitevergladescity.com/wp-content/uploads/2023/12/Ladies-Coffee-1000x700-min.jpg
END:VEVENT
BEGIN:VEVENT
DTSTART;TZID=America/New_York:20310123T083000
DTEND;TZID=America/New_York:20310123T100000
DTSTAMP:20260422T140914
CREATED:20260203T103726Z
LAST-MODIFIED:20260203T103751Z
UID:10004473-1926923400-1926928800@visitevergladescity.com
SUMMARY:Ladies’ Coffee at Island Cafe
DESCRIPTION:Ladies Coffee is a laid-back weekly gathering for women who enjoy good conversation\, familiar faces\, and the discovery of new friendships over breakfast and coffee. There’s no agenda\, no dues\, and no pressure — just an open seat at the table and a welcoming group. \nEach week\, the group rotates between four local favorites: \n\nCity Seafood\nDulce’s\nHavAnna Café\nIsland Café\n\nThursdays at 8:30 AM
URL:https://visitevergladescity.com/event/ladies-coffee-at-island-cafe-2-2/2031-01-23/
LOCATION:Island Cafe\, 305 Collier Ave\, Everglades City\, FL\, 34139\, United States
CATEGORIES:Clubs
ATTACH;FMTTYPE=image/jpeg:https://visitevergladescity.com/wp-content/uploads/2023/12/Ladies-Coffee-1000x700-min.jpg
END:VEVENT
END:VCALENDAR