BEGIN:VCALENDAR
VERSION:2.0
PRODID:-//Visit Everglades City - ECPv6.15.20//NONSGML v1.0//EN
CALSCALE:GREGORIAN
METHOD:PUBLISH
X-WR-CALNAME:Visit Everglades City
X-ORIGINAL-URL:https://visitevergladescity.com
X-WR-CALDESC:Events for Visit Everglades City
REFRESH-INTERVAL;VALUE=DURATION:PT1H
X-Robots-Tag:noindex
X-PUBLISHED-TTL:PT1H
BEGIN:VTIMEZONE
TZID:America/New_York
BEGIN:DAYLIGHT
TZOFFSETFROM:-0500
TZOFFSETTO:-0400
TZNAME:EDT
DTSTART:20220313T070000
END:DAYLIGHT
BEGIN:STANDARD
TZOFFSETFROM:-0400
TZOFFSETTO:-0500
TZNAME:EST
DTSTART:20221106T060000
END:STANDARD
BEGIN:DAYLIGHT
TZOFFSETFROM:-0500
TZOFFSETTO:-0400
TZNAME:EDT
DTSTART:20230312T070000
END:DAYLIGHT
BEGIN:STANDARD
TZOFFSETFROM:-0400
TZOFFSETTO:-0500
TZNAME:EST
DTSTART:20231105T060000
END:STANDARD
BEGIN:DAYLIGHT
TZOFFSETFROM:-0500
TZOFFSETTO:-0400
TZNAME:EDT
DTSTART:20240310T070000
END:DAYLIGHT
BEGIN:STANDARD
TZOFFSETFROM:-0400
TZOFFSETTO:-0500
TZNAME:EST
DTSTART:20241103T060000
END:STANDARD
BEGIN:DAYLIGHT
TZOFFSETFROM:-0500
TZOFFSETTO:-0400
TZNAME:EDT
DTSTART:20250309T070000
END:DAYLIGHT
BEGIN:STANDARD
TZOFFSETFROM:-0400
TZOFFSETTO:-0500
TZNAME:EST
DTSTART:20251102T060000
END:STANDARD
END:VTIMEZONE
BEGIN:VEVENT
DTSTART;TZID=America/New_York:20241221T120000
DTEND;TZID=America/New_York:20241221T140000
DTSTAMP:20260420T090517
CREATED:20241119T171223Z
LAST-MODIFIED:20241119T171223Z
UID:10002913-1734782400-1734789600@visitevergladescity.com
SUMMARY:Meet Santa and Mrs. Claus
DESCRIPTION:Come meet Santa and Mrs. Claus! Bring the kids and your whole family for a festive photo op\, and get a head start on your last-minute Christmas shopping in our gift shop. Join us on December 21st from noon to 2 pm at Skunk Ape Research Headquarters. This is a free event\, and we’ll be serving delicious hot cocoa and pics with Santa!
URL:https://visitevergladescity.com/event/meet-santa-and-mrs-claus/
LOCATION:Skunkape Headquarters\, 40904 Tamiami Trail E\, Ochopee\, FL\, 34141\, United States
CATEGORIES:Culture
END:VEVENT
BEGIN:VEVENT
DTSTART;TZID=America/New_York:20231223T120000
DTEND;TZID=America/New_York:20231223T140000
DTSTAMP:20260420T090517
CREATED:20231208T152404Z
LAST-MODIFIED:20231208T153939Z
UID:10001130-1703332800-1703340000@visitevergladescity.com
SUMMARY:Santa & Mrs. Claus at Skunkape
DESCRIPTION:Santa Claus is coming to town!  Come get your family photos taken with Santa & Mrs. Claus on Saturday December 23rd from 12 pm to 2 pm.  Our shop is fully stocked with great last-minute holiday gifts and Christmas cheer!  Free-admission to the Reptile Exhibit for the day !
URL:https://visitevergladescity.com/event/santa-mrs-claus-at-skunkape/
LOCATION:Skunkape Headquarters\, 40904 Tamiami Trail E\, Ochopee\, FL\, 34141\, United States
CATEGORIES:Culture
ATTACH;FMTTYPE=image/jpeg:https://visitevergladescity.com/wp-content/uploads/2023/12/jpgSANTA-POSTER-FINALcolor-min.jpeg
END:VEVENT
END:VCALENDAR