BEGIN:VCALENDAR
VERSION:2.0
PRODID:-//Visit Everglades City - ECPv6.15.20//NONSGML v1.0//EN
CALSCALE:GREGORIAN
METHOD:PUBLISH
X-ORIGINAL-URL:https://visitevergladescity.com
X-WR-CALDESC:Events for Visit Everglades City
REFRESH-INTERVAL;VALUE=DURATION:PT1H
X-Robots-Tag:noindex
X-PUBLISHED-TTL:PT1H
BEGIN:VTIMEZONE
TZID:America/New_York
BEGIN:DAYLIGHT
TZOFFSETFROM:-0500
TZOFFSETTO:-0400
TZNAME:EDT
DTSTART:20230312T070000
END:DAYLIGHT
BEGIN:STANDARD
TZOFFSETFROM:-0400
TZOFFSETTO:-0500
TZNAME:EST
DTSTART:20231105T060000
END:STANDARD
BEGIN:DAYLIGHT
TZOFFSETFROM:-0500
TZOFFSETTO:-0400
TZNAME:EDT
DTSTART:20240310T070000
END:DAYLIGHT
BEGIN:STANDARD
TZOFFSETFROM:-0400
TZOFFSETTO:-0500
TZNAME:EST
DTSTART:20241103T060000
END:STANDARD
BEGIN:DAYLIGHT
TZOFFSETFROM:-0500
TZOFFSETTO:-0400
TZNAME:EDT
DTSTART:20250309T070000
END:DAYLIGHT
BEGIN:STANDARD
TZOFFSETFROM:-0400
TZOFFSETTO:-0500
TZNAME:EST
DTSTART:20251102T060000
END:STANDARD
BEGIN:DAYLIGHT
TZOFFSETFROM:-0500
TZOFFSETTO:-0400
TZNAME:EDT
DTSTART:20260308T070000
END:DAYLIGHT
BEGIN:STANDARD
TZOFFSETFROM:-0400
TZOFFSETTO:-0500
TZNAME:EST
DTSTART:20261101T060000
END:STANDARD
BEGIN:DAYLIGHT
TZOFFSETFROM:-0500
TZOFFSETTO:-0400
TZNAME:EDT
DTSTART:20270314T070000
END:DAYLIGHT
BEGIN:STANDARD
TZOFFSETFROM:-0400
TZOFFSETTO:-0500
TZNAME:EST
DTSTART:20271107T060000
END:STANDARD
END:VTIMEZONE
BEGIN:VEVENT
DTSTART;TZID=America/New_York:20260123T110000
DTEND;TZID=America/New_York:20260124T190000
DTSTAMP:20260423T050340
CREATED:20260114T013704Z
LAST-MODIFIED:20260114T013840Z
UID:10003985-1769166000-1769281200@visitevergladescity.com
SUMMARY:Smallwood Store 100th Centennial Celebration
DESCRIPTION:Celebrate 100 years of history at the iconic Smallwood Store during a two-day centennial event on Friday and Saturday\, January 23–24\, 2026\, beginning at 11 a.m. each day. \nThe celebration will feature live music\, Native American arts and crafts\, food vendors including Caloosa Catering\, boat tours\, and family-friendly activities throughout the weekend. Friday and Saturday will each offer a full lineup of entertainment\, with bands\, raffles\, and special programming tied to the store’s century-long role in the Everglades. \nThe Everglades Society for Historic Preservation (ESHP) will have a table onsite\, sharing information and celebrating the area’s rich history alongside the community. \nAdmission is $15. This milestone event offers a rare opportunity to experience local culture\, music\, and Everglades history in one of the region’s most historic settings.
URL:https://visitevergladescity.com/event/smallwood-store-100th-centennial-celebration/
LOCATION:Smallwood Store\, 360 Mamie St\, Chokoloskee\, FL\, 34138\, United States
CATEGORIES:Community,Culture
ATTACH;FMTTYPE=image/png:https://visitevergladescity.com/wp-content/uploads/2026/01/Centennial-Celebration-2026.png
END:VEVENT
BEGIN:VEVENT
DTSTART;TZID=America/New_York:20250111T110000
DTEND;TZID=America/New_York:20250111T170000
DTSTAMP:20260423T050340
CREATED:20241119T184226Z
LAST-MODIFIED:20250106T200717Z
UID:10002979-1736593200-1736614800@visitevergladescity.com
SUMMARY:White Pelican Festival
DESCRIPTION:Join us to welcome these gigantic snowy birds as they spend their winter in our backyard. Our special guests will be members of the Seminole Tribe who took part in the Music Festival along with popular Florida Folk Musicians. There will be boat tours\, arts & crafts sales\, native foods\, and free admission to the Smallwood Store Museum. \nThis event is a fundraiser benefiting the Smallwood Store and the Everglades Society for Historic Preservation. For info & tickets see www.ESHP.org
URL:https://visitevergladescity.com/event/white-pelican-festival/
LOCATION:Smallwood Store\, 360 Mamie St\, Chokoloskee\, FL\, 34138\, United States
CATEGORIES:Culture
END:VEVENT
BEGIN:VEVENT
DTSTART;TZID=America/New_York:20240309T130000
DTEND;TZID=America/New_York:20240309T160000
DTSTAMP:20260423T050340
CREATED:20240304T191119Z
LAST-MODIFIED:20240314T170747Z
UID:10001540-1709989200-1710000000@visitevergladescity.com
SUMMARY:Everglades Authors Book Signing
DESCRIPTION:Join us this Saturday\, March 9\, from 1pm to 4pm at Smallwood Store on Chokoloskee where Everglades Authors Kent Daniels\, Ghost People of The Everglades\, and Rebecca Renner\, Gator Country\, will be greeting and signing books. \nInfo: (239) 695-2989
URL:https://visitevergladescity.com/event/everglades-authors-book-signing/
LOCATION:Smallwood Store\, 360 Mamie St\, Chokoloskee\, FL\, 34138\, United States
CATEGORIES:Culture
ATTACH;FMTTYPE=image/jpeg:https://visitevergladescity.com/wp-content/uploads/2024/03/image003.jpg
END:VEVENT
END:VCALENDAR