BEGIN:VCALENDAR
VERSION:2.0
PRODID:-//Visit Everglades City - ECPv6.15.20//NONSGML v1.0//EN
CALSCALE:GREGORIAN
METHOD:PUBLISH
X-WR-CALNAME:Visit Everglades City
X-ORIGINAL-URL:https://visitevergladescity.com
X-WR-CALDESC:Events for Visit Everglades City
REFRESH-INTERVAL;VALUE=DURATION:PT1H
X-Robots-Tag:noindex
X-PUBLISHED-TTL:PT1H
BEGIN:VTIMEZONE
TZID:America/New_York
BEGIN:DAYLIGHT
TZOFFSETFROM:-0500
TZOFFSETTO:-0400
TZNAME:EDT
DTSTART:20220313T070000
END:DAYLIGHT
BEGIN:STANDARD
TZOFFSETFROM:-0400
TZOFFSETTO:-0500
TZNAME:EST
DTSTART:20221106T060000
END:STANDARD
BEGIN:DAYLIGHT
TZOFFSETFROM:-0500
TZOFFSETTO:-0400
TZNAME:EDT
DTSTART:20230312T070000
END:DAYLIGHT
BEGIN:STANDARD
TZOFFSETFROM:-0400
TZOFFSETTO:-0500
TZNAME:EST
DTSTART:20231105T060000
END:STANDARD
BEGIN:DAYLIGHT
TZOFFSETFROM:-0500
TZOFFSETTO:-0400
TZNAME:EDT
DTSTART:20240310T070000
END:DAYLIGHT
BEGIN:STANDARD
TZOFFSETFROM:-0400
TZOFFSETTO:-0500
TZNAME:EST
DTSTART:20241103T060000
END:STANDARD
END:VTIMEZONE
BEGIN:VEVENT
DTSTART;TZID=America/New_York:20231104T110000
DTEND;TZID=America/New_York:20231104T140000
DTSTAMP:20260420T204322
CREATED:20231003T165958Z
LAST-MODIFIED:20231003T165958Z
UID:10000139-1699095600-1699106400@visitevergladescity.com
SUMMARY:Carolyn Thompson Celebration Win-Car
DESCRIPTION:Come celebrate Carolyn Thompson’s 90th year of life and love! November 4th at Win-Car Hardware\, 11 a.m.- 2 p.m. Spend a moment wishing her a Happy Birthday or how she has touched your life. Refreshments will be served.
URL:https://visitevergladescity.com/event/carolyn-thompson-celebration-win-car/
LOCATION:Win-Car Hardware\, 209 Collier Ave\, Everglades City\, FL\, 34139\, United States
CATEGORIES:Culture
ATTACH;FMTTYPE=image/jpeg:https://visitevergladescity.com/wp-content/uploads/2023/10/Carolyn-Thompson-cropped-min.jpg
END:VEVENT
END:VCALENDAR